BEGIN:VCALENDAR
VERSION:2.0
PRODID:-//Pingstkyrkan i Boden - ECPv6.8.2.1//NONSGML v1.0//EN
CALSCALE:GREGORIAN
METHOD:PUBLISH
X-WR-CALNAME:Pingstkyrkan i Boden
X-ORIGINAL-URL:https://www.boden.pingst.se
X-WR-CALDESC:Events for Pingstkyrkan i Boden
REFRESH-INTERVAL;VALUE=DURATION:PT1H
X-Robots-Tag:noindex
X-PUBLISHED-TTL:PT1H
BEGIN:VTIMEZONE
TZID:Europe/Stockholm
BEGIN:DAYLIGHT
TZOFFSETFROM:+0100
TZOFFSETTO:+0200
TZNAME:CEST
DTSTART:20240331T010000
END:DAYLIGHT
BEGIN:STANDARD
TZOFFSETFROM:+0200
TZOFFSETTO:+0100
TZNAME:CET
DTSTART:20241027T010000
END:STANDARD
END:VTIMEZONE
BEGIN:VEVENT
DTSTART;TZID=Europe/Stockholm:20240630T183000
DTEND;TZID=Europe/Stockholm:20240707T110000
DTSTAMP:20260422T054157
CREATED:20240625T083551Z
LAST-MODIFIED:20240625T083551Z
UID:5178-1719772200-1720350000@www.boden.pingst.se
SUMMARY:Lapplandsveckan i Husbondliden
DESCRIPTION:
URL:https://www.boden.pingst.se/handelse/lapplandsveckan-i-husbondliden-3/
END:VEVENT
BEGIN:VEVENT
DTSTART;TZID=Europe/Stockholm:20240706T090000
DTEND;TZID=Europe/Stockholm:20240706T090000
DTSTAMP:20260422T054157
CREATED:20240625T084028Z
LAST-MODIFIED:20240625T084450Z
UID:5179-1720256400-1720256400@www.boden.pingst.se
SUMMARY:Bön i stadshuset
DESCRIPTION:
URL:https://www.boden.pingst.se/handelse/bon-i-stadshuset-34/
END:VEVENT
BEGIN:VEVENT
DTSTART;TZID=Europe/Stockholm:20240707T110000
DTEND;TZID=Europe/Stockholm:20240707T110000
DTSTAMP:20260422T054157
CREATED:20240609T060802Z
LAST-MODIFIED:20240609T060802Z
UID:5166-1720350000-1720350000@www.boden.pingst.se
SUMMARY:Sommargudstjänst
DESCRIPTION:i församlingsvåningen med Christer Öberg. Insamling till Försalingen. Kyrkfika
URL:https://www.boden.pingst.se/handelse/sommargudstjanst-7/
END:VEVENT
BEGIN:VEVENT
DTSTART;TZID=Europe/Stockholm:20240714T110000
DTEND;TZID=Europe/Stockholm:20240714T110000
DTSTAMP:20260422T054157
CREATED:20240609T060945Z
LAST-MODIFIED:20240609T060945Z
UID:5167-1720954800-1720954800@www.boden.pingst.se
SUMMARY:Sommargudstjänst
DESCRIPTION:i församlingsvåningen med Caroline Söderström. Insamling till Norrbotten. Kyrkfika
URL:https://www.boden.pingst.se/handelse/sommargudstjanst-8/
END:VEVENT
BEGIN:VEVENT
DTSTART;TZID=Europe/Stockholm:20240712T193000
DTEND;TZID=Europe/Stockholm:20240712T193000
DTSTAMP:20260422T054157
CREATED:20240625T191020Z
LAST-MODIFIED:20240625T191233Z
UID:5194-1720812600-1720812600@www.boden.pingst.se
SUMMARY:Ung på Noahs- Hemma hos
DESCRIPTION:
URL:https://www.boden.pingst.se/handelse/ung-pa-noahs-hemma-hos/
END:VEVENT
BEGIN:VEVENT
DTSTART;TZID=Europe/Stockholm:20240721T110000
DTEND;TZID=Europe/Stockholm:20240721T110000
DTSTAMP:20260422T054157
CREATED:20240609T061048Z
LAST-MODIFIED:20240609T061831Z
UID:5168-1721559600-1721559600@www.boden.pingst.se
SUMMARY:Sommargudstjänst
DESCRIPTION:i församlingsvåningen med Pelle Nordhammer. Insamling till Församlingen. Kyrkfika
URL:https://www.boden.pingst.se/handelse/sommargudstjanst-9/
END:VEVENT
BEGIN:VEVENT
DTSTART;TZID=Europe/Stockholm:20240728T110000
DTEND;TZID=Europe/Stockholm:20240728T110000
DTSTAMP:20260422T054157
CREATED:20240609T061209Z
LAST-MODIFIED:20240609T061209Z
UID:5169-1722164400-1722164400@www.boden.pingst.se
SUMMARY:Sommargudstjänst
DESCRIPTION:i församlingsvåningen med Kurt Enström. Insamling till Mission. Kyrkfika
URL:https://www.boden.pingst.se/handelse/sommargudstjanst-10/
END:VEVENT
END:VCALENDAR