BEGIN:VCALENDAR
VERSION:2.0
PRODID:-//Pingstkyrkan i Boden - ECPv6.8.2.1//NONSGML v1.0//EN
CALSCALE:GREGORIAN
METHOD:PUBLISH
X-ORIGINAL-URL:https://www.boden.pingst.se
X-WR-CALDESC:Events for Pingstkyrkan i Boden
REFRESH-INTERVAL;VALUE=DURATION:PT1H
X-Robots-Tag:noindex
X-PUBLISHED-TTL:PT1H
BEGIN:VTIMEZONE
TZID:Europe/Stockholm
BEGIN:DAYLIGHT
TZOFFSETFROM:+0100
TZOFFSETTO:+0200
TZNAME:CEST
DTSTART:20240331T010000
END:DAYLIGHT
BEGIN:STANDARD
TZOFFSETFROM:+0200
TZOFFSETTO:+0100
TZNAME:CET
DTSTART:20241027T010000
END:STANDARD
END:VTIMEZONE
BEGIN:VEVENT
DTSTART;TZID=Europe/Stockholm:20240602T110000
DTEND;TZID=Europe/Stockholm:20240602T110000
DTSTAMP:20260422T083551
CREATED:20240429T112529Z
LAST-MODIFIED:20240429T112529Z
UID:5136-1717326000-1717326000@www.boden.pingst.se
SUMMARY:Gudstjänst
DESCRIPTION:med Marcus Sandström. Insamling till församlingen. Bön & lovsång. Kyrkfika efteråt
URL:https://www.boden.pingst.se/handelse/gudstjanst-479/
CATEGORIES:Gudstjänst
END:VEVENT
BEGIN:VEVENT
DTSTART;TZID=Europe/Stockholm:20240602T170000
DTEND;TZID=Europe/Stockholm:20240602T170000
DTSTAMP:20260422T083551
CREATED:20240502T140327Z
LAST-MODIFIED:20240502T140327Z
UID:5144-1717347600-1717347600@www.boden.pingst.se
SUMMARY:Hjärta för församlingen
DESCRIPTION:
URL:https://www.boden.pingst.se/handelse/hjarta-for-forsamlingen-10/
END:VEVENT
BEGIN:VEVENT
DTSTART;TZID=Europe/Stockholm:20240609T110000
DTEND;TZID=Europe/Stockholm:20240609T110000
DTSTAMP:20260422T083551
CREATED:20240502T141553Z
LAST-MODIFIED:20240502T142648Z
UID:5148-1717930800-1717930800@www.boden.pingst.se
SUMMARY:Gudstjänst
DESCRIPTION:med Caroline Söderström. Insamling till Norrbotten. Bön & lovsång. Barnkyrkans sommaravslutning. Kyrkfika efteråt.
URL:https://www.boden.pingst.se/handelse/gudstjanst-482/
END:VEVENT
BEGIN:VEVENT
DTSTART;TZID=Europe/Stockholm:20240614T000000
DTEND;TZID=Europe/Stockholm:20240614T000000
DTSTAMP:20260422T083551
CREATED:20240508T180507Z
LAST-MODIFIED:20240508T180507Z
UID:5157-1718323200-1718323200@www.boden.pingst.se
SUMMARY:Arnemark kids 14-16 Juni
DESCRIPTION:Sommarläger för barn i Arnemark. Anmälan se hemsidan
URL:https://www.boden.pingst.se/handelse/arnemark-kids-14-16-juni/
END:VEVENT
BEGIN:VEVENT
DTSTART;TZID=Europe/Stockholm:20240616T110000
DTEND;TZID=Europe/Stockholm:20240616T110000
DTSTAMP:20260422T083551
CREATED:20240502T141325Z
LAST-MODIFIED:20240508T180012Z
UID:5147-1718535600-1718535600@www.boden.pingst.se
SUMMARY:Gudstjänst
DESCRIPTION:med Marcus Sandström. Insamling till Församlingen. Dop\, nattvard\, bön & lovsång. Kyrkfika efteråt.
URL:https://www.boden.pingst.se/handelse/gudstjanst-481/
CATEGORIES:Gudstjänst
END:VEVENT
BEGIN:VEVENT
DTSTART;TZID=Europe/Stockholm:20240623T110000
DTEND;TZID=Europe/Stockholm:20240623T110000
DTSTAMP:20260422T083551
CREATED:20240502T142043Z
LAST-MODIFIED:20240618T070510Z
UID:5149-1719140400-1719140400@www.boden.pingst.se
SUMMARY:Gudstjänst
DESCRIPTION:med Benjamin Mattsson. Insamling till Mission. Dop\, bön & lovsång. Kyrkfika efteråt.
URL:https://www.boden.pingst.se/handelse/gudstjanst-483/
END:VEVENT
BEGIN:VEVENT
DTSTART;TZID=Europe/Stockholm:20240630T110000
DTEND;TZID=Europe/Stockholm:20240630T110000
DTSTAMP:20260422T083551
CREATED:20240609T060231Z
LAST-MODIFIED:20240609T060526Z
UID:5164-1719745200-1719745200@www.boden.pingst.se
SUMMARY:Sommargudstjänst
DESCRIPTION:i församlingsvåningen med Caroline Söderström. Insamling till sociala kassan. Kyrkfika
URL:https://www.boden.pingst.se/handelse/sommargudstjanst-i-forsamlingsvaningen/
END:VEVENT
BEGIN:VEVENT
DTSTART;TZID=Europe/Stockholm:20240630T183000
DTEND;TZID=Europe/Stockholm:20240707T110000
DTSTAMP:20260422T083551
CREATED:20240625T083551Z
LAST-MODIFIED:20240625T083551Z
UID:5178-1719772200-1720350000@www.boden.pingst.se
SUMMARY:Lapplandsveckan i Husbondliden
DESCRIPTION:
URL:https://www.boden.pingst.se/handelse/lapplandsveckan-i-husbondliden-3/
END:VEVENT
END:VCALENDAR