BEGIN:VCALENDAR
VERSION:2.0
PRODID:-//Pingstkyrkan i Boden - ECPv6.8.2.1//NONSGML v1.0//EN
CALSCALE:GREGORIAN
METHOD:PUBLISH
X-WR-CALNAME:Pingstkyrkan i Boden
X-ORIGINAL-URL:https://www.boden.pingst.se
X-WR-CALDESC:Events for Pingstkyrkan i Boden
REFRESH-INTERVAL;VALUE=DURATION:PT1H
X-Robots-Tag:noindex
X-PUBLISHED-TTL:PT1H
BEGIN:VTIMEZONE
TZID:Europe/Stockholm
BEGIN:DAYLIGHT
TZOFFSETFROM:+0100
TZOFFSETTO:+0200
TZNAME:CEST
DTSTART:20240331T010000
END:DAYLIGHT
BEGIN:STANDARD
TZOFFSETFROM:+0200
TZOFFSETTO:+0100
TZNAME:CET
DTSTART:20241027T010000
END:STANDARD
END:VTIMEZONE
BEGIN:VEVENT
DTSTART;TZID=Europe/Stockholm:20240502T080000
DTEND;TZID=Europe/Stockholm:20240502T170000
DTSTAMP:20260422T083449
CREATED:20240502T141015Z
LAST-MODIFIED:20240502T141015Z
UID:5146-1714636800-1714669200@www.boden.pingst.se
SUMMARY:Gudstjänst
DESCRIPTION:med Caroline Söderström. Insamling till Mission. Bön & lovsång. Barnkyrkans sommaravslutning. Kyrkfika efteråt.
URL:https://www.boden.pingst.se/handelse/gudstjanst-480/
END:VEVENT
BEGIN:VEVENT
DTSTART;TZID=Europe/Stockholm:20240503T180000
DTEND;TZID=Europe/Stockholm:20240503T180000
DTSTAMP:20260422T083449
CREATED:20240429T122513Z
LAST-MODIFIED:20240429T122513Z
UID:5142-1714759200-1714759200@www.boden.pingst.se
SUMMARY:Miniton & Glädjeton
DESCRIPTION:
URL:https://www.boden.pingst.se/handelse/miniton-gladjeton-9/
END:VEVENT
BEGIN:VEVENT
DTSTART;TZID=Europe/Stockholm:20240503T184500
DTEND;TZID=Europe/Stockholm:20240503T184500
DTSTAMP:20260422T083449
CREATED:20240429T122555Z
LAST-MODIFIED:20240429T122555Z
UID:5143-1714761900-1714761900@www.boden.pingst.se
SUMMARY:Arken
DESCRIPTION:
URL:https://www.boden.pingst.se/handelse/arken-3/
END:VEVENT
BEGIN:VEVENT
DTSTART;TZID=Europe/Stockholm:20240505T110000
DTEND;TZID=Europe/Stockholm:20240505T110000
DTSTAMP:20260422T083449
CREATED:20240404T110014Z
LAST-MODIFIED:20240429T122238Z
UID:5114-1714906800-1714906800@www.boden.pingst.se
SUMMARY:Gudstjänst
DESCRIPTION:med Marcus Sandström. Insamling till församlingen. Barnkörerna Miniton & Glädjeton sjunger. Bön & lovsång. Kyrkfika efteråt
URL:https://www.boden.pingst.se/handelse/gudstjanst-475/
CATEGORIES:Gudstjänst
END:VEVENT
BEGIN:VEVENT
DTSTART;TZID=Europe/Stockholm:20240505T130000
DTEND;TZID=Europe/Stockholm:20240505T130000
DTSTAMP:20260422T083449
CREATED:20240429T122323Z
LAST-MODIFIED:20240429T122344Z
UID:5141-1714914000-1714914000@www.boden.pingst.se
SUMMARY:Församlingsmöte
DESCRIPTION:
URL:https://www.boden.pingst.se/handelse/forsamlingmote/
END:VEVENT
BEGIN:VEVENT
DTSTART;TZID=Europe/Stockholm:20240512T110000
DTEND;TZID=Europe/Stockholm:20240512T110000
DTSTAMP:20260422T083449
CREATED:20240409T065708Z
LAST-MODIFIED:20240409T065708Z
UID:5121-1715511600-1715511600@www.boden.pingst.se
SUMMARY:Gudstjänst
DESCRIPTION:med Rayan. Insamling till Norrbotten. Barnkyrka. Bön & lovsång. Kyrkfika efteråt
URL:https://www.boden.pingst.se/handelse/gudstjanst-476/
CATEGORIES:Gudstjänst
END:VEVENT
BEGIN:VEVENT
DTSTART;TZID=Europe/Stockholm:20240517T180000
DTEND;TZID=Europe/Stockholm:20240517T180000
DTSTAMP:20260422T083449
CREATED:20240429T112048Z
LAST-MODIFIED:20240429T112048Z
UID:5132-1715968800-1715968800@www.boden.pingst.se
SUMMARY:Sommaravslutning Miniton\, Glädjeton & Arken
DESCRIPTION:på Ankargården.
URL:https://www.boden.pingst.se/handelse/sommaravslutning-miniton-gladjeton-arken/
END:VEVENT
BEGIN:VEVENT
DTSTART;TZID=Europe/Stockholm:20240519T110000
DTEND;TZID=Europe/Stockholm:20240519T110000
DTSTAMP:20260422T083449
CREATED:20240417T124001Z
LAST-MODIFIED:20240417T124001Z
UID:5123-1716116400-1716116400@www.boden.pingst.se
SUMMARY:Gudstjänst
DESCRIPTION:med Pelle Nordhammer. Insamling till församlingen. Barnkyrka. Nattvard. Bön & lovsång. Kyrkfika efteråt
URL:https://www.boden.pingst.se/handelse/gudstjanst-477/
CATEGORIES:Gudstjänst
END:VEVENT
BEGIN:VEVENT
DTSTART;TZID=Europe/Stockholm:20240521T183000
DTEND;TZID=Europe/Stockholm:20240521T183000
DTSTAMP:20260422T083449
CREATED:20240429T112144Z
LAST-MODIFIED:20240429T112144Z
UID:5133-1716316200-1716316200@www.boden.pingst.se
SUMMARY:Bibelstudium
DESCRIPTION:med Marcus Sandström
URL:https://www.boden.pingst.se/handelse/bibelstudium-14/
END:VEVENT
BEGIN:VEVENT
DTSTART;TZID=Europe/Stockholm:20240522T090000
DTEND;TZID=Europe/Stockholm:20240522T090000
DTSTAMP:20260422T083449
CREATED:20240429T112242Z
LAST-MODIFIED:20240429T112242Z
UID:5134-1716368400-1716368400@www.boden.pingst.se
SUMMARY:LP-Connect
DESCRIPTION:på Ankargården
URL:https://www.boden.pingst.se/handelse/lp-connect-2/
END:VEVENT
BEGIN:VEVENT
DTSTART;TZID=Europe/Stockholm:20240526T110000
DTEND;TZID=Europe/Stockholm:20240526T110000
DTSTAMP:20260422T083449
CREATED:20240429T112428Z
LAST-MODIFIED:20240429T112428Z
UID:5135-1716721200-1716721200@www.boden.pingst.se
SUMMARY:Gudstjänst
DESCRIPTION:med Caroline Söderström. Insamling till mission. Bön & lovsång. Kyrkfika efteråt
URL:https://www.boden.pingst.se/handelse/gudstjanst-478/
CATEGORIES:Gudstjänst
END:VEVENT
BEGIN:VEVENT
DTSTART;TZID=Europe/Stockholm:20240531T210000
DTEND;TZID=Europe/Stockholm:20240531T210000
DTSTAMP:20260422T083449
CREATED:20240508T175822Z
LAST-MODIFIED:20240508T175822Z
UID:5156-1717189200-1717189200@www.boden.pingst.se
SUMMARY:TJUGOETT
DESCRIPTION:Gudstjänst för alla kvällspigga
URL:https://www.boden.pingst.se/handelse/tjugoett-27/
END:VEVENT
END:VCALENDAR