BEGIN:VCALENDAR
VERSION:2.0
PRODID:-//Pingstkyrkan i Boden - ECPv6.8.2.1//NONSGML v1.0//EN
CALSCALE:GREGORIAN
METHOD:PUBLISH
X-WR-CALNAME:Pingstkyrkan i Boden
X-ORIGINAL-URL:https://www.boden.pingst.se
X-WR-CALDESC:Events for Pingstkyrkan i Boden
REFRESH-INTERVAL;VALUE=DURATION:PT1H
X-Robots-Tag:noindex
X-PUBLISHED-TTL:PT1H
BEGIN:VTIMEZONE
TZID:Europe/Stockholm
BEGIN:DAYLIGHT
TZOFFSETFROM:+0100
TZOFFSETTO:+0200
TZNAME:CEST
DTSTART:20240331T010000
END:DAYLIGHT
BEGIN:STANDARD
TZOFFSETFROM:+0200
TZOFFSETTO:+0100
TZNAME:CET
DTSTART:20241027T010000
END:STANDARD
END:VTIMEZONE
BEGIN:VEVENT
DTSTART;TZID=Europe/Stockholm:20240301T180000
DTEND;TZID=Europe/Stockholm:20240301T180000
DTSTAMP:20260422T113201
CREATED:20240229T102013Z
LAST-MODIFIED:20240229T102013Z
UID:5088-1709316000-1709316000@www.boden.pingst.se
SUMMARY:Sportlovsläger för barnen fre-sön
DESCRIPTION:
URL:https://www.boden.pingst.se/handelse/sportlovslager-for-barnen-fre-son/
END:VEVENT
BEGIN:VEVENT
DTSTART;TZID=Europe/Stockholm:20240303T110000
DTEND;TZID=Europe/Stockholm:20240303T110000
DTSTAMP:20260422T113201
CREATED:20240117T084648Z
LAST-MODIFIED:20240208T081047Z
UID:5050-1709463600-1709463600@www.boden.pingst.se
SUMMARY:Gudstjänst
DESCRIPTION:med Henrik Hübinette. Insamling till Församlingen. Barnkyrka. Bön & lovsång. Kyrkfika efteråt.
URL:https://www.boden.pingst.se/handelse/gudstjanst-467/
CATEGORIES:Gudstjänst
END:VEVENT
BEGIN:VEVENT
DTSTART;TZID=Europe/Stockholm:20240307T183000
DTEND;TZID=Europe/Stockholm:20240307T183000
DTSTAMP:20260422T113201
CREATED:20240130T104217Z
LAST-MODIFIED:20240229T101809Z
UID:5059-1709836200-1709836200@www.boden.pingst.se
SUMMARY:Torsdagkväll i Pingstkyrkan
DESCRIPTION:med Dan Söderström
URL:https://www.boden.pingst.se/handelse/torsdagkvall-i-pingstkyrkan-6/
CATEGORIES:Gudstjänst
END:VEVENT
BEGIN:VEVENT
DTSTART;TZID=Europe/Stockholm:20240308T100000
DTEND;TZID=Europe/Stockholm:20240308T100000
DTSTAMP:20260422T113201
CREATED:20240229T102216Z
LAST-MODIFIED:20240229T102216Z
UID:5089-1709892000-1709892000@www.boden.pingst.se
SUMMARY:Ungdomsläger Sport for Life
DESCRIPTION:
URL:https://www.boden.pingst.se/handelse/ungdomslager-sport-for-life/
END:VEVENT
BEGIN:VEVENT
DTSTART;TZID=Europe/Stockholm:20240310T110000
DTEND;TZID=Europe/Stockholm:20240310T110000
DTSTAMP:20260422T113201
CREATED:20240130T105421Z
LAST-MODIFIED:20240229T102322Z
UID:5068-1710068400-1710068400@www.boden.pingst.se
SUMMARY:Gudstjänst
DESCRIPTION:med Marcus Sandström. Välkomnande av nya medlemmar. Insamling till Norrbotten. Barnkyrka. Bön & lovsång. Kyrkfika efteråt.
URL:https://www.boden.pingst.se/handelse/gudstjanst-468/
CATEGORIES:Gudstjänst
END:VEVENT
BEGIN:VEVENT
DTSTART;TZID=Europe/Stockholm:20240310T130000
DTEND;TZID=Europe/Stockholm:20240310T130000
DTSTAMP:20260422T113201
CREATED:20240130T105511Z
LAST-MODIFIED:20240130T105511Z
UID:5069-1710075600-1710075600@www.boden.pingst.se
SUMMARY:Årsmöte
DESCRIPTION:
URL:https://www.boden.pingst.se/handelse/arsmote/
END:VEVENT
BEGIN:VEVENT
DTSTART;TZID=Europe/Stockholm:20240314T183000
DTEND;TZID=Europe/Stockholm:20240314T183000
DTSTAMP:20260422T113201
CREATED:20240130T104303Z
LAST-MODIFIED:20240130T104303Z
UID:5060-1710441000-1710441000@www.boden.pingst.se
SUMMARY:Torsdagkväll i Pingstkyrkan
DESCRIPTION:med sång och musik
URL:https://www.boden.pingst.se/handelse/torsdagkvall-i-pingstkyrkan-7/
CATEGORIES:Gudstjänst
END:VEVENT
BEGIN:VEVENT
DTSTART;TZID=Europe/Stockholm:20240316T090000
DTEND;TZID=Europe/Stockholm:20240316T090000
DTSTAMP:20260422T113201
CREATED:20240229T102445Z
LAST-MODIFIED:20240229T102445Z
UID:5090-1710579600-1710579600@www.boden.pingst.se
SUMMARY:Kvinnofrukost
DESCRIPTION:med gästtalare Catarina Wikström. Anmälan krävs.
URL:https://www.boden.pingst.se/handelse/kvinnofrukost-4/
END:VEVENT
BEGIN:VEVENT
DTSTART;TZID=Europe/Stockholm:20240317T110000
DTEND;TZID=Europe/Stockholm:20240317T110000
DTSTAMP:20260422T113201
CREATED:20240208T081220Z
LAST-MODIFIED:20240229T102535Z
UID:5079-1710673200-1710673200@www.boden.pingst.se
SUMMARY:Gudstjänst
DESCRIPTION:med Marcus Sandström. Insamling till församlingen. Barnkyrka. Nattvard. Bön & lovsång. Kyrkfika efteråt.
URL:https://www.boden.pingst.se/handelse/gudstjanst-469/
CATEGORIES:Gudstjänst
END:VEVENT
BEGIN:VEVENT
DTSTART;TZID=Europe/Stockholm:20240321T183000
DTEND;TZID=Europe/Stockholm:20240321T183000
DTSTAMP:20260422T113201
CREATED:20240130T104344Z
LAST-MODIFIED:20240130T104344Z
UID:5061-1711045800-1711045800@www.boden.pingst.se
SUMMARY:Torsdagkväll i Pingstkyrkan
DESCRIPTION:med David Sundström
URL:https://www.boden.pingst.se/handelse/torsdagkvall-i-pingstkyrkan-8/
CATEGORIES:Gudstjänst
END:VEVENT
BEGIN:VEVENT
DTSTART;TZID=Europe/Stockholm:20240322T180000
DTEND;TZID=Europe/Stockholm:20240322T180000
DTSTAMP:20260422T113201
CREATED:20240229T102649Z
LAST-MODIFIED:20240229T102649Z
UID:5091-1711130400-1711130400@www.boden.pingst.se
SUMMARY:Påskfest
DESCRIPTION:
URL:https://www.boden.pingst.se/handelse/paskfest-4/
END:VEVENT
BEGIN:VEVENT
DTSTART;TZID=Europe/Stockholm:20240324T110000
DTEND;TZID=Europe/Stockholm:20240324T110000
DTSTAMP:20260422T113201
CREATED:20240229T102802Z
LAST-MODIFIED:20240229T102802Z
UID:5092-1711278000-1711278000@www.boden.pingst.se
SUMMARY:Gudstjänst
DESCRIPTION:med Benjamin Mattsson. Insamling till missionen. Barnkyrka. Bön & lovsång. Kyrkfika efteråt.
URL:https://www.boden.pingst.se/handelse/gudstjanst-470/
CATEGORIES:Gudstjänst
END:VEVENT
BEGIN:VEVENT
DTSTART;TZID=Europe/Stockholm:20240326T183000
DTEND;TZID=Europe/Stockholm:20240326T183000
DTSTAMP:20260422T113201
CREATED:20240229T102856Z
LAST-MODIFIED:20240229T102856Z
UID:5093-1711477800-1711477800@www.boden.pingst.se
SUMMARY:Bibelstudium
DESCRIPTION:med David Sundström
URL:https://www.boden.pingst.se/handelse/bibelstudium-12/
END:VEVENT
BEGIN:VEVENT
DTSTART;TZID=Europe/Stockholm:20240327T090000
DTEND;TZID=Europe/Stockholm:20240327T090000
DTSTAMP:20260422T113201
CREATED:20240327T125405Z
LAST-MODIFIED:20240327T125405Z
UID:5107-1711530000-1711530000@www.boden.pingst.se
SUMMARY:LP Connect
DESCRIPTION:
URL:https://www.boden.pingst.se/handelse/lp-connect/
END:VEVENT
BEGIN:VEVENT
DTSTART;TZID=Europe/Stockholm:20240328T183000
DTEND;TZID=Europe/Stockholm:20240328T183000
DTSTAMP:20260422T113201
CREATED:20240130T104443Z
LAST-MODIFIED:20240130T104443Z
UID:5062-1711650600-1711650600@www.boden.pingst.se
SUMMARY:Torsdagkväll i Pingstkyrkan
DESCRIPTION:med Marcus Sandström. Getsemanestund med nattvard.
URL:https://www.boden.pingst.se/handelse/torsdagkvall-i-pingstkyrkan-9/
CATEGORIES:Gudstjänst
END:VEVENT
BEGIN:VEVENT
DTSTART;TZID=Europe/Stockholm:20240329T110000
DTEND;TZID=Europe/Stockholm:20240329T110000
DTSTAMP:20260422T113201
CREATED:20240229T103500Z
LAST-MODIFIED:20240229T103500Z
UID:5094-1711710000-1711710000@www.boden.pingst.se
SUMMARY:Långfredagsgudstjänst i Johanneskyrkan
DESCRIPTION:med Caroline Söderström
URL:https://www.boden.pingst.se/handelse/langfredagsgudstjanst-i-johanneskyrkan/
CATEGORIES:Gudstjänst
END:VEVENT
BEGIN:VEVENT
DTSTART;TZID=Europe/Stockholm:20240331T110000
DTEND;TZID=Europe/Stockholm:20240331T110000
DTSTAMP:20260422T113201
CREATED:20240229T103706Z
LAST-MODIFIED:20240229T103706Z
UID:5095-1711882800-1711882800@www.boden.pingst.se
SUMMARY:Påskgudstjänst
DESCRIPTION:med Åsa Brandin. Insamling till församlingens sociala arbete. Bön & lovsång. Kyrkfika efteråt.
URL:https://www.boden.pingst.se/handelse/paskgudstjanst-3/
CATEGORIES:Gudstjänst
END:VEVENT
END:VCALENDAR