BEGIN:VCALENDAR
VERSION:2.0
PRODID:-//Pingstkyrkan i Boden - ECPv6.8.2.1//NONSGML v1.0//EN
CALSCALE:GREGORIAN
METHOD:PUBLISH
X-WR-CALNAME:Pingstkyrkan i Boden
X-ORIGINAL-URL:https://www.boden.pingst.se
X-WR-CALDESC:Events for Pingstkyrkan i Boden
REFRESH-INTERVAL;VALUE=DURATION:PT1H
X-Robots-Tag:noindex
X-PUBLISHED-TTL:PT1H
BEGIN:VTIMEZONE
TZID:Europe/Stockholm
BEGIN:DAYLIGHT
TZOFFSETFROM:+0100
TZOFFSETTO:+0200
TZNAME:CEST
DTSTART:20230326T010000
END:DAYLIGHT
BEGIN:STANDARD
TZOFFSETFROM:+0200
TZOFFSETTO:+0100
TZNAME:CET
DTSTART:20231029T010000
END:STANDARD
END:VTIMEZONE
BEGIN:VEVENT
DTSTART;TZID=Europe/Stockholm:20230901T193000
DTEND;TZID=Europe/Stockholm:20230901T193000
DTSTAMP:20260422T171300
CREATED:20230905T112116Z
LAST-MODIFIED:20230905T112116Z
UID:4895-1693596600-1693596600@www.boden.pingst.se
SUMMARY:Ung på Noahs
DESCRIPTION:i Pingstkyrkan\, Boden
URL:https://www.boden.pingst.se/handelse/ung-pa-noahs-39/
END:VEVENT
BEGIN:VEVENT
DTSTART;TZID=Europe/Stockholm:20230905T183000
DTEND;TZID=Europe/Stockholm:20230905T200000
DTSTAMP:20260422T171300
CREATED:20230905T111638Z
LAST-MODIFIED:20230905T111638Z
UID:4893-1693938600-1693944000@www.boden.pingst.se
SUMMARY:Connect- och bönegrupper
DESCRIPTION:träffas i hemmen.
URL:https://www.boden.pingst.se/handelse/connect-och-bonegrupper-3/
END:VEVENT
BEGIN:VEVENT
DTSTART;TZID=Europe/Stockholm:20230909T090000
DTEND;TZID=Europe/Stockholm:20230909T090000
DTSTAMP:20260422T171300
CREATED:20230912T093529Z
LAST-MODIFIED:20230912T093701Z
UID:4908-1694250000-1694250000@www.boden.pingst.se
SUMMARY:Bön i stadshuset
DESCRIPTION:
URL:https://www.boden.pingst.se/handelse/bon-i-stadshuset-32/
END:VEVENT
BEGIN:VEVENT
DTSTART;TZID=Europe/Stockholm:20230910T110000
DTEND;TZID=Europe/Stockholm:20230910T110000
DTSTAMP:20260422T171300
CREATED:20230905T112416Z
LAST-MODIFIED:20230905T112416Z
UID:4896-1694343600-1694343600@www.boden.pingst.se
SUMMARY:Gudstjänst
DESCRIPTION:med Marcus Sandström. Barnkyrka. Insamling till Norrbotten. Bön och lovsång. Kyrkfika efteråt.
URL:https://www.boden.pingst.se/handelse/gudstjanst-448/
END:VEVENT
BEGIN:VEVENT
DTSTART;TZID=Europe/Stockholm:20230914T190000
DTEND;TZID=Europe/Stockholm:20230914T190000
DTSTAMP:20260422T171300
CREATED:20230905T111926Z
LAST-MODIFIED:20230905T111926Z
UID:4894-1694718000-1694718000@www.boden.pingst.se
SUMMARY:Torsdagkväll i Pingstkyrkan
DESCRIPTION:i församlingsvåningen i Pingstkyrkan\, Boden.
URL:https://www.boden.pingst.se/handelse/torsdagkvall-i-pingstkyrkan-2/
END:VEVENT
BEGIN:VEVENT
DTSTART;TZID=Europe/Stockholm:20230917T110000
DTEND;TZID=Europe/Stockholm:20230917T110000
DTSTAMP:20260422T171300
CREATED:20230905T112617Z
LAST-MODIFIED:20230905T112617Z
UID:4897-1694948400-1694948400@www.boden.pingst.se
SUMMARY:Gudstjänst
DESCRIPTION:med Frida Nyberg. Barnkyrka. Insamling till Församlingen. Nattvard. Bön och lovsång. Kyrkfika efteråt.
URL:https://www.boden.pingst.se/handelse/gudstjanst-449/
CATEGORIES:Gudstjänst
END:VEVENT
BEGIN:VEVENT
DTSTART;TZID=Europe/Stockholm:20230920T150000
DTEND;TZID=Europe/Stockholm:20230920T150000
DTSTAMP:20260422T171300
CREATED:20230912T093858Z
LAST-MODIFIED:20230912T093858Z
UID:4909-1695222000-1695222000@www.boden.pingst.se
SUMMARY:Connect Ung
DESCRIPTION:
URL:https://www.boden.pingst.se/handelse/connect-ung-2/
END:VEVENT
BEGIN:VEVENT
DTSTART;TZID=Europe/Stockholm:20230924T110000
DTEND;TZID=Europe/Stockholm:20230924T110000
DTSTAMP:20260422T171300
CREATED:20230905T113258Z
LAST-MODIFIED:20230905T113258Z
UID:4898-1695553200-1695553200@www.boden.pingst.se
SUMMARY:Gudstjänst
DESCRIPTION:med Caroline Söderström. Barnkyrka. Insamling till mission. Bön och lovsång. Kyrkfika efteråt.
URL:https://www.boden.pingst.se/handelse/gudstjanst-450/
CATEGORIES:Gudstjänst
END:VEVENT
BEGIN:VEVENT
DTSTART;TZID=Europe/Stockholm:20230926T183000
DTEND;TZID=Europe/Stockholm:20230926T183000
DTSTAMP:20260422T171300
CREATED:20230927T184221Z
LAST-MODIFIED:20230927T184221Z
UID:4949-1695753000-1695753000@www.boden.pingst.se
SUMMARY:Bibelstudie
DESCRIPTION:med Marcus Sandström
URL:https://www.boden.pingst.se/handelse/bibelstudie-4/
END:VEVENT
END:VCALENDAR