BEGIN:VCALENDAR
VERSION:2.0
PRODID:-//Pingstkyrkan i Boden - ECPv6.8.2.1//NONSGML v1.0//EN
CALSCALE:GREGORIAN
METHOD:PUBLISH
X-WR-CALNAME:Pingstkyrkan i Boden
X-ORIGINAL-URL:https://www.boden.pingst.se
X-WR-CALDESC:Events for Pingstkyrkan i Boden
REFRESH-INTERVAL;VALUE=DURATION:PT1H
X-Robots-Tag:noindex
X-PUBLISHED-TTL:PT1H
BEGIN:VTIMEZONE
TZID:Europe/Stockholm
BEGIN:DAYLIGHT
TZOFFSETFROM:+0100
TZOFFSETTO:+0200
TZNAME:CEST
DTSTART:20230326T010000
END:DAYLIGHT
BEGIN:STANDARD
TZOFFSETFROM:+0200
TZOFFSETTO:+0100
TZNAME:CET
DTSTART:20231029T010000
END:STANDARD
END:VTIMEZONE
BEGIN:VEVENT
DTSTART;TZID=Europe/Stockholm:20230205T110000
DTEND;TZID=Europe/Stockholm:20230205T110000
DTSTAMP:20260423T064308
CREATED:20221119T210509Z
LAST-MODIFIED:20221119T210509Z
UID:4698-1675594800-1675594800@www.boden.pingst.se
SUMMARY:Gudstjänst
DESCRIPTION:Frida Nyberg predikar\, bön & lovsång\, barnkyrka sedan kyrkfika
URL:https://www.boden.pingst.se/handelse/gudstjanst-427/
END:VEVENT
BEGIN:VEVENT
DTSTART;TZID=Europe/Stockholm:20230212T110000
DTEND;TZID=Europe/Stockholm:20230212T110000
DTSTAMP:20260423T064308
CREATED:20221119T210557Z
LAST-MODIFIED:20221119T210557Z
UID:4699-1676199600-1676199600@www.boden.pingst.se
SUMMARY:Gudstjänst
DESCRIPTION:Marcus Sandström predikar\, bön & lovsång\, barnkyrka sedan kyrkfika
URL:https://www.boden.pingst.se/handelse/gudstjanst-428/
END:VEVENT
BEGIN:VEVENT
DTSTART;TZID=Europe/Stockholm:20230219T110000
DTEND;TZID=Europe/Stockholm:20230219T110000
DTSTAMP:20260423T064308
CREATED:20221119T210644Z
LAST-MODIFIED:20221119T210644Z
UID:4700-1676804400-1676804400@www.boden.pingst.se
SUMMARY:Gudstjänst
DESCRIPTION:Frida Nyberg predikar\, bön & lovsång\, barnkyrka sedan kyrkfika
URL:https://www.boden.pingst.se/handelse/gudstjanst-429/
END:VEVENT
BEGIN:VEVENT
DTSTART;TZID=Europe/Stockholm:20230221T183000
DTEND;TZID=Europe/Stockholm:20230221T183000
DTSTAMP:20260423T064308
CREATED:20220831T112204Z
LAST-MODIFIED:20230222T100004Z
UID:4615-1677004200-1677004200@www.boden.pingst.se
SUMMARY:Connectgrupper och bönegrupper
DESCRIPTION:
URL:https://www.boden.pingst.se/handelse/connectgrupper-och-bonegrupper/
END:VEVENT
BEGIN:VEVENT
DTSTART;TZID=Europe/Stockholm:20230226T110000
DTEND;TZID=Europe/Stockholm:20230226T110000
DTSTAMP:20260423T064308
CREATED:20221119T210728Z
LAST-MODIFIED:20221119T210728Z
UID:4701-1677409200-1677409200@www.boden.pingst.se
SUMMARY:Gudstjänst
DESCRIPTION:Marcus Sandström predikar\, bön & lovsång\, barnkyrka sedan kyrkfika
URL:https://www.boden.pingst.se/handelse/gudstjanst-430/
END:VEVENT
END:VCALENDAR