BEGIN:VCALENDAR
VERSION:2.0
PRODID:-//Pingstkyrkan i Boden - ECPv6.8.2.1//NONSGML v1.0//EN
CALSCALE:GREGORIAN
METHOD:PUBLISH
X-ORIGINAL-URL:https://www.boden.pingst.se
X-WR-CALDESC:Events for Pingstkyrkan i Boden
REFRESH-INTERVAL;VALUE=DURATION:PT1H
X-Robots-Tag:noindex
X-PUBLISHED-TTL:PT1H
BEGIN:VTIMEZONE
TZID:Europe/Stockholm
BEGIN:DAYLIGHT
TZOFFSETFROM:+0100
TZOFFSETTO:+0200
TZNAME:CEST
DTSTART:20230326T010000
END:DAYLIGHT
BEGIN:STANDARD
TZOFFSETFROM:+0200
TZOFFSETTO:+0100
TZNAME:CET
DTSTART:20231029T010000
END:STANDARD
END:VTIMEZONE
BEGIN:VEVENT
DTSTART;TZID=Europe/Stockholm:20230101T110000
DTEND;TZID=Europe/Stockholm:20230101T110000
DTSTAMP:20260423T050009
CREATED:20221119T203826Z
LAST-MODIFIED:20221119T203826Z
UID:4684-1672570800-1672570800@www.boden.pingst.se
SUMMARY:Filmvisning av Frikyrkans historia
DESCRIPTION:
URL:https://www.boden.pingst.se/handelse/filmvisning-av-frikyrkans-historia/
END:VEVENT
BEGIN:VEVENT
DTSTART;TZID=Europe/Stockholm:20230108T110000
DTEND;TZID=Europe/Stockholm:20230108T110000
DTSTAMP:20260423T050009
CREATED:20221119T210218Z
LAST-MODIFIED:20221119T210218Z
UID:4694-1673175600-1673175600@www.boden.pingst.se
SUMMARY:Gudstjänst
DESCRIPTION:Marcus Sandström predikar\, bön & lovsång\, barnkyrka sedan kyrkfika
URL:https://www.boden.pingst.se/handelse/gudstjanst-423/
END:VEVENT
BEGIN:VEVENT
DTSTART;TZID=Europe/Stockholm:20230115T110000
DTEND;TZID=Europe/Stockholm:20230115T110000
DTSTAMP:20260423T050009
CREATED:20221119T210301Z
LAST-MODIFIED:20221119T210301Z
UID:4695-1673780400-1673780400@www.boden.pingst.se
SUMMARY:Gudstjänst
DESCRIPTION:Frida Nyberg\, predikar\, bön & lovsång\, barnkyrka sedan kyrkfika
URL:https://www.boden.pingst.se/handelse/gudstjanst-424/
END:VEVENT
BEGIN:VEVENT
DTSTART;TZID=Europe/Stockholm:20230117T180000
DTEND;TZID=Europe/Stockholm:20230117T180000
DTSTAMP:20260423T050009
CREATED:20221213T123037Z
LAST-MODIFIED:20221213T123037Z
UID:4722-1673978400-1673978400@www.boden.pingst.se
SUMMARY:Uppstart bönegrupper
DESCRIPTION:Gemensam uppstart för våra bön och conncetgrupper\, vi samlas i kyrkan och äter tillsammans. Mer info kommer
URL:https://www.boden.pingst.se/handelse/uppstart-bonegrupper/
END:VEVENT
BEGIN:VEVENT
DTSTART;TZID=Europe/Stockholm:20230119T190000
DTEND;TZID=Europe/Stockholm:20230119T190000
DTSTAMP:20260423T050009
CREATED:20230119T072948Z
LAST-MODIFIED:20230119T072948Z
UID:4753-1674154800-1674154800@www.boden.pingst.se
SUMMARY:Torsdagkväll i Pingstkyrkan
DESCRIPTION:i Pingstkyrkan. En enklare mötesplats med musik och fika.
URL:https://www.boden.pingst.se/handelse/torsdagkvall-i-pingstkyrkan/
END:VEVENT
BEGIN:VEVENT
DTSTART;TZID=Europe/Stockholm:20230122T110000
DTEND;TZID=Europe/Stockholm:20230122T110000
DTSTAMP:20260423T050009
CREATED:20221119T210330Z
LAST-MODIFIED:20221119T210330Z
UID:4696-1674385200-1674385200@www.boden.pingst.se
SUMMARY:Gudstjänst
DESCRIPTION:Marcus Sandström predikar\, bön & lovsång\, barnkyrka sedan kyrkfika
URL:https://www.boden.pingst.se/handelse/gudstjanst-425/
END:VEVENT
BEGIN:VEVENT
DTSTART;TZID=Europe/Stockholm:20230116T130000
DTEND;TZID=Europe/Stockholm:20230116T130000
DTSTAMP:20260423T050009
CREATED:20230103T203203Z
LAST-MODIFIED:20230103T203344Z
UID:4738-1673874000-1673874000@www.boden.pingst.se
SUMMARY:Stickgrupp
DESCRIPTION:Stickgruppen träffas 13:00
URL:https://www.boden.pingst.se/handelse/stickgruppen-traffas-1300/
END:VEVENT
BEGIN:VEVENT
DTSTART;TZID=Europe/Stockholm:20230128T090000
DTEND;TZID=Europe/Stockholm:20230128T090000
DTSTAMP:20260423T050009
CREATED:20221119T204510Z
LAST-MODIFIED:20221119T211903Z
UID:4689-1674896400-1674896400@www.boden.pingst.se
SUMMARY:Bön i stadshuset
DESCRIPTION:
URL:https://www.boden.pingst.se/handelse/bon-i-stadshuset-30/
END:VEVENT
BEGIN:VEVENT
DTSTART;TZID=Europe/Stockholm:20230128T183000
DTEND;TZID=Europe/Stockholm:20230128T183000
DTSTAMP:20260423T050009
CREATED:20230111T132342Z
LAST-MODIFIED:20230111T132342Z
UID:4742-1674930600-1674930600@www.boden.pingst.se
SUMMARY:Gospel konsert med On Duty Gospel
DESCRIPTION:Lördag den 28/1 får vi besök av On Duty Gospel\, det blir en svängig konsert och efteråt blir det Cafékväll. Varmt välkommen 18:30
URL:https://www.boden.pingst.se/handelse/gospel-konsert-med-on-duty-gospel/
END:VEVENT
BEGIN:VEVENT
DTSTART;TZID=Europe/Stockholm:20230129T110000
DTEND;TZID=Europe/Stockholm:20230129T110000
DTSTAMP:20260423T050009
CREATED:20221119T210416Z
LAST-MODIFIED:20221119T210416Z
UID:4697-1674990000-1674990000@www.boden.pingst.se
SUMMARY:Gudstjänst
DESCRIPTION:Frida Nyberg predikar\, bön & lovsång\, barnkyrka sedan kyrkfika
URL:https://www.boden.pingst.se/handelse/gudstjanst-426/
END:VEVENT
END:VCALENDAR