BEGIN:VCALENDAR
VERSION:2.0
PRODID:-//Pingstkyrkan i Boden - ECPv6.8.2.1//NONSGML v1.0//EN
CALSCALE:GREGORIAN
METHOD:PUBLISH
X-WR-CALNAME:Pingstkyrkan i Boden
X-ORIGINAL-URL:https://www.boden.pingst.se
X-WR-CALDESC:Events for Pingstkyrkan i Boden
REFRESH-INTERVAL;VALUE=DURATION:PT1H
X-Robots-Tag:noindex
X-PUBLISHED-TTL:PT1H
BEGIN:VTIMEZONE
TZID:Europe/Stockholm
BEGIN:DAYLIGHT
TZOFFSETFROM:+0100
TZOFFSETTO:+0200
TZNAME:CEST
DTSTART:20220327T010000
END:DAYLIGHT
BEGIN:STANDARD
TZOFFSETFROM:+0200
TZOFFSETTO:+0100
TZNAME:CET
DTSTART:20221030T010000
END:STANDARD
END:VTIMEZONE
BEGIN:VEVENT
DTSTART;TZID=Europe/Stockholm:20221002T110000
DTEND;TZID=Europe/Stockholm:20221002T110000
DTSTAMP:20260423T100847
CREATED:20220831T112607Z
LAST-MODIFIED:20220831T112607Z
UID:4619-1664708400-1664708400@www.boden.pingst.se
SUMMARY:Gudstjänst
DESCRIPTION:med Benjamin Mattsson\, insamling till församlingen\, barnkyrka\, kyrkfika efteråt. Sänds även via närradion.
URL:https://www.boden.pingst.se/handelse/gudstjanst-413/
END:VEVENT
BEGIN:VEVENT
DTSTART;TZID=Europe/Stockholm:20221003T130000
DTEND;TZID=Europe/Stockholm:20221003T130000
DTSTAMP:20260423T100847
CREATED:20220908T192334Z
LAST-MODIFIED:20220908T192334Z
UID:4628-1664802000-1664802000@www.boden.pingst.se
SUMMARY:Stickgruppen startar
DESCRIPTION:på kyrkan.
URL:https://www.boden.pingst.se/handelse/stickgruppen-startar-7/
END:VEVENT
BEGIN:VEVENT
DTSTART;TZID=Europe/Stockholm:20221009T110000
DTEND;TZID=Europe/Stockholm:20221009T110000
DTSTAMP:20260423T100847
CREATED:20220908T192718Z
LAST-MODIFIED:20220908T193047Z
UID:4630-1665313200-1665313200@www.boden.pingst.se
SUMMARY:Gudstjänst
DESCRIPTION:med Marcus Sandström\, insamling till missionen\, barnkyrka\, kyrkfika efteråt. Sänds även via närradion.
URL:https://www.boden.pingst.se/handelse/gudstjanst-414/
END:VEVENT
BEGIN:VEVENT
DTSTART;TZID=Europe/Stockholm:20221009T173000
DTEND;TZID=Europe/Stockholm:20221009T173000
DTSTAMP:20260423T100847
CREATED:20220908T192756Z
LAST-MODIFIED:20220908T192756Z
UID:4631-1665336600-1665336600@www.boden.pingst.se
SUMMARY:Församlingsmöte
DESCRIPTION:på kyrkan.
URL:https://www.boden.pingst.se/handelse/forsamlingsmote-13/
END:VEVENT
BEGIN:VEVENT
DTSTART;TZID=Europe/Stockholm:20221010T130000
DTEND;TZID=Europe/Stockholm:20221010T130000
DTSTAMP:20260423T100847
CREATED:20220908T192446Z
LAST-MODIFIED:20220908T192446Z
UID:4629-1665406800-1665406800@www.boden.pingst.se
SUMMARY:Stickgruppen träffas
DESCRIPTION:på kyrkan.
URL:https://www.boden.pingst.se/handelse/stickgruppen-traffas/
END:VEVENT
BEGIN:VEVENT
DTSTART;TZID=Europe/Stockholm:20221012T100000
DTEND;TZID=Europe/Stockholm:20221012T100000
DTSTAMP:20260423T100847
CREATED:20221006T102216Z
LAST-MODIFIED:20221006T164708Z
UID:4644-1665568800-1665568800@www.boden.pingst.se
SUMMARY:Begravningsgudstjänst
DESCRIPTION:för Gun-Britt Selberg. I pingstkyrkan. OBS! Både begravningsakten och minnesstunden sker i kretsen av de närmaste.
URL:https://www.boden.pingst.se/handelse/begravningsgudstjanst-3/
END:VEVENT
BEGIN:VEVENT
DTSTART;TZID=Europe/Stockholm:20221016T110000
DTEND;TZID=Europe/Stockholm:20221016T110000
DTSTAMP:20260423T100847
CREATED:20221011T084300Z
LAST-MODIFIED:20221011T084300Z
UID:4645-1665918000-1665918000@www.boden.pingst.se
SUMMARY:Tillsammansgudstjänst
DESCRIPTION:med Frida Nyberg insamling till församlingen\, barnen sjunger\, kyrkfika efteråt. Sänds även via närradion.
URL:https://www.boden.pingst.se/handelse/tillsammansgudstjanst-6/
END:VEVENT
BEGIN:VEVENT
DTSTART;TZID=Europe/Stockholm:20221016T123000
DTEND;TZID=Europe/Stockholm:20221016T123000
DTSTAMP:20260423T100847
CREATED:20221011T084552Z
LAST-MODIFIED:20221011T084630Z
UID:4646-1665923400-1665923400@www.boden.pingst.se
SUMMARY:After Church
DESCRIPTION:för alla familjer. Direkt efter Gudstjänsten.
URL:https://www.boden.pingst.se/handelse/after-church/
END:VEVENT
BEGIN:VEVENT
DTSTART;TZID=Europe/Stockholm:20221023T110000
DTEND;TZID=Europe/Stockholm:20221023T110000
DTSTAMP:20260423T100847
CREATED:20221014T174357Z
LAST-MODIFIED:20221014T174357Z
UID:4647-1666522800-1666522800@www.boden.pingst.se
SUMMARY:Gudstjänst
DESCRIPTION:med Marcus Sandström\, insamling till Norrbotten\, barnkyrka\, nattvard\, kyrkfika efteråt. Sänds även via närradion.
URL:https://www.boden.pingst.se/handelse/gudstjanst-415/
END:VEVENT
BEGIN:VEVENT
DTSTART;TZID=Europe/Stockholm:20221030T110000
DTEND;TZID=Europe/Stockholm:20221030T110000
DTSTAMP:20260423T100847
CREATED:20221014T174531Z
LAST-MODIFIED:20221014T174531Z
UID:4648-1667127600-1667127600@www.boden.pingst.se
SUMMARY:Gudstjänst
DESCRIPTION:med Frida Nyberg\, insamling till församlingen\, barnkyrka\, dop\, kyrkfika efteråt. Sänds även via närradion.
URL:https://www.boden.pingst.se/handelse/gudstjanst-416/
END:VEVENT
END:VCALENDAR