BEGIN:VCALENDAR
VERSION:2.0
PRODID:-//Pingstkyrkan i Boden - ECPv6.8.2.1//NONSGML v1.0//EN
CALSCALE:GREGORIAN
METHOD:PUBLISH
X-WR-CALNAME:Pingstkyrkan i Boden
X-ORIGINAL-URL:https://www.boden.pingst.se
X-WR-CALDESC:Events for Pingstkyrkan i Boden
REFRESH-INTERVAL;VALUE=DURATION:PT1H
X-Robots-Tag:noindex
X-PUBLISHED-TTL:PT1H
BEGIN:VTIMEZONE
TZID:Europe/Stockholm
BEGIN:DAYLIGHT
TZOFFSETFROM:+0100
TZOFFSETTO:+0200
TZNAME:CEST
DTSTART:20220327T010000
END:DAYLIGHT
BEGIN:STANDARD
TZOFFSETFROM:+0200
TZOFFSETTO:+0100
TZNAME:CET
DTSTART:20221030T010000
END:STANDARD
END:VTIMEZONE
BEGIN:VEVENT
DTSTART;TZID=Europe/Stockholm:20220303T190000
DTEND;TZID=Europe/Stockholm:20220303T190000
DTSTAMP:20260423T224405
CREATED:20220302T151601Z
LAST-MODIFIED:20220302T151601Z
UID:4499-1646334000-1646334000@www.boden.pingst.se
SUMMARY:LP-möte
DESCRIPTION:med Tommy Ström
URL:https://www.boden.pingst.se/handelse/lp-mote-267/
END:VEVENT
BEGIN:VEVENT
DTSTART;TZID=Europe/Stockholm:20220306T110000
DTEND;TZID=Europe/Stockholm:20220306T110000
DTSTAMP:20260423T224405
CREATED:20220302T152443Z
LAST-MODIFIED:20220302T152443Z
UID:4504-1646564400-1646564400@www.boden.pingst.se
SUMMARY:Gudstjänst
DESCRIPTION:med apell\, bön och lovsång. 
URL:https://www.boden.pingst.se/handelse/gudstjanst-394/
END:VEVENT
BEGIN:VEVENT
DTSTART;TZID=Europe/Stockholm:20220310T190000
DTEND;TZID=Europe/Stockholm:20220310T190000
DTSTAMP:20260423T224405
CREATED:20220302T151659Z
LAST-MODIFIED:20220302T151659Z
UID:4500-1646938800-1646938800@www.boden.pingst.se
SUMMARY:LP-möte
DESCRIPTION:med Mirjam Wälitalo
URL:https://www.boden.pingst.se/handelse/lp-mote-268/
END:VEVENT
BEGIN:VEVENT
DTSTART;TZID=Europe/Stockholm:20220311T180000
DTEND;TZID=Europe/Stockholm:20220311T180000
DTSTAMP:20260423T224405
CREATED:20220302T152648Z
LAST-MODIFIED:20220302T152648Z
UID:4506-1647021600-1647021600@www.boden.pingst.se
SUMMARY:SPORTLOV för barnen och ungdomarna
DESCRIPTION:
URL:https://www.boden.pingst.se/handelse/sportlov-for-barnen-och-ungdomarna/
END:VEVENT
BEGIN:VEVENT
DTSTART;TZID=Europe/Stockholm:20220313T110000
DTEND;TZID=Europe/Stockholm:20220313T110000
DTSTAMP:20260423T224405
CREATED:20220302T153409Z
LAST-MODIFIED:20220302T153409Z
UID:4508-1647169200-1647169200@www.boden.pingst.se
SUMMARY:Gudstjänst
DESCRIPTION:med Marcus Sandström\, bön och lovsång\, Barnkyrkan för barnen. Gudstjänsten sänds även via Facebook och närradion.
URL:https://www.boden.pingst.se/handelse/gudstjanst-395/
END:VEVENT
BEGIN:VEVENT
DTSTART;TZID=Europe/Stockholm:20220313T173000
DTEND;TZID=Europe/Stockholm:20220313T173000
DTSTAMP:20260423T224405
CREATED:20220127T092726Z
LAST-MODIFIED:20220127T092726Z
UID:4471-1647192600-1647192600@www.boden.pingst.se
SUMMARY:Församlingens årsmöte
DESCRIPTION:Mer information kommer i medlemsbrev och på hemsidan.
URL:https://www.boden.pingst.se/handelse/forsamlingens-arsmote-2/
END:VEVENT
BEGIN:VEVENT
DTSTART;TZID=Europe/Stockholm:20220317T190000
DTEND;TZID=Europe/Stockholm:20220317T190000
DTSTAMP:20260423T224405
CREATED:20220302T151757Z
LAST-MODIFIED:20220302T151757Z
UID:4501-1647543600-1647543600@www.boden.pingst.se
SUMMARY:LP-möte
DESCRIPTION:med Johan Blomqvist
URL:https://www.boden.pingst.se/handelse/lp-mote-269/
END:VEVENT
BEGIN:VEVENT
DTSTART;TZID=Europe/Stockholm:20220320T110000
DTEND;TZID=Europe/Stockholm:20220320T110000
DTSTAMP:20260423T224405
CREATED:20220308T123835Z
LAST-MODIFIED:20220308T123835Z
UID:4515-1647774000-1647774000@www.boden.pingst.se
SUMMARY:Gudstjänst
DESCRIPTION:med predikan\, bön och lovsång. Barnkyrkan för alla barn. Gudstjänsten sänds även via Facebook och närradion. 
URL:https://www.boden.pingst.se/handelse/gudstjanst-396/
END:VEVENT
BEGIN:VEVENT
DTSTART;TZID=Europe/Stockholm:20220324T190000
DTEND;TZID=Europe/Stockholm:20220324T190000
DTSTAMP:20260423T224405
CREATED:20220315T110941Z
LAST-MODIFIED:20220315T110941Z
UID:4518-1648148400-1648148400@www.boden.pingst.se
SUMMARY:LP-möte inställt
DESCRIPTION:
URL:https://www.boden.pingst.se/handelse/lp-mote-installt-2/
END:VEVENT
BEGIN:VEVENT
DTSTART;TZID=Europe/Stockholm:20220325T100000
DTEND;TZID=Europe/Stockholm:20220325T100000
DTSTAMP:20260423T224405
CREATED:20220315T112541Z
LAST-MODIFIED:20220315T133327Z
UID:4520-1648202400-1648202400@www.boden.pingst.se
SUMMARY:Begravningsgudstjänst för Nathanael Hübinette
DESCRIPTION:i Överluleå kyrka. Minnesstunden efter begravningen sker i kretsen av de närmaste.
URL:https://www.boden.pingst.se/handelse/begravningsgudstjanst-for-nathanel-hubinette/
END:VEVENT
BEGIN:VEVENT
DTSTART;TZID=Europe/Stockholm:20220327T110000
DTEND;TZID=Europe/Stockholm:20220327T110000
DTSTAMP:20260423T224405
CREATED:20220308T124440Z
LAST-MODIFIED:20220308T124440Z
UID:4516-1648378800-1648378800@www.boden.pingst.se
SUMMARY:Gudstjänst
DESCRIPTION:med predikan\, bön och lovsång. Barnkyrkan för alla barn. Gudstjänsten sänds även via Facebook och närradion. 
URL:https://www.boden.pingst.se/handelse/gudstjanst-397/
END:VEVENT
BEGIN:VEVENT
DTSTART;TZID=Europe/Stockholm:20220331T190000
DTEND;TZID=Europe/Stockholm:20220331T190000
DTSTAMP:20260423T224405
CREATED:20220302T151933Z
LAST-MODIFIED:20220322T164359Z
UID:4503-1648753200-1648753200@www.boden.pingst.se
SUMMARY:LP-möte
DESCRIPTION:
URL:https://www.boden.pingst.se/handelse/lp-mote-271/
END:VEVENT
END:VCALENDAR