BEGIN:VCALENDAR
VERSION:2.0
PRODID:-//Pingstkyrkan i Boden - ECPv6.8.2.1//NONSGML v1.0//EN
CALSCALE:GREGORIAN
METHOD:PUBLISH
X-ORIGINAL-URL:https://www.boden.pingst.se
X-WR-CALDESC:Events for Pingstkyrkan i Boden
REFRESH-INTERVAL;VALUE=DURATION:PT1H
X-Robots-Tag:noindex
X-PUBLISHED-TTL:PT1H
BEGIN:VTIMEZONE
TZID:Europe/Stockholm
BEGIN:DAYLIGHT
TZOFFSETFROM:+0100
TZOFFSETTO:+0200
TZNAME:CEST
DTSTART:20220327T010000
END:DAYLIGHT
BEGIN:STANDARD
TZOFFSETFROM:+0200
TZOFFSETTO:+0100
TZNAME:CET
DTSTART:20221030T010000
END:STANDARD
END:VTIMEZONE
BEGIN:VEVENT
DTSTART;TZID=Europe/Stockholm:20220102T110000
DTEND;TZID=Europe/Stockholm:20220102T110000
DTSTAMP:20260424T001610
CREATED:20211222T150953Z
LAST-MODIFIED:20211222T151039Z
UID:4424-1641121200-1641121200@www.boden.pingst.se
SUMMARY:Ingen Gudstjänst idag
DESCRIPTION:
URL:https://www.boden.pingst.se/handelse/ingen-gudstjanst-idag/
END:VEVENT
BEGIN:VEVENT
DTSTART;TZID=Europe/Stockholm:20220105T130000
DTEND;TZID=Europe/Stockholm:20220105T130000
DTSTAMP:20260424T001610
CREATED:20220104T132623Z
LAST-MODIFIED:20220104T132623Z
UID:4441-1641387600-1641387600@www.boden.pingst.se
SUMMARY:Öppen minnesstund för Maja Öhman
DESCRIPTION:Mellan klockan 13.00-15.00 är det en öppen minnesstund för Maja i Pingstkyrkan. Alla som vill är välkomna! Det finns möjlighet att tända ljus\, dela minnen\, skriva en hälsning\, spela en låt eller bara komma och sitta en stund.
URL:https://www.boden.pingst.se/handelse/oppen-minnesstund-for-maja-ohman/
END:VEVENT
BEGIN:VEVENT
DTSTART;TZID=Europe/Stockholm:20220107T100000
DTEND;TZID=Europe/Stockholm:20220107T100000
DTSTAMP:20260424T001610
CREATED:20220104T132520Z
LAST-MODIFIED:20220104T132520Z
UID:4440-1641549600-1641549600@www.boden.pingst.se
SUMMARY:Begravningsgudstjänst för Maja Öhman
DESCRIPTION:i Överluleå kyrka. Minnesstunden efter begravningen sker i kretsen av de närmaste.
URL:https://www.boden.pingst.se/handelse/begravningsgudstjanst-for-maja-ohman/
END:VEVENT
BEGIN:VEVENT
DTSTART;TZID=Europe/Stockholm:20220108T090000
DTEND;TZID=Europe/Stockholm:20220108T090000
DTSTAMP:20260424T001610
CREATED:20211228T094510Z
LAST-MODIFIED:20211228T094510Z
UID:4429-1641632400-1641632400@www.boden.pingst.se
SUMMARY:Bön i stadshuset
DESCRIPTION:
URL:https://www.boden.pingst.se/handelse/bon-i-stadshuset-25/
END:VEVENT
BEGIN:VEVENT
DTSTART;TZID=Europe/Stockholm:20220109T110000
DTEND;TZID=Europe/Stockholm:20220109T110000
DTSTAMP:20260424T001610
CREATED:20211228T094041Z
LAST-MODIFIED:20211228T094041Z
UID:4428-1641726000-1641726000@www.boden.pingst.se
SUMMARY:Gudstjänst
DESCRIPTION:Marcus Sandström predikar\, vi lovsjunger och ber tillsammans. Böneämnen skickas till 070-233 21 25. Välkommen att vara med i kyrkan eller via sändningen på Facebook och närradion!
URL:https://www.boden.pingst.se/handelse/gudstjanst-386/
END:VEVENT
BEGIN:VEVENT
DTSTART;TZID=Europe/Stockholm:20220109T173000
DTEND;TZID=Europe/Stockholm:20220109T173000
DTSTAMP:20260424T001610
CREATED:20220104T132826Z
LAST-MODIFIED:20220104T132826Z
UID:4442-1641749400-1641749400@www.boden.pingst.se
SUMMARY:Församlingsmöte
DESCRIPTION:sänds även via Teams. Länk och dagordning skickas ut i medlemsbrev.
URL:https://www.boden.pingst.se/handelse/forsamlingsmote-11/
END:VEVENT
BEGIN:VEVENT
DTSTART;TZID=Europe/Stockholm:20220116T110000
DTEND;TZID=Europe/Stockholm:20220116T110000
DTSTAMP:20260424T001610
CREATED:20220104T143242Z
LAST-MODIFIED:20220106T185233Z
UID:4446-1642330800-1642330800@www.boden.pingst.se
SUMMARY:Gudstjänst
DESCRIPTION:med predikan\, lovsång\, bön och nattvard. Böneämnen skickas till 070-233 21 25. Välkommen att vara med i kyrkan eller via sändningen på Facebook och närradion!
URL:https://www.boden.pingst.se/handelse/gudstjanst-387/
END:VEVENT
BEGIN:VEVENT
DTSTART;TZID=Europe/Stockholm:20220117T130000
DTEND;TZID=Europe/Stockholm:20220117T130000
DTSTAMP:20260424T001610
CREATED:20220106T185105Z
LAST-MODIFIED:20220106T185105Z
UID:4453-1642424400-1642424400@www.boden.pingst.se
SUMMARY:Stickgruppen startar
DESCRIPTION:
URL:https://www.boden.pingst.se/handelse/stickgruppen-startar-6/
END:VEVENT
BEGIN:VEVENT
DTSTART;TZID=Europe/Stockholm:20220120T190000
DTEND;TZID=Europe/Stockholm:20220120T190000
DTSTAMP:20260424T001610
CREATED:20220104T132932Z
LAST-MODIFIED:20220104T132932Z
UID:4443-1642705200-1642705200@www.boden.pingst.se
SUMMARY:LP-möte
DESCRIPTION:med Torbjörn Björck
URL:https://www.boden.pingst.se/handelse/lp-mote-261/
END:VEVENT
BEGIN:VEVENT
DTSTART;TZID=Europe/Stockholm:20220121T170000
DTEND;TZID=Europe/Stockholm:20220121T170000
DTSTAMP:20260424T001610
CREATED:20220106T184848Z
LAST-MODIFIED:20220106T184848Z
UID:4452-1642784400-1642784400@www.boden.pingst.se
SUMMARY:Minibrass
DESCRIPTION:
URL:https://www.boden.pingst.se/handelse/minibrass-19/
END:VEVENT
BEGIN:VEVENT
DTSTART;TZID=Europe/Stockholm:20220121T193000
DTEND;TZID=Europe/Stockholm:20220121T193000
DTSTAMP:20260424T001610
CREATED:20220104T144741Z
LAST-MODIFIED:20220104T144741Z
UID:4450-1642793400-1642793400@www.boden.pingst.se
SUMMARY:Ung på Noah's
DESCRIPTION:
URL:https://www.boden.pingst.se/handelse/ung-pa-noahs-35/
END:VEVENT
BEGIN:VEVENT
DTSTART;TZID=Europe/Stockholm:20220123T110000
DTEND;TZID=Europe/Stockholm:20220123T110000
DTSTAMP:20260424T001610
CREATED:20220104T143407Z
LAST-MODIFIED:20220104T143407Z
UID:4447-1642935600-1642935600@www.boden.pingst.se
SUMMARY:Gudstjänst
DESCRIPTION:Frida Nyberg predikar\, vi lovsjunger och ber tillsammans. Böneämnen skickas till 070-233 21 25. Välkommen att vara med i kyrkan eller via sändningen på Facebook och närradion!
URL:https://www.boden.pingst.se/handelse/gudstjanst-388/
END:VEVENT
BEGIN:VEVENT
DTSTART;TZID=Europe/Stockholm:20220127T190000
DTEND;TZID=Europe/Stockholm:20220127T190000
DTSTAMP:20260424T001610
CREATED:20220104T133000Z
LAST-MODIFIED:20220104T133000Z
UID:4444-1643310000-1643310000@www.boden.pingst.se
SUMMARY:LP-möte
DESCRIPTION:med Maine Lindström
URL:https://www.boden.pingst.se/handelse/lp-mote-262/
END:VEVENT
BEGIN:VEVENT
DTSTART;TZID=Europe/Stockholm:20220130T110000
DTEND;TZID=Europe/Stockholm:20220130T110000
DTSTAMP:20260424T001610
CREATED:20220104T143440Z
LAST-MODIFIED:20220104T143440Z
UID:4448-1643540400-1643540400@www.boden.pingst.se
SUMMARY:Gudstjänst
DESCRIPTION:Marcus Sandström predikar\, vi lovsjunger och ber tillsammans. Böneämnen skickas till 070-233 21 25. Välkommen att vara med i kyrkan eller via sändningen på Facebook och närradion!
URL:https://www.boden.pingst.se/handelse/gudstjanst-389/
END:VEVENT
END:VCALENDAR