BEGIN:VCALENDAR
VERSION:2.0
PRODID:-//Pingstkyrkan i Boden - ECPv6.8.2.1//NONSGML v1.0//EN
CALSCALE:GREGORIAN
METHOD:PUBLISH
X-WR-CALNAME:Pingstkyrkan i Boden
X-ORIGINAL-URL:https://www.boden.pingst.se
X-WR-CALDESC:Events for Pingstkyrkan i Boden
REFRESH-INTERVAL;VALUE=DURATION:PT1H
X-Robots-Tag:noindex
X-PUBLISHED-TTL:PT1H
BEGIN:VTIMEZONE
TZID:Europe/Stockholm
BEGIN:DAYLIGHT
TZOFFSETFROM:+0100
TZOFFSETTO:+0200
TZNAME:CEST
DTSTART:20210328T010000
END:DAYLIGHT
BEGIN:STANDARD
TZOFFSETFROM:+0200
TZOFFSETTO:+0100
TZNAME:CET
DTSTART:20211031T010000
END:STANDARD
END:VTIMEZONE
BEGIN:VEVENT
DTSTART;TZID=Europe/Stockholm:20211202T190000
DTEND;TZID=Europe/Stockholm:20211202T190000
DTSTAMP:20260424T071654
CREATED:20211126T083413Z
LAST-MODIFIED:20211126T083413Z
UID:4402-1638471600-1638471600@www.boden.pingst.se
SUMMARY:LP-möte
DESCRIPTION:med Malte Holmquist
URL:https://www.boden.pingst.se/handelse/lp-mote-259/
END:VEVENT
BEGIN:VEVENT
DTSTART;TZID=Europe/Stockholm:20211205T110000
DTEND;TZID=Europe/Stockholm:20211205T110000
DTSTAMP:20260424T071654
CREATED:20211126T083545Z
LAST-MODIFIED:20211202T142902Z
UID:4403-1638702000-1638702000@www.boden.pingst.se
SUMMARY:Tillsammansgudstjänst
DESCRIPTION:för alla åldrar! Barnkörerna Miniton och Glädjeton sjunger\, Bibelutdelning till barn i åk 2&3\, Ljus i mörker. Gudstjänsten sänd inte via Facebook.
URL:https://www.boden.pingst.se/handelse/tillsammansgudstjanst-3/
END:VEVENT
BEGIN:VEVENT
DTSTART;TZID=Europe/Stockholm:20211205T173000
DTEND;TZID=Europe/Stockholm:20211205T173000
DTSTAMP:20260424T071654
CREATED:20210825T114458Z
LAST-MODIFIED:20211203T092522Z
UID:4313-1638725400-1638725400@www.boden.pingst.se
SUMMARY:Hjärta för församlingen
DESCRIPTION:Välkommen till församlingskväll i kyrkan! Vi bjuder på kaffe och te\, och samtalar om ”att se guldet i varandra”.
URL:https://www.boden.pingst.se/handelse/forsamlingskvall-9/
END:VEVENT
BEGIN:VEVENT
DTSTART;TZID=Europe/Stockholm:20211206T180000
DTEND;TZID=Europe/Stockholm:20211206T180000
DTSTAMP:20260424T071654
CREATED:20211130T143104Z
LAST-MODIFIED:20211130T143104Z
UID:4412-1638813600-1638813600@www.boden.pingst.se
SUMMARY:Volontärträff på PMU Secondhand
DESCRIPTION:Vi kommer att informera lite om hur ombyggnationen går\, prata om volontärarbetet och även uppdatera butiksvärdslistor och kontaktuppgifter.  \nAnmäl senast lördag den 4 dec kl 16 till 072-092 72 51\, meddela även specialkost.
URL:https://www.boden.pingst.se/handelse/volontartraff-pa-pmu-secondhand/
END:VEVENT
BEGIN:VEVENT
DTSTART;TZID=Europe/Stockholm:20211209T190000
DTEND;TZID=Europe/Stockholm:20211209T190000
DTSTAMP:20260424T071654
CREATED:20211126T083630Z
LAST-MODIFIED:20211126T083630Z
UID:4404-1639076400-1639076400@www.boden.pingst.se
SUMMARY:LP-möte
DESCRIPTION:Adventssånger med Dan Söderström
URL:https://www.boden.pingst.se/handelse/lp-mote-260/
END:VEVENT
BEGIN:VEVENT
DTSTART;TZID=Europe/Stockholm:20211210T180000
DTEND;TZID=Europe/Stockholm:20211210T180000
DTSTAMP:20260424T071654
CREATED:20211126T083742Z
LAST-MODIFIED:20211126T083742Z
UID:4405-1639159200-1639159200@www.boden.pingst.se
SUMMARY:Superfredag: JULAVSLUTNING
DESCRIPTION:Välkommen till julfest och avslutning för Miniton och Glädjeton!
URL:https://www.boden.pingst.se/handelse/superfredag-julavslutning/
END:VEVENT
BEGIN:VEVENT
DTSTART;TZID=Europe/Stockholm:20211212T110000
DTEND;TZID=Europe/Stockholm:20211212T110000
DTSTAMP:20260424T071654
CREATED:20211126T083857Z
LAST-MODIFIED:20211126T083857Z
UID:4406-1639306800-1639306800@www.boden.pingst.se
SUMMARY:Gudstjänst
DESCRIPTION:Frida Nyberg predikar\, vi lovsjunger och ber tillsammans. Barnkyrkan för alla barn.  Böneämnen skickas till 070-233 21 25. Välkommen att vara med i kyrkan eller via sändningen på Facebook och närradion!
URL:https://www.boden.pingst.se/handelse/gudstjanst-384/
END:VEVENT
BEGIN:VEVENT
DTSTART;TZID=Europe/Stockholm:20211215T130000
DTEND;TZID=Europe/Stockholm:20211215T130000
DTSTAMP:20260424T071654
CREATED:20211126T083950Z
LAST-MODIFIED:20211126T083950Z
UID:4407-1639573200-1639573200@www.boden.pingst.se
SUMMARY:Allträffens julfest
DESCRIPTION:
URL:https://www.boden.pingst.se/handelse/alltraffens-julfest-5/
END:VEVENT
BEGIN:VEVENT
DTSTART;TZID=Europe/Stockholm:20211219T110000
DTEND;TZID=Europe/Stockholm:20211219T110000
DTSTAMP:20260424T071654
CREATED:20211126T084033Z
LAST-MODIFIED:20211126T084101Z
UID:4408-1639911600-1639911600@www.boden.pingst.se
SUMMARY:Gudstjänst
DESCRIPTION:Marcus Sandström predikar\, vi lovsjunger och ber tillsammans. Böneämnen skickas till 070-233 21 25. Välkommen att vara med i kyrkan eller via sändningen på Facebook och närradion!
URL:https://www.boden.pingst.se/handelse/4408/
END:VEVENT
BEGIN:VEVENT
DTSTART;TZID=Europe/Stockholm:20211226T110000
DTEND;TZID=Europe/Stockholm:20211226T110000
DTSTAMP:20260424T071654
CREATED:20211126T090933Z
LAST-MODIFIED:20211126T090933Z
UID:4409-1640516400-1640516400@www.boden.pingst.se
SUMMARY:Gudstjänst
DESCRIPTION:Frida Nyberg predikar\, vi lovsjunger och ber tillsammans. Böneämnen skickas till 070-233 21 25. Välkommen att vara med i kyrkan eller via sändningen på Facebook och närradion!
URL:https://www.boden.pingst.se/handelse/gudstjanst-385/
END:VEVENT
END:VCALENDAR