BEGIN:VCALENDAR
VERSION:2.0
PRODID:-//Pingstkyrkan i Boden - ECPv6.8.2.1//NONSGML v1.0//EN
CALSCALE:GREGORIAN
METHOD:PUBLISH
X-ORIGINAL-URL:https://www.boden.pingst.se
X-WR-CALDESC:Events for Pingstkyrkan i Boden
REFRESH-INTERVAL;VALUE=DURATION:PT1H
X-Robots-Tag:noindex
X-PUBLISHED-TTL:PT1H
BEGIN:VTIMEZONE
TZID:Europe/Stockholm
BEGIN:DAYLIGHT
TZOFFSETFROM:+0100
TZOFFSETTO:+0200
TZNAME:CEST
DTSTART:20210328T010000
END:DAYLIGHT
BEGIN:STANDARD
TZOFFSETFROM:+0200
TZOFFSETTO:+0100
TZNAME:CET
DTSTART:20211031T010000
END:STANDARD
END:VTIMEZONE
BEGIN:VEVENT
DTSTART;TZID=Europe/Stockholm:20211001T180000
DTEND;TZID=Europe/Stockholm:20211001T180000
DTSTAMP:20260424T095834
CREATED:20210928T134331Z
LAST-MODIFIED:20210928T134331Z
UID:4366-1633111200-1633111200@www.boden.pingst.se
SUMMARY:Miniton & Glädjeton
DESCRIPTION:
URL:https://www.boden.pingst.se/handelse/miniton-gladjeton-3/
END:VEVENT
BEGIN:VEVENT
DTSTART;TZID=Europe/Stockholm:20211003T110000
DTEND;TZID=Europe/Stockholm:20211003T110000
DTSTAMP:20260424T095834
CREATED:20210825T120333Z
LAST-MODIFIED:20210903T123913Z
UID:4316-1633258800-1633258800@www.boden.pingst.se
SUMMARY:Gudstjänst
DESCRIPTION:Marcus Sandström predikar\, vi lovsjunger och ber tillsammans. Barnkyrkan för alla barn. Böneämnen skickas till 070-233 21 25. Välkommen att vara med i kyrkan eller via sändningen på Facebook och närradion!
URL:https://www.boden.pingst.se/handelse/gudstjanst-377/
END:VEVENT
BEGIN:VEVENT
DTSTART;TZID=Europe/Stockholm:20211003T173000
DTEND;TZID=Europe/Stockholm:20211003T173000
DTSTAMP:20260424T095834
CREATED:20210825T114430Z
LAST-MODIFIED:20210923T132053Z
UID:4312-1633282200-1633282200@www.boden.pingst.se
SUMMARY:Församlingskväll
DESCRIPTION:Information och länk skickas ut i medlemsbrevet.
URL:https://www.boden.pingst.se/handelse/forsamlingskvall-8/
END:VEVENT
BEGIN:VEVENT
DTSTART;TZID=Europe/Stockholm:20211007T190000
DTEND;TZID=Europe/Stockholm:20211007T190000
DTSTAMP:20260424T095834
CREATED:20210928T124951Z
LAST-MODIFIED:20210928T124951Z
UID:4356-1633633200-1633633200@www.boden.pingst.se
SUMMARY:LP-möte
DESCRIPTION:med Greger Björklund\, LP-vännerna sjunger
URL:https://www.boden.pingst.se/handelse/lp-mote-252/
END:VEVENT
BEGIN:VEVENT
DTSTART;TZID=Europe/Stockholm:20211010T110000
DTEND;TZID=Europe/Stockholm:20211010T110000
DTSTAMP:20260424T095834
CREATED:20210825T120400Z
LAST-MODIFIED:20210903T124014Z
UID:4317-1633863600-1633863600@www.boden.pingst.se
SUMMARY:Gudstjänst
DESCRIPTION:Frida Nyberg predikar\, vi lovsjunger och ber tillsammans. Barnkyrkan för alla barn.  Böneämnen skickas till 070-233 21 25. Välkommen att vara med i kyrkan eller via sändningen på Facebook och närradion!
URL:https://www.boden.pingst.se/handelse/gudstjanst-378/
END:VEVENT
BEGIN:VEVENT
DTSTART;TZID=Europe/Stockholm:20211014T190000
DTEND;TZID=Europe/Stockholm:20211014T190000
DTSTAMP:20260424T095834
CREATED:20210928T125028Z
LAST-MODIFIED:20210928T125931Z
UID:4357-1634238000-1634238000@www.boden.pingst.se
SUMMARY:LP-möte
DESCRIPTION:med Anton Björkman
URL:https://www.boden.pingst.se/handelse/lp-mote-253/
END:VEVENT
BEGIN:VEVENT
DTSTART;TZID=Europe/Stockholm:20211017T110000
DTEND;TZID=Europe/Stockholm:20211017T110000
DTSTAMP:20260424T095834
CREATED:20210825T120427Z
LAST-MODIFIED:20210903T125238Z
UID:4318-1634468400-1634468400@www.boden.pingst.se
SUMMARY:Gudstjänst
DESCRIPTION:Marcus Sandström predikar\, vi lovsjunger och ber tillsammans. Barnkyrkan för alla barn. Böneämnen skickas till 070-233 21 25. Välkommen att vara med i kyrkan eller via sändningen på Facebook och närradion!
URL:https://www.boden.pingst.se/handelse/gudstjanst-379/
END:VEVENT
BEGIN:VEVENT
DTSTART;TZID=Europe/Stockholm:20211020T130000
DTEND;TZID=Europe/Stockholm:20211020T130000
DTSTAMP:20260424T095834
CREATED:20210928T130205Z
LAST-MODIFIED:20210928T130205Z
UID:4360-1634734800-1634734800@www.boden.pingst.se
SUMMARY:Allträff
DESCRIPTION:med Lena Tegström. Tema ”30 år som lokalredaktör på NSD”
URL:https://www.boden.pingst.se/handelse/alltraff-32/
END:VEVENT
BEGIN:VEVENT
DTSTART;TZID=Europe/Stockholm:20211021T190000
DTEND;TZID=Europe/Stockholm:20211021T190000
DTSTAMP:20260424T095834
CREATED:20210928T125731Z
LAST-MODIFIED:20210928T125731Z
UID:4358-1634842800-1634842800@www.boden.pingst.se
SUMMARY:LP-möte
DESCRIPTION:med Johan Blomqvist
URL:https://www.boden.pingst.se/handelse/lp-mote-254/
END:VEVENT
BEGIN:VEVENT
DTSTART;TZID=Europe/Stockholm:20211022T170000
DTEND;TZID=Europe/Stockholm:20211022T170000
DTSTAMP:20260424T095834
CREATED:20210928T130419Z
LAST-MODIFIED:20210928T130517Z
UID:4361-1634922000-1634922000@www.boden.pingst.se
SUMMARY:Minibrass
DESCRIPTION:
URL:https://www.boden.pingst.se/handelse/minibrass-17/
END:VEVENT
BEGIN:VEVENT
DTSTART;TZID=Europe/Stockholm:20211022T173000
DTEND;TZID=Europe/Stockholm:20211022T173000
DTSTAMP:20260424T095834
CREATED:20211018T075216Z
LAST-MODIFIED:20211018T075216Z
UID:4371-1634923800-1634923800@www.boden.pingst.se
SUMMARY:Ung på Noah's till Kustkyrkan
DESCRIPTION:
URL:https://www.boden.pingst.se/handelse/ung-pa-noahs-till-kustkyrkan/
END:VEVENT
BEGIN:VEVENT
DTSTART;TZID=Europe/Stockholm:20211022T180000
DTEND;TZID=Europe/Stockholm:20211022T180000
DTSTAMP:20260424T095834
CREATED:20211018T075132Z
LAST-MODIFIED:20211018T075132Z
UID:4370-1634925600-1634925600@www.boden.pingst.se
SUMMARY:Miniton & Glädjeton
DESCRIPTION:
URL:https://www.boden.pingst.se/handelse/miniton-gladjeton-4/
END:VEVENT
BEGIN:VEVENT
DTSTART;TZID=Europe/Stockholm:20211024T110000
DTEND;TZID=Europe/Stockholm:20211024T110000
DTSTAMP:20260424T095834
CREATED:20210825T120458Z
LAST-MODIFIED:20210928T135303Z
UID:4319-1635073200-1635073200@www.boden.pingst.se
SUMMARY:Gudstjänst
DESCRIPTION:Frida Nyberg predikar\, vi lovsjunger och ber tillsammans. Barnkyrkan för alla barn.  Böneämnen skickas till 070-233 21 25. Välkommen att vara med i kyrkan eller via sändningen på Facebook och närradion!
URL:https://www.boden.pingst.se/handelse/gudstjanst-380/
END:VEVENT
BEGIN:VEVENT
DTSTART;TZID=Europe/Stockholm:20211028T190000
DTEND;TZID=Europe/Stockholm:20211028T190000
DTSTAMP:20260424T095834
CREATED:20210928T125859Z
LAST-MODIFIED:20210928T125859Z
UID:4359-1635447600-1635447600@www.boden.pingst.se
SUMMARY:LP-möte
DESCRIPTION:med Christer Holmgren
URL:https://www.boden.pingst.se/handelse/lp-mote-255/
END:VEVENT
BEGIN:VEVENT
DTSTART;TZID=Europe/Stockholm:20211029T180000
DTEND;TZID=Europe/Stockholm:20211029T180000
DTSTAMP:20260424T095834
CREATED:20210928T130704Z
LAST-MODIFIED:20211012T112741Z
UID:4362-1635530400-1635530400@www.boden.pingst.se
SUMMARY:Superfredag
DESCRIPTION:för alla generationer! Vi sjunger\, leker\, fikar och har en samling tillsammans. Mer information kommer. 
URL:https://www.boden.pingst.se/handelse/superfredag/
END:VEVENT
BEGIN:VEVENT
DTSTART;TZID=Europe/Stockholm:20211031T110000
DTEND;TZID=Europe/Stockholm:20211031T110000
DTSTAMP:20260424T095834
CREATED:20210825T120527Z
LAST-MODIFIED:20210903T125311Z
UID:4320-1635678000-1635678000@www.boden.pingst.se
SUMMARY:Gudstjänst
DESCRIPTION:Caroline Söderström predikar\, vi lovsjunger och ber tillsammans. Barnkyrkan för alla barn.  Böneämnen skickas till 070-233 21 25. Välkommen att vara med i kyrkan eller via sändningen på Facebook och närradion!
URL:https://www.boden.pingst.se/handelse/gudstjanst-381/
END:VEVENT
END:VCALENDAR