BEGIN:VCALENDAR
VERSION:2.0
PRODID:-//Pingstkyrkan i Boden - ECPv6.8.2.1//NONSGML v1.0//EN
CALSCALE:GREGORIAN
METHOD:PUBLISH
X-ORIGINAL-URL:https://www.boden.pingst.se
X-WR-CALDESC:Events for Pingstkyrkan i Boden
REFRESH-INTERVAL;VALUE=DURATION:PT1H
X-Robots-Tag:noindex
X-PUBLISHED-TTL:PT1H
BEGIN:VTIMEZONE
TZID:Europe/Stockholm
BEGIN:DAYLIGHT
TZOFFSETFROM:+0100
TZOFFSETTO:+0200
TZNAME:CEST
DTSTART:20210328T010000
END:DAYLIGHT
BEGIN:STANDARD
TZOFFSETFROM:+0200
TZOFFSETTO:+0100
TZNAME:CET
DTSTART:20211031T010000
END:STANDARD
END:VTIMEZONE
BEGIN:VEVENT
DTSTART;TZID=Europe/Stockholm:20210703T090000
DTEND;TZID=Europe/Stockholm:20210703T090000
DTSTAMP:20260424T143539
CREATED:20210628T135044Z
LAST-MODIFIED:20210628T135044Z
UID:4301-1625302800-1625302800@www.boden.pingst.se
SUMMARY:Bön i stadshuset
DESCRIPTION:
URL:https://www.boden.pingst.se/handelse/bon-i-stadshuset-22/
END:VEVENT
BEGIN:VEVENT
DTSTART;VALUE=DATE:20210708
DTEND;VALUE=DATE:20210709
DTSTAMP:20260424T143539
CREATED:20210607T094620Z
LAST-MODIFIED:20210607T094708Z
UID:4288-1625702400-1625788799@www.boden.pingst.se
SUMMARY:Lappis 2021
DESCRIPTION:Välkommen att vara med på årets digitala Lapplandsvecka! Mer information på www.lappis.se
URL:https://www.boden.pingst.se/handelse/lappis-2021/
END:VEVENT
BEGIN:VEVENT
DTSTART;TZID=Europe/Stockholm:20210712T153000
DTEND;TZID=Europe/Stockholm:20210712T190000
DTSTAMP:20260424T143539
CREATED:20210708T204727Z
LAST-MODIFIED:20210708T204727Z
UID:4303-1626103800-1626116400@www.boden.pingst.se
SUMMARY:Arbetskväll på Ankargården
DESCRIPTION:Vi bjuder på hamburgare och ser till att tömma förråden på grejer. En del kör vi till Brännkläppen och resten till Secondhand. Men dina händer\, fötter och kanske släpvagn behövs för att hjälpa till att sortera och köra bort. Ring gärna o berätta att du kommer (Joanna 070-362 17 79) men ingen anmälan krävs!
URL:https://www.boden.pingst.se/handelse/arbetskvall-pa-ankargarden/
END:VEVENT
BEGIN:VEVENT
DTSTART;TZID=Europe/Stockholm:20210704T110000
DTEND;TZID=Europe/Stockholm:20210704T110000
DTSTAMP:20260424T143539
CREATED:20210607T094428Z
LAST-MODIFIED:20210608T140728Z
UID:4287-1625396400-1625396400@www.boden.pingst.se
SUMMARY:Andakt på Ankargården
DESCRIPTION:
URL:https://www.boden.pingst.se/handelse/sommarkyrka-pa-ankaret/
END:VEVENT
BEGIN:VEVENT
DTSTART;TZID=Europe/Stockholm:20210730T190000
DTEND;TZID=Europe/Stockholm:20210730T190000
DTSTAMP:20260424T143539
CREATED:20210622T132221Z
LAST-MODIFIED:20210622T132221Z
UID:4299-1627671600-1627671600@www.boden.pingst.se
SUMMARY:Hemma hos
DESCRIPTION:för alla ungdomar som börjar åk 7 och uppåt. Mer information finns på Instagram @ungpanoahs.
URL:https://www.boden.pingst.se/handelse/hemma-hos-2/
END:VEVENT
END:VCALENDAR