BEGIN:VCALENDAR
VERSION:2.0
PRODID:-//Pingstkyrkan i Boden - ECPv6.8.2.1//NONSGML v1.0//EN
CALSCALE:GREGORIAN
METHOD:PUBLISH
X-ORIGINAL-URL:https://www.boden.pingst.se
X-WR-CALDESC:Events for Pingstkyrkan i Boden
REFRESH-INTERVAL;VALUE=DURATION:PT1H
X-Robots-Tag:noindex
X-PUBLISHED-TTL:PT1H
BEGIN:VTIMEZONE
TZID:Europe/Stockholm
BEGIN:DAYLIGHT
TZOFFSETFROM:+0100
TZOFFSETTO:+0200
TZNAME:CEST
DTSTART:20210328T010000
END:DAYLIGHT
BEGIN:STANDARD
TZOFFSETFROM:+0200
TZOFFSETTO:+0100
TZNAME:CET
DTSTART:20211031T010000
END:STANDARD
END:VTIMEZONE
BEGIN:VEVENT
DTSTART;TZID=Europe/Stockholm:20210606T110000
DTEND;TZID=Europe/Stockholm:20210606T110000
DTSTAMP:20260424T172623
CREATED:20210531T174101Z
LAST-MODIFIED:20210531T174101Z
UID:4274-1622977200-1622977200@www.boden.pingst.se
SUMMARY:Gudstjänst
DESCRIPTION:med predikan av Marcus Sandström\, bön och lovsång. Gudstjänsten sänds via Facebook och närradion.
URL:https://www.boden.pingst.se/handelse/gudstjanst-370/
END:VEVENT
BEGIN:VEVENT
DTSTART;TZID=Europe/Stockholm:20210606T173000
DTEND;TZID=Europe/Stockholm:20210606T173000
DTSTAMP:20260424T172623
CREATED:20210531T174158Z
LAST-MODIFIED:20210531T174158Z
UID:4275-1623000600-1623000600@www.boden.pingst.se
SUMMARY:Församlingsmöte via Teams
DESCRIPTION:Länken till mötet har skickats ut via medlemsbrev. För information kontakta info@pingstboden.se
URL:https://www.boden.pingst.se/handelse/forsamlingsmote-via-teams-3/
END:VEVENT
BEGIN:VEVENT
DTSTART;TZID=Europe/Stockholm:20210612T090000
DTEND;TZID=Europe/Stockholm:20210612T090000
DTSTAMP:20260424T172623
CREATED:20210607T093930Z
LAST-MODIFIED:20210607T093930Z
UID:4284-1623488400-1623488400@www.boden.pingst.se
SUMMARY:Bön i stadshuset
DESCRIPTION:
URL:https://www.boden.pingst.se/handelse/bon-i-stadshuset-21/
END:VEVENT
BEGIN:VEVENT
DTSTART;TZID=Europe/Stockholm:20210613T110000
DTEND;TZID=Europe/Stockholm:20210613T110000
DTSTAMP:20260424T172623
CREATED:20210604T084641Z
LAST-MODIFIED:20210604T084641Z
UID:4276-1623582000-1623582000@www.boden.pingst.se
SUMMARY:Gudstjänst
DESCRIPTION:med predikan av Frida Nyberg. Sänds via Facebook och närradion.
URL:https://www.boden.pingst.se/handelse/gudstjanst-371/
END:VEVENT
BEGIN:VEVENT
DTSTART;TZID=Europe/Stockholm:20210618T170000
DTEND;TZID=Europe/Stockholm:20210618T170000
DTSTAMP:20260424T172623
CREATED:20210613T100418Z
LAST-MODIFIED:20210613T100418Z
UID:4292-1624035600-1624035600@www.boden.pingst.se
SUMMARY:Familjefredag
DESCRIPTION:Varmt välkommen till Ankargården (Prinsgatan 14) NÄSTA FREDAG den 18/6 klockan 17.00-19.00. Vi bjuder på hamburgare och spelar brännboll tillsammans! Skicka ett sms till 070-233 21 25 (kyrkans mobil) om er familj kommer och hur många ni blir så att vi kan beräkna maten. Hoppas vi ses! \n/Benjamin & Elvira \nOBS! Om restriktionerna ändras eller det blir spöregn kommer vi att behöva skjuta på det. Vi meddelar detta isåfall dagen innan.
URL:https://www.boden.pingst.se/handelse/familjefredag-3/
END:VEVENT
BEGIN:VEVENT
DTSTART;TZID=Europe/Stockholm:20210618T190000
DTEND;TZID=Europe/Stockholm:20210618T190000
DTSTAMP:20260424T172623
CREATED:20210607T095055Z
LAST-MODIFIED:20210607T095055Z
UID:4291-1624042800-1624042800@www.boden.pingst.se
SUMMARY:Hemma hos
DESCRIPTION:för alla ungdomar som börjar åk 7 och uppåt. Mer information finns på Instagram @ungpanoahs.
URL:https://www.boden.pingst.se/handelse/hemma-hos/
END:VEVENT
BEGIN:VEVENT
DTSTART;TZID=Europe/Stockholm:20210620T110000
DTEND;TZID=Europe/Stockholm:20210620T110000
DTSTAMP:20260424T172623
CREATED:20210607T094121Z
LAST-MODIFIED:20210607T094121Z
UID:4285-1624186800-1624186800@www.boden.pingst.se
SUMMARY:Gudstjänst
DESCRIPTION:med predikan\, bön och lovsång. Sänds via Facebook och närradion.
URL:https://www.boden.pingst.se/handelse/gudstjanst-372/
END:VEVENT
BEGIN:VEVENT
DTSTART;TZID=Europe/Stockholm:20210624T180000
DTEND;TZID=Europe/Stockholm:20210624T180000
DTSTAMP:20260424T172623
CREATED:20210622T130435Z
LAST-MODIFIED:20210622T130725Z
UID:4298-1624557600-1624557600@www.boden.pingst.se
SUMMARY:Magasin T
DESCRIPTION:Hur kan vi egentligen veta att Jesus har funnits? Hur ska kyrkan ställa sig till normkritik? Dessa är några av de många ämnen som panelen samtalar om. I programserien ”Magasin T” öppnar Filadelfia Stockholm upp för samtal om tro\, teologi och tvivel. Sänds via Facebook.
URL:https://www.boden.pingst.se/handelse/magasin-t/
END:VEVENT
BEGIN:VEVENT
DTSTART;VALUE=DATE:20210626
DTEND;VALUE=DATE:20210628
DTSTAMP:20260424T172623
CREATED:20210622T125652Z
LAST-MODIFIED:20210622T125652Z
UID:4297-1624665600-1624838399@www.boden.pingst.se
SUMMARY:Ungdomsläger
DESCRIPTION:Mer information hittar du på ungdomarnas Instagram @ungpanoahs.
URL:https://www.boden.pingst.se/handelse/ungdomslager/
END:VEVENT
BEGIN:VEVENT
DTSTART;TZID=Europe/Stockholm:20210627T180000
DTEND;TZID=Europe/Stockholm:20210627T180000
DTSTAMP:20260424T172623
CREATED:20210607T094329Z
LAST-MODIFIED:20210607T094329Z
UID:4286-1624816800-1624816800@www.boden.pingst.se
SUMMARY:Gudstjänst och grillkväll på Ankaret
DESCRIPTION:
URL:https://www.boden.pingst.se/handelse/gudstjanst-och-grillkvall-pa-ankaret/
END:VEVENT
END:VCALENDAR