BEGIN:VCALENDAR
VERSION:2.0
PRODID:-//Pingstkyrkan i Boden - ECPv6.8.2.1//NONSGML v1.0//EN
CALSCALE:GREGORIAN
METHOD:PUBLISH
X-ORIGINAL-URL:https://www.boden.pingst.se
X-WR-CALDESC:Events for Pingstkyrkan i Boden
REFRESH-INTERVAL;VALUE=DURATION:PT1H
X-Robots-Tag:noindex
X-PUBLISHED-TTL:PT1H
BEGIN:VTIMEZONE
TZID:Europe/Stockholm
BEGIN:DAYLIGHT
TZOFFSETFROM:+0100
TZOFFSETTO:+0200
TZNAME:CEST
DTSTART:20210328T010000
END:DAYLIGHT
BEGIN:STANDARD
TZOFFSETFROM:+0200
TZOFFSETTO:+0100
TZNAME:CET
DTSTART:20211031T010000
END:STANDARD
END:VTIMEZONE
BEGIN:VEVENT
DTSTART;TZID=Europe/Stockholm:20210401T180000
DTEND;TZID=Europe/Stockholm:20210401T180000
DTSTAMP:20260425T020256
CREATED:20210324T083623Z
LAST-MODIFIED:20210324T083623Z
UID:4228-1617300000-1617300000@www.boden.pingst.se
SUMMARY:Getsemanestund via närradion
DESCRIPTION:med Marcus Sandström.
URL:https://www.boden.pingst.se/handelse/getsemanestund-via-narradion/
END:VEVENT
BEGIN:VEVENT
DTSTART;TZID=Europe/Stockholm:20210401T180000
DTEND;TZID=Europe/Stockholm:20210401T200000
DTSTAMP:20260425T020256
CREATED:20210324T083350Z
LAST-MODIFIED:20210324T083419Z
UID:4226-1617300000-1617307200@www.boden.pingst.se
SUMMARY:Drop-in nattvard
DESCRIPTION:mellan 18.00-20.00. 8 personer åt gången\, vi håller avstånd och är noggrann med hygien.
URL:https://www.boden.pingst.se/handelse/drop-in-nattvard/
END:VEVENT
BEGIN:VEVENT
DTSTART;TZID=Europe/Stockholm:20210402T110000
DTEND;TZID=Europe/Stockholm:20210402T110000
DTSTAMP:20260425T020256
CREATED:20210324T083526Z
LAST-MODIFIED:20210324T083526Z
UID:4227-1617361200-1617361200@www.boden.pingst.se
SUMMARY:Långfredagsgudstjänst
DESCRIPTION:med Frida Nyberg\, Simon Sjödin mfl. Sänds via Facebook.
URL:https://www.boden.pingst.se/handelse/langfredagsgudstjanst-2/
END:VEVENT
BEGIN:VEVENT
DTSTART;TZID=Europe/Stockholm:20210404T100000
DTEND;TZID=Europe/Stockholm:20210404T100000
DTSTAMP:20260425T020256
CREATED:20210324T090031Z
LAST-MODIFIED:20210324T090031Z
UID:4229-1617530400-1617530400@www.boden.pingst.se
SUMMARY:Påskvandring utomhus
DESCRIPTION:Välkommen att gå en promenad i med påsken i fokus\, du kan välja en kortare eller längre runda och får ta del av påskens berättelse\, samtala och be tillsammans med de du promenerar med.
URL:https://www.boden.pingst.se/handelse/paskvandring-utomhus/
END:VEVENT
BEGIN:VEVENT
DTSTART;TZID=Europe/Stockholm:20210404T100000
DTEND;TZID=Europe/Stockholm:20210404T100000
DTSTAMP:20260425T020256
CREATED:20210324T090236Z
LAST-MODIFIED:20210324T090236Z
UID:4230-1617530400-1617530400@www.boden.pingst.se
SUMMARY:Påskfest för alla barn
DESCRIPTION:på gården vid Ankaret. Det blir äggjakt\, lekar och vi kommer att prata om varför vi firar påsk.
URL:https://www.boden.pingst.se/handelse/paskfest-for-alla-barn/
END:VEVENT
BEGIN:VEVENT
DTSTART;TZID=Europe/Stockholm:20210404T110000
DTEND;TZID=Europe/Stockholm:20210404T110000
DTSTAMP:20260425T020256
CREATED:20210324T090323Z
LAST-MODIFIED:20210324T090323Z
UID:4231-1617534000-1617534000@www.boden.pingst.se
SUMMARY:Gudstjänst via närradion
DESCRIPTION:Vi sänder en tidigare påskgudstjänst via närradion.
URL:https://www.boden.pingst.se/handelse/gudstjanst-via-narradion/
END:VEVENT
BEGIN:VEVENT
DTSTART;TZID=Europe/Stockholm:20210416T130000
DTEND;TZID=Europe/Stockholm:20210416T130000
DTSTAMP:20260425T020256
CREATED:20210412T125341Z
LAST-MODIFIED:20210412T125341Z
UID:4237-1618578000-1618578000@www.boden.pingst.se
SUMMARY:After School
DESCRIPTION:i kyrkan för barn i åk2-6. 
URL:https://www.boden.pingst.se/handelse/after-school-3-2/
END:VEVENT
BEGIN:VEVENT
DTSTART;TZID=Europe/Stockholm:20210416T193000
DTEND;TZID=Europe/Stockholm:20210416T193000
DTSTAMP:20260425T020256
CREATED:20210412T125423Z
LAST-MODIFIED:20210412T125423Z
UID:4238-1618601400-1618601400@www.boden.pingst.se
SUMMARY:Ung på Noah's
DESCRIPTION:
URL:https://www.boden.pingst.se/handelse/ung-pa-noahs-31-2/
END:VEVENT
BEGIN:VEVENT
DTSTART;TZID=Europe/Stockholm:20210417T090000
DTEND;TZID=Europe/Stockholm:20210417T090000
DTSTAMP:20260425T020256
CREATED:20210412T125516Z
LAST-MODIFIED:20210412T130731Z
UID:4239-1618650000-1618650000@www.boden.pingst.se
SUMMARY:Bön i stadshuset
DESCRIPTION:
URL:https://www.boden.pingst.se/handelse/bon-i-stadshuset-20-2/
END:VEVENT
BEGIN:VEVENT
DTSTART;TZID=Europe/Stockholm:20210418T110000
DTEND;TZID=Europe/Stockholm:20210418T110000
DTSTAMP:20260425T020256
CREATED:20210412T125736Z
LAST-MODIFIED:20210412T125736Z
UID:4241-1618743600-1618743600@www.boden.pingst.se
SUMMARY:Gudstjänst
DESCRIPTION:med Marcus Sandström\, bön och lovsång. Sänds via Facebook och närradion.
URL:https://www.boden.pingst.se/handelse/gudstjanst-363/
END:VEVENT
BEGIN:VEVENT
DTSTART;TZID=Europe/Stockholm:20210422T180000
DTEND;TZID=Europe/Stockholm:20210422T180000
DTSTAMP:20260425T020256
CREATED:20210412T131036Z
LAST-MODIFIED:20210412T131036Z
UID:4244-1619114400-1619114400@www.boden.pingst.se
SUMMARY:Bibelstudium
DESCRIPTION:via Facebook och närradion. \nI samarbete med Studieförbundet Bilda.
URL:https://www.boden.pingst.se/handelse/bibelstudium-8/
END:VEVENT
BEGIN:VEVENT
DTSTART;TZID=Europe/Stockholm:20210425T110000
DTEND;TZID=Europe/Stockholm:20210425T110000
DTSTAMP:20260425T020256
CREATED:20210412T130002Z
LAST-MODIFIED:20210412T130002Z
UID:4242-1619348400-1619348400@www.boden.pingst.se
SUMMARY:Gudstjänst
DESCRIPTION:med Frida Nyberg\, bön och lovsång. Sänds via Facebook och närradion.
URL:https://www.boden.pingst.se/handelse/gudstjanst-364/
END:VEVENT
END:VCALENDAR