BEGIN:VCALENDAR
VERSION:2.0
PRODID:-//Pingstkyrkan i Boden - ECPv6.8.2.1//NONSGML v1.0//EN
CALSCALE:GREGORIAN
METHOD:PUBLISH
X-ORIGINAL-URL:https://www.boden.pingst.se
X-WR-CALDESC:Events for Pingstkyrkan i Boden
REFRESH-INTERVAL;VALUE=DURATION:PT1H
X-Robots-Tag:noindex
X-PUBLISHED-TTL:PT1H
BEGIN:VTIMEZONE
TZID:Europe/Stockholm
BEGIN:DAYLIGHT
TZOFFSETFROM:+0100
TZOFFSETTO:+0200
TZNAME:CEST
DTSTART:20200329T010000
END:DAYLIGHT
BEGIN:STANDARD
TZOFFSETFROM:+0200
TZOFFSETTO:+0100
TZNAME:CET
DTSTART:20201025T010000
END:STANDARD
END:VTIMEZONE
BEGIN:VEVENT
DTSTART;TZID=Europe/Stockholm:20200906T110000
DTEND;TZID=Europe/Stockholm:20200906T110000
DTSTAMP:20260425T212233
CREATED:20200830T100107Z
LAST-MODIFIED:20200830T100107Z
UID:4059-1599390000-1599390000@www.boden.pingst.se
SUMMARY:Höstupptakt
DESCRIPTION:Söndagen den 6/9 vill vi inbjuda hela församlingen till en höstupptakt på gården vid Ankaret (Prinsgatan 14). Vi kommer att fördela oss på tre tider under dagen; 11.00\, 13.00 och 15.00 för att inte överskrida 50-gränsen. Vi vill vid det här tillfället mötas (på säkert avstånd) för att dela Guds ord\, lovsjunga och be tillsammans. Vi kommer också att ge aktuell information om hösten och du får möjlighet att ställa frågor. Ta med något att sitta på och eget kyrkfika (om du vill). Vi bjuder på glass till alla barn! \nAv omsorg till varandra följer vi de restriktioner som gäller. Om du inte har möjlighet att närvara så sänder vi live på Facebook från upptakten klockan 11.00.
URL:https://www.boden.pingst.se/handelse/hostupptakt/
END:VEVENT
BEGIN:VEVENT
DTSTART;TZID=Europe/Stockholm:20200913T110000
DTEND;TZID=Europe/Stockholm:20200913T110000
DTSTAMP:20260425T212233
CREATED:20200909T124821Z
LAST-MODIFIED:20200909T124821Z
UID:4064-1599994800-1599994800@www.boden.pingst.se
SUMMARY:Gudstjänst
DESCRIPTION:i kyrkan (max 50 personer)\, via Facebook och närradion. Frida Nyberg predikar och det blir tillfälle för bön och lovsång.
URL:https://www.boden.pingst.se/handelse/gudstjanst-339/
END:VEVENT
BEGIN:VEVENT
DTSTART;TZID=Europe/Stockholm:20200918T180000
DTEND;TZID=Europe/Stockholm:20200918T180000
DTSTAMP:20260425T212233
CREATED:20200909T125150Z
LAST-MODIFIED:20200909T125150Z
UID:4065-1600452000-1600452000@www.boden.pingst.se
SUMMARY:Brännboll för alla familjer
DESCRIPTION:Välkommen att spela brännboll tillsammans med oss och andra familjer vid Brännastrand klockan 18.00-19.30. Det blir brännboll med en rolig twist för alla åldrar!
URL:https://www.boden.pingst.se/handelse/brannboll-for-alla-familjer/
END:VEVENT
BEGIN:VEVENT
DTSTART;TZID=Europe/Stockholm:20200911T193000
DTEND;TZID=Europe/Stockholm:20200911T193000
DTSTAMP:20260425T212233
CREATED:20200830T100308Z
LAST-MODIFIED:20200909T124910Z
UID:4062-1599852600-1599852600@www.boden.pingst.se
SUMMARY:Ung på Noah's
DESCRIPTION:
URL:https://www.boden.pingst.se/handelse/ung-pa-noahs-30/
END:VEVENT
BEGIN:VEVENT
DTSTART;TZID=Europe/Stockholm:20200920T110000
DTEND;TZID=Europe/Stockholm:20200920T110000
DTSTAMP:20260425T212233
CREATED:20200915T090519Z
LAST-MODIFIED:20200915T090519Z
UID:4071-1600599600-1600599600@www.boden.pingst.se
SUMMARY:Gudstjänst
DESCRIPTION:i kyrkan (max 50 personer)\, via Facebook och närradion. Mauritz Danielsson predikar och det blir tillfälle för bön och lovsång. Barnkyrkan på Ankaret. 
URL:https://www.boden.pingst.se/handelse/gudstjanst-340/
END:VEVENT
BEGIN:VEVENT
DTSTART;TZID=Europe/Stockholm:20200925T130000
DTEND;TZID=Europe/Stockholm:20200925T130000
DTSTAMP:20260425T212233
CREATED:20200909T125336Z
LAST-MODIFIED:20200909T125336Z
UID:4066-1601038800-1601038800@www.boden.pingst.se
SUMMARY:After school
DESCRIPTION:After school är för alla barn som går i 2:an-6:an varannan fredag klockan 13.00-16.00 på Noah’s. Vi käkar gott fredagsmellis\, umgås och har roligt tillsammans!
URL:https://www.boden.pingst.se/handelse/after-school-2/
END:VEVENT
BEGIN:VEVENT
DTSTART;TZID=Europe/Stockholm:20200926T090000
DTEND;TZID=Europe/Stockholm:20200926T090000
DTSTAMP:20260425T212233
CREATED:20200726T072353Z
LAST-MODIFIED:20200915T091023Z
UID:4050-1601110800-1601110800@www.boden.pingst.se
SUMMARY:Bön i stadshuset
DESCRIPTION:
URL:https://www.boden.pingst.se/handelse/bon-i-stadshuset-18/
END:VEVENT
BEGIN:VEVENT
DTSTART;TZID=Europe/Stockholm:20200927T110000
DTEND;TZID=Europe/Stockholm:20200927T110000
DTSTAMP:20260425T212233
CREATED:20200915T090604Z
LAST-MODIFIED:20200915T090604Z
UID:4072-1601204400-1601204400@www.boden.pingst.se
SUMMARY:Gudstjänst
DESCRIPTION:i kyrkan (max 50 personer)\, via Facebook och närradion. Frida Nyberg predikar och det blir tillfälle för bön och lovsång. Barnkyrkan på Ankaret. 
URL:https://www.boden.pingst.se/handelse/gudstjanst-341/
END:VEVENT
END:VCALENDAR