BEGIN:VCALENDAR
VERSION:2.0
PRODID:-//Pingstkyrkan i Boden - ECPv6.8.2.1//NONSGML v1.0//EN
CALSCALE:GREGORIAN
METHOD:PUBLISH
X-WR-CALNAME:Pingstkyrkan i Boden
X-ORIGINAL-URL:https://www.boden.pingst.se
X-WR-CALDESC:Events for Pingstkyrkan i Boden
REFRESH-INTERVAL;VALUE=DURATION:PT1H
X-Robots-Tag:noindex
X-PUBLISHED-TTL:PT1H
BEGIN:VTIMEZONE
TZID:Europe/Stockholm
BEGIN:DAYLIGHT
TZOFFSETFROM:+0100
TZOFFSETTO:+0200
TZNAME:CEST
DTSTART:20180325T010000
END:DAYLIGHT
BEGIN:STANDARD
TZOFFSETFROM:+0200
TZOFFSETTO:+0100
TZNAME:CET
DTSTART:20181028T010000
END:STANDARD
END:VTIMEZONE
BEGIN:VEVENT
DTSTART;TZID=Europe/Stockholm:20181029T180000
DTEND;TZID=Europe/Stockholm:20181029T190000
DTSTAMP:20260423T202624
CREATED:20181024T133944Z
LAST-MODIFIED:20181024T133944Z
UID:3297-1540836000-1540839600@www.boden.pingst.se
SUMMARY:Öppen kyrka för bön
DESCRIPTION:Varje måndag kl 18-19 är kyrkan öppen för bön för framtiden och församlingen\, inget uppstyrt utan bara ett tillfälle att samlas och ta tid att söka och lyssna in Gud. Välkommen!
URL:https://www.boden.pingst.se/handelse/oppen-kyrka-for-bon-2/
END:VEVENT
BEGIN:VEVENT
DTSTART;TZID=Europe/Stockholm:20181028T110000
DTEND;TZID=Europe/Stockholm:20181028T110000
DTSTAMP:20260423T202624
CREATED:20180928T080447Z
LAST-MODIFIED:20180928T080447Z
UID:3263-1540724400-1540724400@www.boden.pingst.se
SUMMARY:Gudstjänst
DESCRIPTION:med Stefan Sigfrids\, Sjung mé\, Barnkyrkan och kyrkkaffe efteråt
URL:https://www.boden.pingst.se/handelse/gudstjanst-264/
END:VEVENT
BEGIN:VEVENT
DTSTART;TZID=Europe/Stockholm:20181027T170000
DTEND;TZID=Europe/Stockholm:20181027T170000
DTSTAMP:20260423T202624
CREATED:20180928T080300Z
LAST-MODIFIED:20180928T080341Z
UID:3262-1540659600-1540659600@www.boden.pingst.se
SUMMARY:Tacomiddag
DESCRIPTION:ANMÄLAN sker till 070-2332125 senast den 23/10. Pris ca 50kr/vuxen (över 13år) och 20kr/barn.
URL:https://www.boden.pingst.se/handelse/tacomiddag-3/
END:VEVENT
BEGIN:VEVENT
DTSTART;TZID=Europe/Stockholm:20181027T150000
DTEND;TZID=Europe/Stockholm:20181027T150000
DTSTAMP:20260423T202624
CREATED:20180928T080203Z
LAST-MODIFIED:20180928T080203Z
UID:3261-1540652400-1540652400@www.boden.pingst.se
SUMMARY:Bibelstudium\, pass 2
DESCRIPTION:med Stefan Sigfrids\, ingen anmälan krävs
URL:https://www.boden.pingst.se/handelse/bibelstudium-pass-2/
END:VEVENT
BEGIN:VEVENT
DTSTART;TZID=Europe/Stockholm:20181027T130000
DTEND;TZID=Europe/Stockholm:20181027T130000
DTSTAMP:20260423T202624
CREATED:20180928T080132Z
LAST-MODIFIED:20180928T080510Z
UID:3260-1540645200-1540645200@www.boden.pingst.se
SUMMARY:Bibelstudium\, pass 1
DESCRIPTION:med Stefan Sigfrids\, ingen anmälan krävs
URL:https://www.boden.pingst.se/handelse/bibelstudium-4/
END:VEVENT
BEGIN:VEVENT
DTSTART;TZID=Europe/Stockholm:20181026T210000
DTEND;TZID=Europe/Stockholm:20181026T210000
DTSTAMP:20260423T202624
CREATED:20180928T080018Z
LAST-MODIFIED:20180928T080018Z
UID:3259-1540587600-1540587600@www.boden.pingst.se
SUMMARY:Tjugoett
DESCRIPTION:med Stefan Sigfrids
URL:https://www.boden.pingst.se/handelse/tjugoett-11/
END:VEVENT
BEGIN:VEVENT
DTSTART;TZID=Europe/Stockholm:20181026T193000
DTEND;TZID=Europe/Stockholm:20181026T193000
DTSTAMP:20260423T202624
CREATED:20180928T080918Z
LAST-MODIFIED:20180928T080918Z
UID:3264-1540582200-1540582200@www.boden.pingst.se
SUMMARY:Häng på Noah's
DESCRIPTION:innan Tjugoett börjar. Välkommen!
URL:https://www.boden.pingst.se/handelse/hang-pa-noahs-2/
END:VEVENT
BEGIN:VEVENT
DTSTART;TZID=Europe/Stockholm:20181026T184500
DTEND;TZID=Europe/Stockholm:20181026T184500
DTSTAMP:20260423T202624
CREATED:20181017T114256Z
LAST-MODIFIED:20181017T114256Z
UID:3284-1540579500-1540579500@www.boden.pingst.se
SUMMARY:Mixen
DESCRIPTION:
URL:https://www.boden.pingst.se/handelse/mixen-17/
END:VEVENT
BEGIN:VEVENT
DTSTART;TZID=Europe/Stockholm:20181026T180000
DTEND;TZID=Europe/Stockholm:20181026T180000
DTSTAMP:20260423T202624
CREATED:20181017T114227Z
LAST-MODIFIED:20181017T114227Z
UID:3283-1540576800-1540576800@www.boden.pingst.se
SUMMARY:Glädjeton och Miniton
DESCRIPTION:
URL:https://www.boden.pingst.se/handelse/gladjeton-och-miniton-7/
END:VEVENT
BEGIN:VEVENT
DTSTART;TZID=Europe/Stockholm:20181025T190000
DTEND;TZID=Europe/Stockholm:20181025T190000
DTSTAMP:20260423T202624
CREATED:20180928T075914Z
LAST-MODIFIED:20180928T075914Z
UID:3258-1540494000-1540494000@www.boden.pingst.se
SUMMARY:LP-möte
DESCRIPTION:med Håkan Nylander\, LP-vännerna sjunger
URL:https://www.boden.pingst.se/handelse/lp-mote-199/
END:VEVENT
BEGIN:VEVENT
DTSTART;TZID=Europe/Stockholm:20181021T110000
DTEND;TZID=Europe/Stockholm:20181021T110000
DTSTAMP:20260423T202624
CREATED:20180928T075747Z
LAST-MODIFIED:20180928T075747Z
UID:3257-1540119600-1540119600@www.boden.pingst.se
SUMMARY:Gudstjänst
DESCRIPTION:med Malte Holmquist\, Barnkyrkan\, nattvard och sen efteråt kyrkfika
URL:https://www.boden.pingst.se/handelse/gudstjanst-263/
END:VEVENT
BEGIN:VEVENT
DTSTART;VALUE=DATE:20181020
DTEND;VALUE=DATE:20181021
DTSTAMP:20260423T202624
CREATED:20180928T075646Z
LAST-MODIFIED:20180928T075646Z
UID:3256-1539993600-1540079999@www.boden.pingst.se
SUMMARY:Pingst Ledare i Umeå
DESCRIPTION:mer information om hur man anmäler sig kommer. Information om dagen finns på pingst.se/ledare.
URL:https://www.boden.pingst.se/handelse/pingst-ledare-i-umea/
END:VEVENT
BEGIN:VEVENT
DTSTART;TZID=Europe/Stockholm:20181019T183000
DTEND;TZID=Europe/Stockholm:20181019T183000
DTSTAMP:20260423T202624
CREATED:20180928T075525Z
LAST-MODIFIED:20180928T075525Z
UID:3255-1539973800-1539973800@www.boden.pingst.se
SUMMARY:Höstfest
DESCRIPTION:för våra barngrupper med familjer. Glädjeton och Miniton sjunger\, det blir Bibelutdelning och efteråt fikar vi tillsammans!
URL:https://www.boden.pingst.se/handelse/hostfest-6/
END:VEVENT
BEGIN:VEVENT
DTSTART;TZID=Europe/Stockholm:20181018T190000
DTEND;TZID=Europe/Stockholm:20181018T190000
DTSTAMP:20260423T202624
CREATED:20180928T075342Z
LAST-MODIFIED:20180928T075342Z
UID:3254-1539889200-1539889200@www.boden.pingst.se
SUMMARY:LP-möte
DESCRIPTION:med Maine Lindström\, LP-vännerna sjunger
URL:https://www.boden.pingst.se/handelse/lp-mote-198/
END:VEVENT
BEGIN:VEVENT
DTSTART;TZID=Europe/Stockholm:20181017T130000
DTEND;TZID=Europe/Stockholm:20181017T130000
DTSTAMP:20260423T202624
CREATED:20180928T075313Z
LAST-MODIFIED:20180928T075313Z
UID:3253-1539781200-1539781200@www.boden.pingst.se
SUMMARY:Allträff
DESCRIPTION:”min väg till tron” med Caroline Söderström
URL:https://www.boden.pingst.se/handelse/alltraff-22/
END:VEVENT
BEGIN:VEVENT
DTSTART;TZID=Europe/Stockholm:20181014T180000
DTEND;TZID=Europe/Stockholm:20181014T180000
DTSTAMP:20260423T202624
CREATED:20181004T120155Z
LAST-MODIFIED:20181004T120155Z
UID:3276-1539540000-1539540000@www.boden.pingst.se
SUMMARY:Församlingskväll
DESCRIPTION:för medlemmar. Fokus på föreståndarfrågan och framtiden. Välkommen!
URL:https://www.boden.pingst.se/handelse/forsamlingskvall-4/
END:VEVENT
BEGIN:VEVENT
DTSTART;TZID=Europe/Stockholm:20181014T110000
DTEND;TZID=Europe/Stockholm:20181014T110000
DTSTAMP:20260423T202624
CREATED:20180928T075020Z
LAST-MODIFIED:20180928T075020Z
UID:3251-1539514800-1539514800@www.boden.pingst.se
SUMMARY:Gudstjänst
DESCRIPTION:med Christer Holmgren\, Barnkyrkan\, kyrkfika efteråt
URL:https://www.boden.pingst.se/handelse/gudstjanst-262/
END:VEVENT
BEGIN:VEVENT
DTSTART;TZID=Europe/Stockholm:20181013T090000
DTEND;TZID=Europe/Stockholm:20181013T090000
DTSTAMP:20260423T202624
CREATED:20180928T075121Z
LAST-MODIFIED:20180928T075121Z
UID:3252-1539421200-1539421200@www.boden.pingst.se
SUMMARY:Bön i stadshuset
DESCRIPTION:
URL:https://www.boden.pingst.se/handelse/bon-i-stadshuset-13/
END:VEVENT
BEGIN:VEVENT
DTSTART;TZID=Europe/Stockholm:20181011T190000
DTEND;TZID=Europe/Stockholm:20181011T190000
DTSTAMP:20260423T202624
CREATED:20180928T074907Z
LAST-MODIFIED:20180928T074907Z
UID:3250-1539284400-1539284400@www.boden.pingst.se
SUMMARY:LP-möte
DESCRIPTION:med Anton Björkman\, LP-vännerna sjunger
URL:https://www.boden.pingst.se/handelse/lp-mote-197/
END:VEVENT
BEGIN:VEVENT
DTSTART;TZID=Europe/Stockholm:20181009T190000
DTEND;TZID=Europe/Stockholm:20181009T190000
DTSTAMP:20260423T202624
CREATED:20180928T074818Z
LAST-MODIFIED:20180928T074818Z
UID:3249-1539111600-1539111600@www.boden.pingst.se
SUMMARY:Bibelupptäckargrupp
DESCRIPTION:
URL:https://www.boden.pingst.se/handelse/bibelupptackargrupp-7/
END:VEVENT
BEGIN:VEVENT
DTSTART;TZID=Europe/Stockholm:20181007T110000
DTEND;TZID=Europe/Stockholm:20181007T110000
DTSTAMP:20260423T202624
CREATED:20180919T094141Z
LAST-MODIFIED:20180919T094141Z
UID:3231-1538910000-1538910000@www.boden.pingst.se
SUMMARY:Gudstjänst
DESCRIPTION:med Niclas Gyllroth\, Sjung mé sjunger\, kyrkfika och församlingsmöte efteråt
URL:https://www.boden.pingst.se/handelse/gudstjanst-261/
END:VEVENT
BEGIN:VEVENT
DTSTART;TZID=Europe/Stockholm:20181005T183000
DTEND;TZID=Europe/Stockholm:20181005T183000
DTSTAMP:20260423T202624
CREATED:20180928T074707Z
LAST-MODIFIED:20180928T074707Z
UID:3248-1538764200-1538764200@www.boden.pingst.se
SUMMARY:Ung på Noah's åker till Luleå
DESCRIPTION:Samling för avresa 18.30
URL:https://www.boden.pingst.se/handelse/ung-pa-noahs-aker-till-lulea/
END:VEVENT
BEGIN:VEVENT
DTSTART;TZID=Europe/Stockholm:20181004T190000
DTEND;TZID=Europe/Stockholm:20181004T190000
DTSTAMP:20260423T202624
CREATED:20180919T094030Z
LAST-MODIFIED:20180919T094030Z
UID:3230-1538679600-1538679600@www.boden.pingst.se
SUMMARY:LP-möte
DESCRIPTION:med Sibylla Engman\, LP-vännerna sjunger
URL:https://www.boden.pingst.se/handelse/lp-mote-196/
END:VEVENT
BEGIN:VEVENT
DTSTART;TZID=Europe/Stockholm:20181001T190000
DTEND;TZID=Europe/Stockholm:20181001T190000
DTSTAMP:20260423T202624
CREATED:20180928T074530Z
LAST-MODIFIED:20180928T080616Z
UID:3247-1538420400-1538420400@www.boden.pingst.se
SUMMARY:Sjung mé-kören övar
DESCRIPTION:
URL:https://www.boden.pingst.se/handelse/sjung-me-ovar-20/
END:VEVENT
BEGIN:VEVENT
DTSTART;TZID=Europe/Stockholm:20181001T163000
DTEND;TZID=Europe/Stockholm:20181001T163000
DTSTAMP:20260423T202624
CREATED:20180919T093953Z
LAST-MODIFIED:20180919T093953Z
UID:3229-1538411400-1538411400@www.boden.pingst.se
SUMMARY:Arbetskväll på Secondhanden
DESCRIPTION:
URL:https://www.boden.pingst.se/handelse/arbetskvall-pa-secondhanden/
END:VEVENT
BEGIN:VEVENT
DTSTART;TZID=Europe/Stockholm:20180930T110000
DTEND;TZID=Europe/Stockholm:20180930T110000
DTSTAMP:20260423T202624
CREATED:20180829T123008Z
LAST-MODIFIED:20180923T080152Z
UID:3205-1538305200-1538305200@www.boden.pingst.se
SUMMARY:Gudstjänst
DESCRIPTION:med barnkörerna Glädjeton och Miniton\, Elvira Hemström\, kyrkfika efteråt
URL:https://www.boden.pingst.se/handelse/gudstjanst-260/
END:VEVENT
BEGIN:VEVENT
DTSTART;TZID=Europe/Stockholm:20180928T210000
DTEND;TZID=Europe/Stockholm:20180928T210000
DTSTAMP:20260423T202624
CREATED:20180919T093012Z
LAST-MODIFIED:20180919T093012Z
UID:3226-1538168400-1538168400@www.boden.pingst.se
SUMMARY:TJUGOETT
DESCRIPTION:med Anton Björkman
URL:https://www.boden.pingst.se/handelse/tjugoett-10/
END:VEVENT
BEGIN:VEVENT
DTSTART;TZID=Europe/Stockholm:20180928T193000
DTEND;TZID=Europe/Stockholm:20180928T193000
DTSTAMP:20260423T202624
CREATED:20180925T071119Z
LAST-MODIFIED:20180925T071119Z
UID:3242-1538163000-1538163000@www.boden.pingst.se
SUMMARY:Häng på Noah's
DESCRIPTION:innan Gudstjänsten börjar
URL:https://www.boden.pingst.se/handelse/hang-pa-noahs/
END:VEVENT
BEGIN:VEVENT
DTSTART;TZID=Europe/Stockholm:20180928T184500
DTEND;TZID=Europe/Stockholm:20180928T200000
DTSTAMP:20260423T202624
CREATED:20180919T093335Z
LAST-MODIFIED:20180919T093335Z
UID:3227-1538160300-1538164800@www.boden.pingst.se
SUMMARY:MIXEN: SUPERFREDAG
DESCRIPTION:
URL:https://www.boden.pingst.se/handelse/mixen-superfredag/
END:VEVENT
BEGIN:VEVENT
DTSTART;TZID=Europe/Stockholm:20180928T080000
DTEND;TZID=Europe/Stockholm:20180928T170000
DTSTAMP:20260423T202624
CREATED:20180928T083946Z
LAST-MODIFIED:20180928T083946Z
UID:3266-1538121600-1538154000@www.boden.pingst.se
SUMMARY:Gudstjänst
DESCRIPTION:med Malte Holmquist\, orkester\, kyrkfika efteråt. Höstlov för Barnkyrkan.
URL:https://www.boden.pingst.se/handelse/gudstjanst-265/
END:VEVENT
END:VCALENDAR