BEGIN:VCALENDAR
VERSION:2.0
PRODID:-//Pingstkyrkan i Boden - ECPv6.8.2.1//NONSGML v1.0//EN
CALSCALE:GREGORIAN
METHOD:PUBLISH
X-WR-CALNAME:Pingstkyrkan i Boden
X-ORIGINAL-URL:https://www.boden.pingst.se
X-WR-CALDESC:Events for Pingstkyrkan i Boden
REFRESH-INTERVAL;VALUE=DURATION:PT1H
X-Robots-Tag:noindex
X-PUBLISHED-TTL:PT1H
BEGIN:VTIMEZONE
TZID:Europe/Stockholm
BEGIN:DAYLIGHT
TZOFFSETFROM:+0100
TZOFFSETTO:+0200
TZNAME:CEST
DTSTART:20180325T010000
END:DAYLIGHT
BEGIN:STANDARD
TZOFFSETFROM:+0200
TZOFFSETTO:+0100
TZNAME:CET
DTSTART:20181028T010000
END:STANDARD
END:VTIMEZONE
BEGIN:VEVENT
DTSTART;TZID=Europe/Stockholm:20181125T110000
DTEND;TZID=Europe/Stockholm:20181125T110000
DTSTAMP:20260423T172254
CREATED:20181024T135603Z
LAST-MODIFIED:20181024T135603Z
UID:3312-1543143600-1543143600@www.boden.pingst.se
SUMMARY:Gudstjänst
DESCRIPTION:med Malte Holmquist\, Barnkyrkan och efteråt kyrkfika
URL:https://www.boden.pingst.se/handelse/gudstjanst-269/
END:VEVENT
BEGIN:VEVENT
DTSTART;TZID=Europe/Stockholm:20181123T183000
DTEND;TZID=Europe/Stockholm:20181123T183000
DTSTAMP:20260423T172254
CREATED:20181024T135513Z
LAST-MODIFIED:20181024T135513Z
UID:3311-1542997800-1542997800@www.boden.pingst.se
SUMMARY:Ung på Noah's till Klöverträsk
DESCRIPTION:Samling för avfärd 18.30
URL:https://www.boden.pingst.se/handelse/ung-pa-noahs-till-klovertrask/
END:VEVENT
BEGIN:VEVENT
DTSTART;TZID=Europe/Stockholm:20181122T190000
DTEND;TZID=Europe/Stockholm:20181122T190000
DTSTAMP:20260423T172254
CREATED:20181024T135430Z
LAST-MODIFIED:20181024T135430Z
UID:3310-1542913200-1542913200@www.boden.pingst.se
SUMMARY:LP-möte
DESCRIPTION:med Ove Glennemo\, LP-vännerna sjunger
URL:https://www.boden.pingst.se/handelse/lp-mote-203/
END:VEVENT
BEGIN:VEVENT
DTSTART;TZID=Europe/Stockholm:20181121T130000
DTEND;TZID=Europe/Stockholm:20181121T130000
DTSTAMP:20260423T172254
CREATED:20181024T135356Z
LAST-MODIFIED:20181024T135356Z
UID:3309-1542805200-1542805200@www.boden.pingst.se
SUMMARY:Dagträff i Bredåker
DESCRIPTION:med Thor Bygdén
URL:https://www.boden.pingst.se/handelse/dagtraff-i-bredaker-6/
END:VEVENT
BEGIN:VEVENT
DTSTART;TZID=Europe/Stockholm:20181118T110000
DTEND;TZID=Europe/Stockholm:20181118T110000
DTSTAMP:20260423T172254
CREATED:20181024T135243Z
LAST-MODIFIED:20181111T083830Z
UID:3308-1542538800-1542538800@www.boden.pingst.se
SUMMARY:Gudstjänst
DESCRIPTION:David Sundström\, Barnkyrkan\, barnvälsignelse\, nattvard och efteråt kyrkfika
URL:https://www.boden.pingst.se/handelse/gudstjanst-268/
END:VEVENT
BEGIN:VEVENT
DTSTART;TZID=Europe/Stockholm:20181117T190000
DTEND;TZID=Europe/Stockholm:20181117T190000
DTSTAMP:20260423T172254
CREATED:20181024T140114Z
LAST-MODIFIED:20181024T140114Z
UID:3315-1542481200-1542481200@www.boden.pingst.se
SUMMARY:Soul Children Gudstjänst
DESCRIPTION:
URL:https://www.boden.pingst.se/handelse/soul-children-gudstjanst/
END:VEVENT
BEGIN:VEVENT
DTSTART;TZID=Europe/Stockholm:20181117T093000
DTEND;TZID=Europe/Stockholm:20181117T093000
DTSTAMP:20260423T172254
CREATED:20181024T140243Z
LAST-MODIFIED:20181024T140258Z
UID:3316-1542447000-1542447000@www.boden.pingst.se
SUMMARY:Soul Children Gathering
DESCRIPTION:Kördag för barn och ungdomar i åldrarna 10-16. Anmälan krävs\, mer information HÄR.
URL:https://www.boden.pingst.se/handelse/soul-children-gathering/
END:VEVENT
BEGIN:VEVENT
DTSTART;TZID=Europe/Stockholm:20181116T193000
DTEND;TZID=Europe/Stockholm:20181116T193000
DTSTAMP:20260423T172254
CREATED:20181024T135113Z
LAST-MODIFIED:20181024T135113Z
UID:3307-1542396600-1542396600@www.boden.pingst.se
SUMMARY:Ung på Noah's
DESCRIPTION:
URL:https://www.boden.pingst.se/handelse/ung-pa-noahs-17/
END:VEVENT
BEGIN:VEVENT
DTSTART;TZID=Europe/Stockholm:20181115T190000
DTEND;TZID=Europe/Stockholm:20181115T190000
DTSTAMP:20260423T172254
CREATED:20181024T135034Z
LAST-MODIFIED:20181024T135034Z
UID:3306-1542308400-1542308400@www.boden.pingst.se
SUMMARY:LP-möte
DESCRIPTION:med Allan Näsvall\, LP-vännerna sjunger
URL:https://www.boden.pingst.se/handelse/lp-mote-202/
END:VEVENT
BEGIN:VEVENT
DTSTART;TZID=Europe/Stockholm:20181114T130000
DTEND;TZID=Europe/Stockholm:20181114T130000
DTSTAMP:20260423T172254
CREATED:20181024T134958Z
LAST-MODIFIED:20181024T134958Z
UID:3305-1542200400-1542200400@www.boden.pingst.se
SUMMARY:Allträff
DESCRIPTION:med Samuel Folkesten – ”min vandring med Gud”
URL:https://www.boden.pingst.se/handelse/alltraff-23/
END:VEVENT
BEGIN:VEVENT
DTSTART;TZID=Europe/Stockholm:20181111T110000
DTEND;TZID=Europe/Stockholm:20181111T110000
DTSTAMP:20260423T172254
CREATED:20181024T134739Z
LAST-MODIFIED:20181024T134739Z
UID:3304-1541934000-1541934000@www.boden.pingst.se
SUMMARY:Gudstjänst
DESCRIPTION:med Caroline Söderström\, Barnkyrkan för alla barn\, kyrkfika efteråt
URL:https://www.boden.pingst.se/handelse/gudstjanst-267/
END:VEVENT
BEGIN:VEVENT
DTSTART;TZID=Europe/Stockholm:20181109T184500
DTEND;TZID=Europe/Stockholm:20181109T184500
DTSTAMP:20260423T172254
CREATED:20181024T134439Z
LAST-MODIFIED:20181024T134439Z
UID:3302-1541789100-1541789100@www.boden.pingst.se
SUMMARY:Mixen
DESCRIPTION:roliga aktiviteter för barn i åldrarna 8-13
URL:https://www.boden.pingst.se/handelse/mixen-19/
END:VEVENT
BEGIN:VEVENT
DTSTART;TZID=Europe/Stockholm:20181109T180000
DTEND;TZID=Europe/Stockholm:20181109T180000
DTSTAMP:20260423T172254
CREATED:20181024T134533Z
LAST-MODIFIED:20181024T134533Z
UID:3303-1541786400-1541786400@www.boden.pingst.se
SUMMARY:Ung på Noah's åker till Jävre
DESCRIPTION:Samling för avresa 18.00
URL:https://www.boden.pingst.se/handelse/ung-pa-noahs-aker-till-javre/
END:VEVENT
BEGIN:VEVENT
DTSTART;TZID=Europe/Stockholm:20181109T180000
DTEND;TZID=Europe/Stockholm:20181109T180000
DTSTAMP:20260423T172254
CREATED:20181024T134340Z
LAST-MODIFIED:20181024T134340Z
UID:3301-1541786400-1541786400@www.boden.pingst.se
SUMMARY:Glädjeton och Miniton
DESCRIPTION:barnkörerna övar – för barn 4-13 år
URL:https://www.boden.pingst.se/handelse/gladjeton-och-miniton-8/
END:VEVENT
BEGIN:VEVENT
DTSTART;TZID=Europe/Stockholm:20181108T190000
DTEND;TZID=Europe/Stockholm:20181108T190000
DTSTAMP:20260423T172254
CREATED:20181024T134220Z
LAST-MODIFIED:20181024T134220Z
UID:3300-1541703600-1541703600@www.boden.pingst.se
SUMMARY:LP-möte
DESCRIPTION:med Tommy Ström\, LP-vännerna sjunger
URL:https://www.boden.pingst.se/handelse/lp-mote-201/
END:VEVENT
BEGIN:VEVENT
DTSTART;TZID=Europe/Stockholm:20181107T183000
DTEND;TZID=Europe/Stockholm:20181107T183000
DTSTAMP:20260423T172254
CREATED:20181024T134141Z
LAST-MODIFIED:20181024T134141Z
UID:3299-1541615400-1541615400@www.boden.pingst.se
SUMMARY:Språkcafé
DESCRIPTION:
URL:https://www.boden.pingst.se/handelse/sprakcafe-11/
END:VEVENT
BEGIN:VEVENT
DTSTART;TZID=Europe/Stockholm:20181105T163000
DTEND;TZID=Europe/Stockholm:20181105T163000
DTSTAMP:20260423T172254
CREATED:20181024T134019Z
LAST-MODIFIED:20181024T134019Z
UID:3298-1541435400-1541435400@www.boden.pingst.se
SUMMARY:Arbetskväll på Secondhanden
DESCRIPTION:
URL:https://www.boden.pingst.se/handelse/arbetskvall-pa-secondhanden-2/
END:VEVENT
BEGIN:VEVENT
DTSTART;TZID=Europe/Stockholm:20181104T110000
DTEND;TZID=Europe/Stockholm:20181104T110000
DTSTAMP:20260423T172254
CREATED:20180928T084250Z
LAST-MODIFIED:20180928T084250Z
UID:3268-1541329200-1541329200@www.boden.pingst.se
SUMMARY:Gudstjänst
DESCRIPTION:med Malte Holmquist\, orkester\, kyrkfika efteråt. Höstlov för Barnkyrkan.
URL:https://www.boden.pingst.se/handelse/gudstjanst-266/
END:VEVENT
BEGIN:VEVENT
DTSTART;TZID=Europe/Stockholm:20181102T180000
DTEND;TZID=Europe/Stockholm:20181102T180000
DTSTAMP:20260423T172254
CREATED:20180928T083755Z
LAST-MODIFIED:20180928T083755Z
UID:3265-1541181600-1541181600@www.boden.pingst.se
SUMMARY:Höstlov för barngrupperna
DESCRIPTION:
URL:https://www.boden.pingst.se/handelse/hostlov-for-barngrupperna/
END:VEVENT
BEGIN:VEVENT
DTSTART;TZID=Europe/Stockholm:20181101T190000
DTEND;TZID=Europe/Stockholm:20181101T190000
DTSTAMP:20260423T172254
CREATED:20180928T084044Z
LAST-MODIFIED:20181024T133752Z
UID:3267-1541098800-1541098800@www.boden.pingst.se
SUMMARY:LP-möte
DESCRIPTION:med Thor Bygdén\, LP-vännerna sjunger
URL:https://www.boden.pingst.se/handelse/lp-mote-200/
END:VEVENT
BEGIN:VEVENT
DTSTART;TZID=Europe/Stockholm:20181029T180000
DTEND;TZID=Europe/Stockholm:20181029T190000
DTSTAMP:20260423T172254
CREATED:20181024T133944Z
LAST-MODIFIED:20181024T133944Z
UID:3297-1540836000-1540839600@www.boden.pingst.se
SUMMARY:Öppen kyrka för bön
DESCRIPTION:Varje måndag kl 18-19 är kyrkan öppen för bön för framtiden och församlingen\, inget uppstyrt utan bara ett tillfälle att samlas och ta tid att söka och lyssna in Gud. Välkommen!
URL:https://www.boden.pingst.se/handelse/oppen-kyrka-for-bon-2/
END:VEVENT
BEGIN:VEVENT
DTSTART;TZID=Europe/Stockholm:20181028T110000
DTEND;TZID=Europe/Stockholm:20181028T110000
DTSTAMP:20260423T172254
CREATED:20180928T080447Z
LAST-MODIFIED:20180928T080447Z
UID:3263-1540724400-1540724400@www.boden.pingst.se
SUMMARY:Gudstjänst
DESCRIPTION:med Stefan Sigfrids\, Sjung mé\, Barnkyrkan och kyrkkaffe efteråt
URL:https://www.boden.pingst.se/handelse/gudstjanst-264/
END:VEVENT
BEGIN:VEVENT
DTSTART;TZID=Europe/Stockholm:20181027T170000
DTEND;TZID=Europe/Stockholm:20181027T170000
DTSTAMP:20260423T172254
CREATED:20180928T080300Z
LAST-MODIFIED:20180928T080341Z
UID:3262-1540659600-1540659600@www.boden.pingst.se
SUMMARY:Tacomiddag
DESCRIPTION:ANMÄLAN sker till 070-2332125 senast den 23/10. Pris ca 50kr/vuxen (över 13år) och 20kr/barn.
URL:https://www.boden.pingst.se/handelse/tacomiddag-3/
END:VEVENT
BEGIN:VEVENT
DTSTART;TZID=Europe/Stockholm:20181027T150000
DTEND;TZID=Europe/Stockholm:20181027T150000
DTSTAMP:20260423T172254
CREATED:20180928T080203Z
LAST-MODIFIED:20180928T080203Z
UID:3261-1540652400-1540652400@www.boden.pingst.se
SUMMARY:Bibelstudium\, pass 2
DESCRIPTION:med Stefan Sigfrids\, ingen anmälan krävs
URL:https://www.boden.pingst.se/handelse/bibelstudium-pass-2/
END:VEVENT
BEGIN:VEVENT
DTSTART;TZID=Europe/Stockholm:20181027T130000
DTEND;TZID=Europe/Stockholm:20181027T130000
DTSTAMP:20260423T172254
CREATED:20180928T080132Z
LAST-MODIFIED:20180928T080510Z
UID:3260-1540645200-1540645200@www.boden.pingst.se
SUMMARY:Bibelstudium\, pass 1
DESCRIPTION:med Stefan Sigfrids\, ingen anmälan krävs
URL:https://www.boden.pingst.se/handelse/bibelstudium-4/
END:VEVENT
BEGIN:VEVENT
DTSTART;TZID=Europe/Stockholm:20181026T210000
DTEND;TZID=Europe/Stockholm:20181026T210000
DTSTAMP:20260423T172254
CREATED:20180928T080018Z
LAST-MODIFIED:20180928T080018Z
UID:3259-1540587600-1540587600@www.boden.pingst.se
SUMMARY:Tjugoett
DESCRIPTION:med Stefan Sigfrids
URL:https://www.boden.pingst.se/handelse/tjugoett-11/
END:VEVENT
BEGIN:VEVENT
DTSTART;TZID=Europe/Stockholm:20181026T193000
DTEND;TZID=Europe/Stockholm:20181026T193000
DTSTAMP:20260423T172254
CREATED:20180928T080918Z
LAST-MODIFIED:20180928T080918Z
UID:3264-1540582200-1540582200@www.boden.pingst.se
SUMMARY:Häng på Noah's
DESCRIPTION:innan Tjugoett börjar. Välkommen!
URL:https://www.boden.pingst.se/handelse/hang-pa-noahs-2/
END:VEVENT
BEGIN:VEVENT
DTSTART;TZID=Europe/Stockholm:20181026T184500
DTEND;TZID=Europe/Stockholm:20181026T184500
DTSTAMP:20260423T172254
CREATED:20181017T114256Z
LAST-MODIFIED:20181017T114256Z
UID:3284-1540579500-1540579500@www.boden.pingst.se
SUMMARY:Mixen
DESCRIPTION:
URL:https://www.boden.pingst.se/handelse/mixen-17/
END:VEVENT
BEGIN:VEVENT
DTSTART;TZID=Europe/Stockholm:20181026T180000
DTEND;TZID=Europe/Stockholm:20181026T180000
DTSTAMP:20260423T172254
CREATED:20181017T114227Z
LAST-MODIFIED:20181017T114227Z
UID:3283-1540576800-1540576800@www.boden.pingst.se
SUMMARY:Glädjeton och Miniton
DESCRIPTION:
URL:https://www.boden.pingst.se/handelse/gladjeton-och-miniton-7/
END:VEVENT
BEGIN:VEVENT
DTSTART;TZID=Europe/Stockholm:20181025T190000
DTEND;TZID=Europe/Stockholm:20181025T190000
DTSTAMP:20260423T172254
CREATED:20180928T075914Z
LAST-MODIFIED:20180928T075914Z
UID:3258-1540494000-1540494000@www.boden.pingst.se
SUMMARY:LP-möte
DESCRIPTION:med Håkan Nylander\, LP-vännerna sjunger
URL:https://www.boden.pingst.se/handelse/lp-mote-199/
END:VEVENT
END:VCALENDAR