BEGIN:VCALENDAR
VERSION:2.0
PRODID:-//Pingstkyrkan i Boden - ECPv6.8.2.1//NONSGML v1.0//EN
CALSCALE:GREGORIAN
METHOD:PUBLISH
X-WR-CALNAME:Pingstkyrkan i Boden
X-ORIGINAL-URL:https://www.boden.pingst.se
X-WR-CALDESC:Events for Pingstkyrkan i Boden
REFRESH-INTERVAL;VALUE=DURATION:PT1H
X-Robots-Tag:noindex
X-PUBLISHED-TTL:PT1H
BEGIN:VTIMEZONE
TZID:Europe/Stockholm
BEGIN:DAYLIGHT
TZOFFSETFROM:+0100
TZOFFSETTO:+0200
TZNAME:CEST
DTSTART:20180325T010000
END:DAYLIGHT
BEGIN:STANDARD
TZOFFSETFROM:+0200
TZOFFSETTO:+0100
TZNAME:CET
DTSTART:20181028T010000
END:STANDARD
BEGIN:DAYLIGHT
TZOFFSETFROM:+0100
TZOFFSETTO:+0200
TZNAME:CEST
DTSTART:20190331T010000
END:DAYLIGHT
BEGIN:STANDARD
TZOFFSETFROM:+0200
TZOFFSETTO:+0100
TZNAME:CET
DTSTART:20191027T010000
END:STANDARD
END:VTIMEZONE
BEGIN:VEVENT
DTSTART;TZID=Europe/Stockholm:20190116T183000
DTEND;TZID=Europe/Stockholm:20190116T183000
DTSTAMP:20260423T123628
CREATED:20190104T154023Z
LAST-MODIFIED:20190104T154023Z
UID:3382-1547663400-1547663400@www.boden.pingst.se
SUMMARY:Språkcafé
DESCRIPTION:
URL:https://www.boden.pingst.se/handelse/sprakcafe-13/
END:VEVENT
BEGIN:VEVENT
DTSTART;TZID=Europe/Stockholm:20190114T130000
DTEND;TZID=Europe/Stockholm:20190114T130000
DTSTAMP:20260423T123628
CREATED:20190104T153103Z
LAST-MODIFIED:20190104T153103Z
UID:3374-1547470800-1547470800@www.boden.pingst.se
SUMMARY:Stickgruppen startar
DESCRIPTION:
URL:https://www.boden.pingst.se/handelse/stickgruppen-startar-3/
END:VEVENT
BEGIN:VEVENT
DTSTART;TZID=Europe/Stockholm:20190113T110000
DTEND;TZID=Europe/Stockholm:20190113T110000
DTSTAMP:20260423T123628
CREATED:20190104T153005Z
LAST-MODIFIED:20190104T153005Z
UID:3373-1547377200-1547377200@www.boden.pingst.se
SUMMARY:Gudstjänst
DESCRIPTION:med Malte Holmquist – Visionen\, Barnkyrkan startar\, kyrkfika efteråt
URL:https://www.boden.pingst.se/handelse/gudstjanst-275/
END:VEVENT
BEGIN:VEVENT
DTSTART;TZID=Europe/Stockholm:20190111T173000
DTEND;TZID=Europe/Stockholm:20190111T173000
DTSTAMP:20260423T123628
CREATED:20190106T091615Z
LAST-MODIFIED:20190106T091615Z
UID:3386-1547227800-1547227800@www.boden.pingst.se
SUMMARY:Upptakt för barn- och ungdomsledare
DESCRIPTION:på Noah’s\, anmälan till 070-2332125.
URL:https://www.boden.pingst.se/handelse/upptakt-for-barn-och-ungdomsledare-2/
END:VEVENT
BEGIN:VEVENT
DTSTART;TZID=Europe/Stockholm:20190110T190000
DTEND;TZID=Europe/Stockholm:20190110T190000
DTSTAMP:20260423T123628
CREATED:20190104T152837Z
LAST-MODIFIED:20190104T152837Z
UID:3372-1547146800-1547146800@www.boden.pingst.se
SUMMARY:LP-möte
DESCRIPTION:med Allan Näsvall\, LP-vännerna sjunger
URL:https://www.boden.pingst.se/handelse/lp-mote-207/
END:VEVENT
BEGIN:VEVENT
DTSTART;TZID=Europe/Stockholm:20190106T110000
DTEND;TZID=Europe/Stockholm:20190106T110000
DTSTAMP:20260423T123628
CREATED:20181128T131329Z
LAST-MODIFIED:20181221T090551Z
UID:3344-1546772400-1546772400@www.boden.pingst.se
SUMMARY:Gudstjänst
DESCRIPTION:Årets första möte! Livsberättelser\, församlingsmöte och kyrkfika efteråt
URL:https://www.boden.pingst.se/handelse/gudstjanst-274/
END:VEVENT
BEGIN:VEVENT
DTSTART;TZID=Europe/Stockholm:20190106T093000
DTEND;TZID=Europe/Stockholm:20190106T093000
DTSTAMP:20260423T123628
CREATED:20181221T140346Z
LAST-MODIFIED:20181221T140346Z
UID:3370-1546767000-1546767000@www.boden.pingst.se
SUMMARY:Bön
DESCRIPTION:Gemensam bön innan Gudstjänsten
URL:https://www.boden.pingst.se/handelse/bon/
END:VEVENT
BEGIN:VEVENT
DTSTART;TZID=Europe/Stockholm:20190102T190000
DTEND;TZID=Europe/Stockholm:20190102T190000
DTSTAMP:20260423T123628
CREATED:20181221T140159Z
LAST-MODIFIED:20181221T140159Z
UID:3369-1546455600-1546455600@www.boden.pingst.se
SUMMARY:Bönekväll
DESCRIPTION:Bön för året som ligger framför. Bönestationer med fokus på olika ämnen och möjlighet för lovsång\, förbön och bön i tystnad
URL:https://www.boden.pingst.se/handelse/bonekvall-6/
END:VEVENT
BEGIN:VEVENT
DTSTART;TZID=Europe/Stockholm:20190101T190000
DTEND;TZID=Europe/Stockholm:20190101T190000
DTSTAMP:20260423T123628
CREATED:20181221T140103Z
LAST-MODIFIED:20181221T140103Z
UID:3368-1546369200-1546369200@www.boden.pingst.se
SUMMARY:Lovsångskväll
DESCRIPTION:
URL:https://www.boden.pingst.se/handelse/lovsangskvall/
END:VEVENT
BEGIN:VEVENT
DTSTART;TZID=Europe/Stockholm:20181230T110000
DTEND;TZID=Europe/Stockholm:20181230T110000
DTSTAMP:20260423T123628
CREATED:20181128T131241Z
LAST-MODIFIED:20181221T090652Z
UID:3343-1546167600-1546167600@www.boden.pingst.se
SUMMARY:Gudstjänst
DESCRIPTION:med Malte Holmquist\, efteråt blir det knytkalasfika 
URL:https://www.boden.pingst.se/handelse/gudstjanst-273/
END:VEVENT
BEGIN:VEVENT
DTSTART;TZID=Europe/Stockholm:20181224T110000
DTEND;TZID=Europe/Stockholm:20181224T110000
DTSTAMP:20260423T123628
CREATED:20181128T131205Z
LAST-MODIFIED:20181128T131205Z
UID:3342-1545649200-1545649200@www.boden.pingst.se
SUMMARY:Julgudstjänst
DESCRIPTION:med Malte Holmquist\, julens sånger och grötlunch efteråt
URL:https://www.boden.pingst.se/handelse/julgudstjanst-4/
END:VEVENT
BEGIN:VEVENT
DTSTART;TZID=Europe/Stockholm:20181216T110000
DTEND;TZID=Europe/Stockholm:20181216T110000
DTSTAMP:20260423T123628
CREATED:20181128T131028Z
LAST-MODIFIED:20181209T090441Z
UID:3341-1544958000-1544958000@www.boden.pingst.se
SUMMARY:Gudstjänst
DESCRIPTION:med Caroline Söderström\, Barnkyrkans avslutning\, dop\, nattvard\, kyrkfika efteråt
URL:https://www.boden.pingst.se/handelse/gudstjanst-272/
END:VEVENT
BEGIN:VEVENT
DTSTART;TZID=Europe/Stockholm:20181215T173000
DTEND;TZID=Europe/Stockholm:20181215T173000
DTSTAMP:20260423T123628
CREATED:20181128T130931Z
LAST-MODIFIED:20181128T130931Z
UID:3340-1544895000-1544895000@www.boden.pingst.se
SUMMARY:Poolparty
DESCRIPTION:Barnverksamhetens julavslutning på Gammelstads badhus\, mer information under fliken ’Barn’.
URL:https://www.boden.pingst.se/handelse/poolparty/
END:VEVENT
BEGIN:VEVENT
DTSTART;TZID=Europe/Stockholm:20181214T193000
DTEND;TZID=Europe/Stockholm:20181214T193000
DTSTAMP:20260423T123628
CREATED:20181128T130810Z
LAST-MODIFIED:20181128T130810Z
UID:3339-1544815800-1544815800@www.boden.pingst.se
SUMMARY:Ung på Noah's Julavslutning
DESCRIPTION:
URL:https://www.boden.pingst.se/handelse/ung-pa-noahs-julavslutning-2/
END:VEVENT
BEGIN:VEVENT
DTSTART;TZID=Europe/Stockholm:20181213T190000
DTEND;TZID=Europe/Stockholm:20181213T190000
DTSTAMP:20260423T123628
CREATED:20181128T130738Z
LAST-MODIFIED:20181128T130738Z
UID:3338-1544727600-1544727600@www.boden.pingst.se
SUMMARY:LP-möte
DESCRIPTION:med Kurt-Arne Mörtsell\, LP-vännerna sjunger
URL:https://www.boden.pingst.se/handelse/lp-mote-206/
END:VEVENT
BEGIN:VEVENT
DTSTART;TZID=Europe/Stockholm:20181212T130000
DTEND;TZID=Europe/Stockholm:20181212T130000
DTSTAMP:20260423T123628
CREATED:20181128T130646Z
LAST-MODIFIED:20181128T130646Z
UID:3337-1544619600-1544619600@www.boden.pingst.se
SUMMARY:Allträffens julavslutning
DESCRIPTION:
URL:https://www.boden.pingst.se/handelse/alltraffens-julavslutning/
END:VEVENT
BEGIN:VEVENT
DTSTART;TZID=Europe/Stockholm:20181211T190000
DTEND;TZID=Europe/Stockholm:20181211T190000
DTSTAMP:20260423T123628
CREATED:20181128T130547Z
LAST-MODIFIED:20181128T130547Z
UID:3336-1544554800-1544554800@www.boden.pingst.se
SUMMARY:Bönegrupperna avslutning
DESCRIPTION:
URL:https://www.boden.pingst.se/handelse/bonegrupperna-avslutning/
END:VEVENT
BEGIN:VEVENT
DTSTART;TZID=Europe/Stockholm:20181209T110000
DTEND;TZID=Europe/Stockholm:20181209T110000
DTSTAMP:20260423T123628
CREATED:20181128T130420Z
LAST-MODIFIED:20181202T085201Z
UID:3334-1544353200-1544353200@www.boden.pingst.se
SUMMARY:Gudstjänst
DESCRIPTION:med Henrik Hübinette\, Sjung mé\, Barnkyrkan för alla barn\, församlingsmöte efteråt
URL:https://www.boden.pingst.se/handelse/gudstjanst-271/
END:VEVENT
BEGIN:VEVENT
DTSTART;TZID=Europe/Stockholm:20181208T170000
DTEND;TZID=Europe/Stockholm:20181208T170000
DTSTAMP:20260423T123628
CREATED:20181128T130302Z
LAST-MODIFIED:20181128T130302Z
UID:3333-1544288400-1544288400@www.boden.pingst.se
SUMMARY:Julkonsert
DESCRIPTION:med Miniton\, Glädjeton och Tonica. Fritt inträde!
URL:https://www.boden.pingst.se/handelse/julkonsert/
END:VEVENT
BEGIN:VEVENT
DTSTART;TZID=Europe/Stockholm:20181208T090000
DTEND;TZID=Europe/Stockholm:20181208T090000
DTSTAMP:20260423T123628
CREATED:20181128T130214Z
LAST-MODIFIED:20181128T130214Z
UID:3332-1544259600-1544259600@www.boden.pingst.se
SUMMARY:Bön i Stadshuset
DESCRIPTION:
URL:https://www.boden.pingst.se/handelse/bon-i-stadshuset-14/
END:VEVENT
BEGIN:VEVENT
DTSTART;TZID=Europe/Stockholm:20181207T193000
DTEND;TZID=Europe/Stockholm:20181207T193000
DTSTAMP:20260423T123628
CREATED:20181128T130024Z
LAST-MODIFIED:20181128T130024Z
UID:3331-1544211000-1544211000@www.boden.pingst.se
SUMMARY:Ung på Noah's
DESCRIPTION:
URL:https://www.boden.pingst.se/handelse/ung-pa-noahs-18/
END:VEVENT
BEGIN:VEVENT
DTSTART;TZID=Europe/Stockholm:20181207T180000
DTEND;TZID=Europe/Stockholm:20181207T180000
DTSTAMP:20260423T123628
CREATED:20181128T125953Z
LAST-MODIFIED:20181128T125953Z
UID:3330-1544205600-1544205600@www.boden.pingst.se
SUMMARY:Glädjeton och Miniton
DESCRIPTION:
URL:https://www.boden.pingst.se/handelse/gladjeton-och-miniton-9/
END:VEVENT
BEGIN:VEVENT
DTSTART;TZID=Europe/Stockholm:20181206T190000
DTEND;TZID=Europe/Stockholm:20181206T190000
DTSTAMP:20260423T123628
CREATED:20181128T125900Z
LAST-MODIFIED:20181128T125900Z
UID:3329-1544122800-1544122800@www.boden.pingst.se
SUMMARY:LP-möte
DESCRIPTION:med Christer Öberg\, LP-vännerna sjunger
URL:https://www.boden.pingst.se/handelse/lp-mote-205/
END:VEVENT
BEGIN:VEVENT
DTSTART;TZID=Europe/Stockholm:20181205T183000
DTEND;TZID=Europe/Stockholm:20181205T183000
DTSTAMP:20260423T123628
CREATED:20181128T125820Z
LAST-MODIFIED:20181128T125820Z
UID:3328-1544034600-1544034600@www.boden.pingst.se
SUMMARY:Språkcafé
DESCRIPTION:
URL:https://www.boden.pingst.se/handelse/sprakcafe-12/
END:VEVENT
BEGIN:VEVENT
DTSTART;TZID=Europe/Stockholm:20181203T163000
DTEND;TZID=Europe/Stockholm:20181203T163000
DTSTAMP:20260423T123628
CREATED:20181128T125726Z
LAST-MODIFIED:20181128T125726Z
UID:3327-1543854600-1543854600@www.boden.pingst.se
SUMMARY:Arbetskväll på Secondhand
DESCRIPTION:
URL:https://www.boden.pingst.se/handelse/arbetskvall-pa-secondhand-6/
END:VEVENT
BEGIN:VEVENT
DTSTART;TZID=Europe/Stockholm:20181202T110000
DTEND;TZID=Europe/Stockholm:20181202T110000
DTSTAMP:20260423T123628
CREATED:20181024T135911Z
LAST-MODIFIED:20181125T092028Z
UID:3314-1543748400-1543748400@www.boden.pingst.se
SUMMARY:Gudstjänst
DESCRIPTION:1:a advent\, Malte Holmquist\, Sjung mé sjunger\, Barnkyrkan för alla barn och kyrkfika efteråt
URL:https://www.boden.pingst.se/handelse/gudstjanst-270/
END:VEVENT
BEGIN:VEVENT
DTSTART;TZID=Europe/Stockholm:20181130T210000
DTEND;TZID=Europe/Stockholm:20181130T210000
DTSTAMP:20260423T123628
CREATED:20181125T091510Z
LAST-MODIFIED:20181125T091746Z
UID:3323-1543611600-1543611600@www.boden.pingst.se
SUMMARY:TJUGOETT
DESCRIPTION:med Frida Nyberg
URL:https://www.boden.pingst.se/handelse/tjugoett-12/
END:VEVENT
BEGIN:VEVENT
DTSTART;TZID=Europe/Stockholm:20181130T193000
DTEND;TZID=Europe/Stockholm:20181130T193000
DTSTAMP:20260423T123628
CREATED:20181125T091835Z
LAST-MODIFIED:20181125T091835Z
UID:3324-1543606200-1543606200@www.boden.pingst.se
SUMMARY:Häng på Noah's
DESCRIPTION:
URL:https://www.boden.pingst.se/handelse/hang-pa-noahs-3/
END:VEVENT
BEGIN:VEVENT
DTSTART;TZID=Europe/Stockholm:20181129T190000
DTEND;TZID=Europe/Stockholm:20181129T190000
DTSTAMP:20260423T123628
CREATED:20181024T135838Z
LAST-MODIFIED:20181024T135838Z
UID:3313-1543518000-1543518000@www.boden.pingst.se
SUMMARY:LP-möte
DESCRIPTION:med Maria Björkman\, LP-vännerna sjunger
URL:https://www.boden.pingst.se/handelse/lp-mote-204/
END:VEVENT
BEGIN:VEVENT
DTSTART;TZID=Europe/Stockholm:20181126T190000
DTEND;TZID=Europe/Stockholm:20181126T190000
DTSTAMP:20260423T123628
CREATED:20181125T092146Z
LAST-MODIFIED:20181125T092146Z
UID:3326-1543258800-1543258800@www.boden.pingst.se
SUMMARY:Sjung mé övar
DESCRIPTION:
URL:https://www.boden.pingst.se/handelse/sjung-me-ovar-21/
END:VEVENT
END:VCALENDAR