BEGIN:VCALENDAR
VERSION:2.0
PRODID:-//Pingstkyrkan i Boden - ECPv6.8.2.1//NONSGML v1.0//EN
CALSCALE:GREGORIAN
METHOD:PUBLISH
X-WR-CALNAME:Pingstkyrkan i Boden
X-ORIGINAL-URL:https://www.boden.pingst.se
X-WR-CALDESC:Events for Pingstkyrkan i Boden
REFRESH-INTERVAL;VALUE=DURATION:PT1H
X-Robots-Tag:noindex
X-PUBLISHED-TTL:PT1H
BEGIN:VTIMEZONE
TZID:Europe/Stockholm
BEGIN:DAYLIGHT
TZOFFSETFROM:+0100
TZOFFSETTO:+0200
TZNAME:CEST
DTSTART:20190331T010000
END:DAYLIGHT
BEGIN:STANDARD
TZOFFSETFROM:+0200
TZOFFSETTO:+0100
TZNAME:CET
DTSTART:20191027T010000
END:STANDARD
END:VTIMEZONE
BEGIN:VEVENT
DTSTART;TZID=Europe/Stockholm:20190412T210000
DTEND;TZID=Europe/Stockholm:20190412T210000
DTSTAMP:20260423T121311
CREATED:20190326T153638Z
LAST-MODIFIED:20190326T153638Z
UID:3499-1555102800-1555102800@www.boden.pingst.se
SUMMARY:Tjugoett
DESCRIPTION:med Mattias Sennehed
URL:https://www.boden.pingst.se/handelse/tjugoett-14/
END:VEVENT
BEGIN:VEVENT
DTSTART;TZID=Europe/Stockholm:20190412T193000
DTEND;TZID=Europe/Stockholm:20190412T193000
DTSTAMP:20260423T121311
CREATED:20190326T153600Z
LAST-MODIFIED:20190326T153600Z
UID:3498-1555097400-1555097400@www.boden.pingst.se
SUMMARY:Häng på Noah's
DESCRIPTION:
URL:https://www.boden.pingst.se/handelse/hang-pa-noahs-5/
END:VEVENT
BEGIN:VEVENT
DTSTART;TZID=Europe/Stockholm:20190411T190000
DTEND;TZID=Europe/Stockholm:20190411T190000
DTSTAMP:20260423T121311
CREATED:20190326T151235Z
LAST-MODIFIED:20190326T151235Z
UID:3495-1555009200-1555009200@www.boden.pingst.se
SUMMARY:LP-möte
DESCRIPTION:med Kjell Ström\, LP-vännerna sjunger
URL:https://www.boden.pingst.se/handelse/lp-mote-220/
END:VEVENT
BEGIN:VEVENT
DTSTART;TZID=Europe/Stockholm:20190409T190000
DTEND;TZID=Europe/Stockholm:20190409T190000
DTSTAMP:20260423T121311
CREATED:20190222T114914Z
LAST-MODIFIED:20190326T155621Z
UID:3470-1554836400-1554836400@www.boden.pingst.se
SUMMARY:Bibelupptäckargrupp
DESCRIPTION:
URL:https://www.boden.pingst.se/handelse/bibelupptackargrupp-9/
END:VEVENT
BEGIN:VEVENT
DTSTART;TZID=Europe/Stockholm:20190407T173000
DTEND;TZID=Europe/Stockholm:20190407T173000
DTSTAMP:20260423T121311
CREATED:20190326T151004Z
LAST-MODIFIED:20190331T083853Z
UID:3494-1554658200-1554658200@www.boden.pingst.se
SUMMARY:Församlingsmöte
DESCRIPTION:
URL:https://www.boden.pingst.se/handelse/forsamlingskvall-6/
END:VEVENT
BEGIN:VEVENT
DTSTART;TZID=Europe/Stockholm:20190407T110000
DTEND;TZID=Europe/Stockholm:20190407T110000
DTSTAMP:20260423T121311
CREATED:20190326T150918Z
LAST-MODIFIED:20190326T150918Z
UID:3493-1554634800-1554634800@www.boden.pingst.se
SUMMARY:Påskmusikal
DESCRIPTION:med Glädjeton\, kyrkfika efteråt. Fri entré.
URL:https://www.boden.pingst.se/handelse/paskmusikal-5/
END:VEVENT
BEGIN:VEVENT
DTSTART;TZID=Europe/Stockholm:20190406T113000
DTEND;TZID=Europe/Stockholm:20190406T113000
DTSTAMP:20260423T121311
CREATED:20190326T150746Z
LAST-MODIFIED:20190331T083752Z
UID:3492-1554550200-1554550200@www.boden.pingst.se
SUMMARY:Vi ansvarar på RIA
DESCRIPTION:
URL:https://www.boden.pingst.se/handelse/ria-2/
END:VEVENT
BEGIN:VEVENT
DTSTART;TZID=Europe/Stockholm:20190406T110000
DTEND;TZID=Europe/Stockholm:20190406T110000
DTSTAMP:20260423T121311
CREATED:20190326T150655Z
LAST-MODIFIED:20190326T153812Z
UID:3491-1554548400-1554548400@www.boden.pingst.se
SUMMARY:Stråkövning
DESCRIPTION:
URL:https://www.boden.pingst.se/handelse/strakovning-6/
END:VEVENT
BEGIN:VEVENT
DTSTART;TZID=Europe/Stockholm:20190405T203000
DTEND;TZID=Europe/Stockholm:20190405T203000
DTSTAMP:20260423T121311
CREATED:20190326T145242Z
LAST-MODIFIED:20190326T145242Z
UID:3490-1554496200-1554496200@www.boden.pingst.se
SUMMARY:Orgelkurs
DESCRIPTION:
URL:https://www.boden.pingst.se/handelse/orgelkurs-2/
END:VEVENT
BEGIN:VEVENT
DTSTART;TZID=Europe/Stockholm:20190405T190000
DTEND;TZID=Europe/Stockholm:20190405T190000
DTSTAMP:20260423T121311
CREATED:20190326T144614Z
LAST-MODIFIED:20190326T144614Z
UID:3489-1554490800-1554490800@www.boden.pingst.se
SUMMARY:Påskmusikal
DESCRIPTION:med Glädjeton. Fri entré.
URL:https://www.boden.pingst.se/handelse/paskmusikal-4/
END:VEVENT
BEGIN:VEVENT
DTSTART;TZID=Europe/Stockholm:20190405T170000
DTEND;TZID=Europe/Stockholm:20190405T170000
DTSTAMP:20260423T121311
CREATED:20190326T144442Z
LAST-MODIFIED:20190326T144442Z
UID:3488-1554483600-1554483600@www.boden.pingst.se
SUMMARY:Minibrass
DESCRIPTION:
URL:https://www.boden.pingst.se/handelse/minibrass-6/
END:VEVENT
BEGIN:VEVENT
DTSTART;TZID=Europe/Stockholm:20190404T190000
DTEND;TZID=Europe/Stockholm:20190404T190000
DTSTAMP:20260423T121311
CREATED:20190326T144254Z
LAST-MODIFIED:20190326T144254Z
UID:3487-1554404400-1554404400@www.boden.pingst.se
SUMMARY:LP-möte
DESCRIPTION:med Mirjam Wälitalo\, LP-vännerna sjunger
URL:https://www.boden.pingst.se/handelse/lp-mote-219/
END:VEVENT
BEGIN:VEVENT
DTSTART;TZID=Europe/Stockholm:20190331T110000
DTEND;TZID=Europe/Stockholm:20190331T110000
DTSTAMP:20260423T121311
CREATED:20190222T120031Z
LAST-MODIFIED:20190222T120031Z
UID:3479-1554030000-1554030000@www.boden.pingst.se
SUMMARY:Gudstjänst
DESCRIPTION:med Frida Nyberg\, Barnkyrkan
URL:https://www.boden.pingst.se/handelse/gudstjanst-286/
END:VEVENT
BEGIN:VEVENT
DTSTART;TZID=Europe/Stockholm:20190328T190000
DTEND;TZID=Europe/Stockholm:20190328T190000
DTSTAMP:20260423T121311
CREATED:20190222T114635Z
LAST-MODIFIED:20190222T114635Z
UID:3468-1553799600-1553799600@www.boden.pingst.se
SUMMARY:LP-möte
DESCRIPTION:med Urban Johansson\, LP-vännerna sjunger
URL:https://www.boden.pingst.se/handelse/lp-mote-218/
END:VEVENT
BEGIN:VEVENT
DTSTART;TZID=Europe/Stockholm:20190327T130000
DTEND;TZID=Europe/Stockholm:20190327T130000
DTSTAMP:20260423T121311
CREATED:20190124T124259Z
LAST-MODIFIED:20190124T124259Z
UID:3428-1553691600-1553691600@www.boden.pingst.se
SUMMARY:Allträff
DESCRIPTION:”Barnatro-Pärleporten” med Mona och Niclas Torneus
URL:https://www.boden.pingst.se/handelse/alltraff-25/
END:VEVENT
BEGIN:VEVENT
DTSTART;TZID=Europe/Stockholm:20190324T173000
DTEND;TZID=Europe/Stockholm:20190324T190000
DTSTAMP:20260423T121311
CREATED:20190319T142720Z
LAST-MODIFIED:20190319T142720Z
UID:3485-1553448600-1553454000@www.boden.pingst.se
SUMMARY:Församlingskväll
DESCRIPTION:
URL:https://www.boden.pingst.se/handelse/forsamlingskvall-5/
END:VEVENT
BEGIN:VEVENT
DTSTART;TZID=Europe/Stockholm:20190324T110000
DTEND;TZID=Europe/Stockholm:20190324T110000
DTSTAMP:20260423T121311
CREATED:20190222T115831Z
LAST-MODIFIED:20190222T115831Z
UID:3478-1553425200-1553425200@www.boden.pingst.se
SUMMARY:Gudstjänst i Bredåker
DESCRIPTION:
URL:https://www.boden.pingst.se/handelse/gudstjanst-i-bredaker-3/
END:VEVENT
BEGIN:VEVENT
DTSTART;TZID=Europe/Stockholm:20190324T110000
DTEND;TZID=Europe/Stockholm:20190324T110000
DTSTAMP:20260423T121311
CREATED:20190222T115806Z
LAST-MODIFIED:20190222T115806Z
UID:3477-1553425200-1553425200@www.boden.pingst.se
SUMMARY:Gudstjänst
DESCRIPTION:med Elvira Hemström\, Miniton sjunger
URL:https://www.boden.pingst.se/handelse/gudstjanst-285/
END:VEVENT
BEGIN:VEVENT
DTSTART;TZID=Europe/Stockholm:20190322T193000
DTEND;TZID=Europe/Stockholm:20190322T193000
DTSTAMP:20260423T121311
CREATED:20190222T115410Z
LAST-MODIFIED:20190222T115410Z
UID:3473-1553283000-1553283000@www.boden.pingst.se
SUMMARY:Ung på Noah's
DESCRIPTION:
URL:https://www.boden.pingst.se/handelse/ung-pa-noahs-20/
END:VEVENT
BEGIN:VEVENT
DTSTART;TZID=Europe/Stockholm:20190321T190000
DTEND;TZID=Europe/Stockholm:20190321T190000
DTSTAMP:20260423T121311
CREATED:20190222T114555Z
LAST-MODIFIED:20190222T114555Z
UID:3467-1553194800-1553194800@www.boden.pingst.se
SUMMARY:LP-möte
DESCRIPTION:med Frida Nyberg\, LP-vännerna sjunger
URL:https://www.boden.pingst.se/handelse/lp-mote-217/
END:VEVENT
BEGIN:VEVENT
DTSTART;TZID=Europe/Stockholm:20190317T110000
DTEND;TZID=Europe/Stockholm:20190317T110000
DTSTAMP:20260423T121311
CREATED:20190222T115647Z
LAST-MODIFIED:20190222T115647Z
UID:3476-1552820400-1552820400@www.boden.pingst.se
SUMMARY:Gudstjänst
DESCRIPTION:med Fredrik Bengtsson\, nattvard\, Barnkyrka
URL:https://www.boden.pingst.se/handelse/gudstjanst-284/
END:VEVENT
BEGIN:VEVENT
DTSTART;TZID=Europe/Stockholm:20190316T110000
DTEND;TZID=Europe/Stockholm:20190316T110000
DTSTAMP:20260423T121311
CREATED:20190222T115533Z
LAST-MODIFIED:20190222T115533Z
UID:3475-1552734000-1552734000@www.boden.pingst.se
SUMMARY:Stråkövning
DESCRIPTION:
URL:https://www.boden.pingst.se/handelse/strakovning-5/
END:VEVENT
BEGIN:VEVENT
DTSTART;TZID=Europe/Stockholm:20190315T184500
DTEND;TZID=Europe/Stockholm:20190315T184500
DTSTAMP:20260423T121311
CREATED:20190222T115228Z
LAST-MODIFIED:20190222T115228Z
UID:3472-1552675500-1552675500@www.boden.pingst.se
SUMMARY:Mixen
DESCRIPTION:aktiviteter för barn i åk 2-6
URL:https://www.boden.pingst.se/handelse/mixen-21/
END:VEVENT
BEGIN:VEVENT
DTSTART;TZID=Europe/Stockholm:20190315T180000
DTEND;TZID=Europe/Stockholm:20190315T180000
DTSTAMP:20260423T121311
CREATED:20190222T115106Z
LAST-MODIFIED:20190222T115106Z
UID:3471-1552672800-1552672800@www.boden.pingst.se
SUMMARY:Miniton och Glädjeton
DESCRIPTION:barnkörerna övar – för barn 4-13 år
URL:https://www.boden.pingst.se/handelse/miniton-och-gladjeton-4/
END:VEVENT
BEGIN:VEVENT
DTSTART;TZID=Europe/Stockholm:20190315T170000
DTEND;TZID=Europe/Stockholm:20190315T170000
DTSTAMP:20260423T121311
CREATED:20190222T115448Z
LAST-MODIFIED:20190222T115448Z
UID:3474-1552669200-1552669200@www.boden.pingst.se
SUMMARY:Minibrass
DESCRIPTION:
URL:https://www.boden.pingst.se/handelse/minibrass-5/
END:VEVENT
BEGIN:VEVENT
DTSTART;TZID=Europe/Stockholm:20190314T190000
DTEND;TZID=Europe/Stockholm:20190314T190000
DTSTAMP:20260423T121311
CREATED:20190222T114521Z
LAST-MODIFIED:20190222T114521Z
UID:3466-1552590000-1552590000@www.boden.pingst.se
SUMMARY:LP-möte
DESCRIPTION:med Tommy Ström\, LP-vännerna sjunger
URL:https://www.boden.pingst.se/handelse/lp-mote-216/
END:VEVENT
BEGIN:VEVENT
DTSTART;TZID=Europe/Stockholm:20190311T183000
DTEND;TZID=Europe/Stockholm:20190311T183000
DTSTAMP:20260423T121311
CREATED:20190221T132706Z
LAST-MODIFIED:20190221T132706Z
UID:3462-1552329000-1552329000@www.boden.pingst.se
SUMMARY:Bön- och lovsångskväll
DESCRIPTION:
URL:https://www.boden.pingst.se/handelse/bon-och-lovsangskvall-2/
END:VEVENT
BEGIN:VEVENT
DTSTART;TZID=Europe/Stockholm:20190310T110000
DTEND;TZID=Europe/Stockholm:20190310T110000
DTSTAMP:20260423T121311
CREATED:20190221T132257Z
LAST-MODIFIED:20190221T132257Z
UID:3460-1552215600-1552215600@www.boden.pingst.se
SUMMARY:Gudstjänst
DESCRIPTION:med Frida Nyberg\, årsmöte\, sportlovsfilm för Barnkyrkan
URL:https://www.boden.pingst.se/handelse/gudstjanst-283/
END:VEVENT
BEGIN:VEVENT
DTSTART;TZID=Europe/Stockholm:20190307T190000
DTEND;TZID=Europe/Stockholm:20190307T190000
DTSTAMP:20260423T121311
CREATED:20190222T114432Z
LAST-MODIFIED:20190222T114432Z
UID:3465-1551985200-1551985200@www.boden.pingst.se
SUMMARY:LP-möte
DESCRIPTION:med Thor Bygdén\, LP-vännerna sjunger
URL:https://www.boden.pingst.se/handelse/lp-mote-215/
END:VEVENT
BEGIN:VEVENT
DTSTART;TZID=Europe/Stockholm:20190306T183000
DTEND;TZID=Europe/Stockholm:20190306T183000
DTSTAMP:20260423T121311
CREATED:20190222T114336Z
LAST-MODIFIED:20190222T114336Z
UID:3464-1551897000-1551897000@www.boden.pingst.se
SUMMARY:Språkcafé
DESCRIPTION:
URL:https://www.boden.pingst.se/handelse/sprakcafe-14/
END:VEVENT
END:VCALENDAR