BEGIN:VCALENDAR
VERSION:2.0
PRODID:-//Pingstkyrkan i Boden - ECPv6.8.2.1//NONSGML v1.0//EN
CALSCALE:GREGORIAN
METHOD:PUBLISH
X-WR-CALNAME:Pingstkyrkan i Boden
X-ORIGINAL-URL:https://www.boden.pingst.se
X-WR-CALDESC:Events for Pingstkyrkan i Boden
REFRESH-INTERVAL;VALUE=DURATION:PT1H
X-Robots-Tag:noindex
X-PUBLISHED-TTL:PT1H
BEGIN:VTIMEZONE
TZID:Europe/Stockholm
BEGIN:DAYLIGHT
TZOFFSETFROM:+0100
TZOFFSETTO:+0200
TZNAME:CEST
DTSTART:20190331T010000
END:DAYLIGHT
BEGIN:STANDARD
TZOFFSETFROM:+0200
TZOFFSETTO:+0100
TZNAME:CET
DTSTART:20191027T010000
END:STANDARD
END:VTIMEZONE
BEGIN:VEVENT
DTSTART;TZID=Europe/Stockholm:20190522T130000
DTEND;TZID=Europe/Stockholm:20190522T130000
DTSTAMP:20260422T235734
CREATED:20190124T124426Z
LAST-MODIFIED:20190124T124426Z
UID:3430-1558530000-1558530000@www.boden.pingst.se
SUMMARY:Allträffens utflykt
DESCRIPTION:
URL:https://www.boden.pingst.se/handelse/alltraffens-utflykt-3/
END:VEVENT
BEGIN:VEVENT
DTSTART;TZID=Europe/Stockholm:20190519T110000
DTEND;TZID=Europe/Stockholm:20190519T110000
DTSTAMP:20260422T235734
CREATED:20190430T103710Z
LAST-MODIFIED:20190430T103710Z
UID:3543-1558263600-1558263600@www.boden.pingst.se
SUMMARY:Gudstjänst
DESCRIPTION:med Frida Nyberg\, Barnkyrkan\, Sjung mé\, nattvard och efteråt kyrkfika
URL:https://www.boden.pingst.se/handelse/gudstjanst-292/
END:VEVENT
BEGIN:VEVENT
DTSTART;TZID=Europe/Stockholm:20190518T110000
DTEND;TZID=Europe/Stockholm:20190518T110000
DTSTAMP:20260422T235734
CREATED:20190430T103233Z
LAST-MODIFIED:20190430T103233Z
UID:3539-1558177200-1558177200@www.boden.pingst.se
SUMMARY:Stråkövning
DESCRIPTION:
URL:https://www.boden.pingst.se/handelse/strakovning-8/
END:VEVENT
BEGIN:VEVENT
DTSTART;TZID=Europe/Stockholm:20190517T183000
DTEND;TZID=Europe/Stockholm:20190517T183000
DTSTAMP:20260422T235734
CREATED:20190430T103605Z
LAST-MODIFIED:20190430T103605Z
UID:3542-1558117800-1558117800@www.boden.pingst.se
SUMMARY:Våravslutning
DESCRIPTION:för Miniton\, Glädjeton och Mixen. Barnen sjunger och det blir fika efteråt!
URL:https://www.boden.pingst.se/handelse/varavslutning/
END:VEVENT
BEGIN:VEVENT
DTSTART;TZID=Europe/Stockholm:20190516T190000
DTEND;TZID=Europe/Stockholm:20190516T190000
DTSTAMP:20260422T235734
CREATED:20190430T103417Z
LAST-MODIFIED:20190430T103417Z
UID:3541-1558033200-1558033200@www.boden.pingst.se
SUMMARY:LP-möte
DESCRIPTION:med Christer Öberg\, LP-vännerna sjunger
URL:https://www.boden.pingst.se/handelse/lp-mote-224/
END:VEVENT
BEGIN:VEVENT
DTSTART;TZID=Europe/Stockholm:20190513T190000
DTEND;TZID=Europe/Stockholm:20190513T190000
DTSTAMP:20260422T235734
CREATED:20190430T103331Z
LAST-MODIFIED:20190430T103331Z
UID:3540-1557774000-1557774000@www.boden.pingst.se
SUMMARY:Sjung mé övar
DESCRIPTION:
URL:https://www.boden.pingst.se/handelse/sjung-me-ovar-23/
END:VEVENT
BEGIN:VEVENT
DTSTART;TZID=Europe/Stockholm:20190512T110000
DTEND;TZID=Europe/Stockholm:20190512T110000
DTSTAMP:20260422T235734
CREATED:20190430T102926Z
LAST-MODIFIED:20190430T102926Z
UID:3536-1557658800-1557658800@www.boden.pingst.se
SUMMARY:Gudstjänst
DESCRIPTION:med Caroline Söderström\, Barnkyrkan och efteråt kyrkfika
URL:https://www.boden.pingst.se/handelse/gudstjanst-291/
END:VEVENT
BEGIN:VEVENT
DTSTART;TZID=Europe/Stockholm:20190510T193000
DTEND;TZID=Europe/Stockholm:20190510T193000
DTSTAMP:20260422T235734
CREATED:20190430T102828Z
LAST-MODIFIED:20190430T102828Z
UID:3535-1557516600-1557516600@www.boden.pingst.se
SUMMARY:Ung på Noah's
DESCRIPTION:
URL:https://www.boden.pingst.se/handelse/ung-pa-noahs-22/
END:VEVENT
BEGIN:VEVENT
DTSTART;TZID=Europe/Stockholm:20190509T190000
DTEND;TZID=Europe/Stockholm:20190509T190000
DTSTAMP:20260422T235734
CREATED:20190430T102741Z
LAST-MODIFIED:20190430T102741Z
UID:3534-1557428400-1557428400@www.boden.pingst.se
SUMMARY:LP-möte
DESCRIPTION:med Anton Björkman\, LP-vännerna sjunger
URL:https://www.boden.pingst.se/handelse/lp-mote-223/
END:VEVENT
BEGIN:VEVENT
DTSTART;TZID=Europe/Stockholm:20190508T183000
DTEND;TZID=Europe/Stockholm:20190508T183000
DTSTAMP:20260422T235734
CREATED:20190430T102706Z
LAST-MODIFIED:20190430T102706Z
UID:3533-1557340200-1557340200@www.boden.pingst.se
SUMMARY:Språkcafé
DESCRIPTION:
URL:https://www.boden.pingst.se/handelse/sprakcafe-16/
END:VEVENT
BEGIN:VEVENT
DTSTART;TZID=Europe/Stockholm:20190506T183000
DTEND;TZID=Europe/Stockholm:20190506T183000
DTSTAMP:20260422T235734
CREATED:20190430T102527Z
LAST-MODIFIED:20190430T102527Z
UID:3531-1557167400-1557167400@www.boden.pingst.se
SUMMARY:Bön- och lovsångskväll
DESCRIPTION:
URL:https://www.boden.pingst.se/handelse/bon-och-lovsangskvall-3/
END:VEVENT
BEGIN:VEVENT
DTSTART;TZID=Europe/Stockholm:20190506T180000
DTEND;TZID=Europe/Stockholm:20190506T180000
DTSTAMP:20260422T235734
CREATED:20190430T102608Z
LAST-MODIFIED:20190430T102608Z
UID:3532-1557165600-1557165600@www.boden.pingst.se
SUMMARY:Volontärträff på Returidé Secondhand
DESCRIPTION:
URL:https://www.boden.pingst.se/handelse/volontartraff-pa-returide-secondhand/
END:VEVENT
BEGIN:VEVENT
DTSTART;TZID=Europe/Stockholm:20190505T173000
DTEND;TZID=Europe/Stockholm:20190505T173000
DTSTAMP:20260422T235734
CREATED:20190429T124910Z
LAST-MODIFIED:20190429T124933Z
UID:3524-1557077400-1557077400@www.boden.pingst.se
SUMMARY:Församlingsmöte
DESCRIPTION:med förhandlingar
URL:https://www.boden.pingst.se/handelse/forsamlingsmote/
END:VEVENT
BEGIN:VEVENT
DTSTART;TZID=Europe/Stockholm:20190505T110000
DTEND;TZID=Europe/Stockholm:20190505T110000
DTSTAMP:20260422T235734
CREATED:20190429T124544Z
LAST-MODIFIED:20190429T124544Z
UID:3522-1557054000-1557054000@www.boden.pingst.se
SUMMARY:Gudstjänst
DESCRIPTION:Livsberättelser och kyrkkaffe
URL:https://www.boden.pingst.se/handelse/gudstjanst-290/
END:VEVENT
BEGIN:VEVENT
DTSTART;TZID=Europe/Stockholm:20190504T110000
DTEND;TZID=Europe/Stockholm:20190504T110000
DTSTAMP:20260422T235734
CREATED:20190430T103140Z
LAST-MODIFIED:20190430T103140Z
UID:3538-1556967600-1556967600@www.boden.pingst.se
SUMMARY:Stråkövning
DESCRIPTION:
URL:https://www.boden.pingst.se/handelse/strakovning-7/
END:VEVENT
BEGIN:VEVENT
DTSTART;TZID=Europe/Stockholm:20190503T193000
DTEND;TZID=Europe/Stockholm:20190503T193000
DTSTAMP:20260422T235734
CREATED:20190429T125039Z
LAST-MODIFIED:20190429T125039Z
UID:3525-1556911800-1556911800@www.boden.pingst.se
SUMMARY:Ung på Noah´s
DESCRIPTION:
URL:https://www.boden.pingst.se/handelse/ung-pa-noahs-21/
END:VEVENT
BEGIN:VEVENT
DTSTART;TZID=Europe/Stockholm:20190503T170000
DTEND;TZID=Europe/Stockholm:20190503T170000
DTSTAMP:20260422T235734
CREATED:20190430T103059Z
LAST-MODIFIED:20190430T103059Z
UID:3537-1556902800-1556902800@www.boden.pingst.se
SUMMARY:Minibrass
DESCRIPTION:
URL:https://www.boden.pingst.se/handelse/minibrass-7/
END:VEVENT
BEGIN:VEVENT
DTSTART;TZID=Europe/Stockholm:20190502T190000
DTEND;TZID=Europe/Stockholm:20190502T190000
DTSTAMP:20260422T235734
CREATED:20190429T124415Z
LAST-MODIFIED:20190429T124415Z
UID:3521-1556823600-1556823600@www.boden.pingst.se
SUMMARY:LP-möte
DESCRIPTION:med Kjell Edlund\, Lp-vännerna sjunger
URL:https://www.boden.pingst.se/handelse/lp-mote-222/
END:VEVENT
BEGIN:VEVENT
DTSTART;TZID=Europe/Stockholm:20190428T110000
DTEND;TZID=Europe/Stockholm:20190428T110000
DTSTAMP:20260422T235734
CREATED:20190326T160846Z
LAST-MODIFIED:20190412T131225Z
UID:3511-1556449200-1556449200@www.boden.pingst.se
SUMMARY:Gudstjänst
DESCRIPTION:med Anton Björkman\, Barnkyrka och efteråt kyrkfika
URL:https://www.boden.pingst.se/handelse/gudstjanst-289/
END:VEVENT
BEGIN:VEVENT
DTSTART;TZID=Europe/Stockholm:20190426T184500
DTEND;TZID=Europe/Stockholm:20190426T184500
DTSTAMP:20260422T235734
CREATED:20190326T160226Z
LAST-MODIFIED:20190326T160226Z
UID:3510-1556304300-1556304300@www.boden.pingst.se
SUMMARY:Mixen
DESCRIPTION:
URL:https://www.boden.pingst.se/handelse/mixen-23/
END:VEVENT
BEGIN:VEVENT
DTSTART;TZID=Europe/Stockholm:20190426T180000
DTEND;TZID=Europe/Stockholm:20190426T180000
DTSTAMP:20260422T235734
CREATED:20190326T160136Z
LAST-MODIFIED:20190326T160136Z
UID:3509-1556301600-1556301600@www.boden.pingst.se
SUMMARY:Miniton och Glädjeton
DESCRIPTION:
URL:https://www.boden.pingst.se/handelse/miniton-och-gladjeton-6/
END:VEVENT
BEGIN:VEVENT
DTSTART;TZID=Europe/Stockholm:20190425T190000
DTEND;TZID=Europe/Stockholm:20190425T190000
DTSTAMP:20260422T235734
CREATED:20190326T160031Z
LAST-MODIFIED:20190326T160031Z
UID:3508-1556218800-1556218800@www.boden.pingst.se
SUMMARY:LP-möte
DESCRIPTION:med Caroline Söderström\, LP-vännerna sjunger
URL:https://www.boden.pingst.se/handelse/lp-mote-221/
END:VEVENT
BEGIN:VEVENT
DTSTART;TZID=Europe/Stockholm:20190424T183000
DTEND;TZID=Europe/Stockholm:20190424T183000
DTSTAMP:20260422T235734
CREATED:20190326T155859Z
LAST-MODIFIED:20190326T155859Z
UID:3507-1556130600-1556130600@www.boden.pingst.se
SUMMARY:Språkcafé
DESCRIPTION:
URL:https://www.boden.pingst.se/handelse/sprakcafe-15/
END:VEVENT
BEGIN:VEVENT
DTSTART;TZID=Europe/Stockholm:20190424T130000
DTEND;TZID=Europe/Stockholm:20190424T130000
DTSTAMP:20260422T235734
CREATED:20190328T125819Z
LAST-MODIFIED:20190328T125819Z
UID:3512-1556110800-1556110800@www.boden.pingst.se
SUMMARY:Dagträff i Bredåker
DESCRIPTION:med Kurt-Arne Mörtsell
URL:https://www.boden.pingst.se/handelse/dagtraff-i-bredaker-9/
END:VEVENT
BEGIN:VEVENT
DTSTART;TZID=Europe/Stockholm:20190424T130000
DTEND;TZID=Europe/Stockholm:20190424T130000
DTSTAMP:20260422T235734
CREATED:20190124T124353Z
LAST-MODIFIED:20190124T124353Z
UID:3429-1556110800-1556110800@www.boden.pingst.se
SUMMARY:Allträff
DESCRIPTION:”Trubaduren Nils F. Nygren” med Inga-Lill och Conny Sundström
URL:https://www.boden.pingst.se/handelse/alltraff-26/
END:VEVENT
BEGIN:VEVENT
DTSTART;TZID=Europe/Stockholm:20190421T110000
DTEND;TZID=Europe/Stockholm:20190421T110000
DTSTAMP:20260422T235734
CREATED:20190326T155344Z
LAST-MODIFIED:20190326T155344Z
UID:3506-1555844400-1555844400@www.boden.pingst.se
SUMMARY:Gudstjänst i Johanneskyrkan
DESCRIPTION:med Frida Nyberg
URL:https://www.boden.pingst.se/handelse/gudstjanst-i-johanneskyrkan-4/
END:VEVENT
BEGIN:VEVENT
DTSTART;TZID=Europe/Stockholm:20190419T110000
DTEND;TZID=Europe/Stockholm:20190419T110000
DTSTAMP:20260422T235734
CREATED:20190326T155100Z
LAST-MODIFIED:20190412T131300Z
UID:3505-1555671600-1555671600@www.boden.pingst.se
SUMMARY:Gudstjänst
DESCRIPTION:i Pingstkyrkan\, Allan Näsvall predikar
URL:https://www.boden.pingst.se/handelse/gudstjanst-288/
END:VEVENT
BEGIN:VEVENT
DTSTART;TZID=Europe/Stockholm:20190418T190000
DTEND;TZID=Europe/Stockholm:20190418T190000
DTSTAMP:20260422T235734
CREATED:20190326T155009Z
LAST-MODIFIED:20190412T131335Z
UID:3504-1555614000-1555614000@www.boden.pingst.se
SUMMARY:Getsemanestund i Elimkyrkan
DESCRIPTION:med Edda Ericsson\, nattvard\, LP-vännerna sjunger
URL:https://www.boden.pingst.se/handelse/getsemanestund-i-elimkyrkan-3/
END:VEVENT
BEGIN:VEVENT
DTSTART;TZID=Europe/Stockholm:20190414T110000
DTEND;TZID=Europe/Stockholm:20190414T110000
DTSTAMP:20260422T235734
CREATED:20190326T154710Z
LAST-MODIFIED:20190326T154710Z
UID:3502-1555239600-1555239600@www.boden.pingst.se
SUMMARY:Gudstjänst
DESCRIPTION:med Frida Nyberg\, Barnkyrka\, kyrkfika efteråt
URL:https://www.boden.pingst.se/handelse/gudstjanst-287/
END:VEVENT
BEGIN:VEVENT
DTSTART;TZID=Europe/Stockholm:20190413T100000
DTEND;TZID=Europe/Stockholm:20190413T150000
DTSTAMP:20260422T235734
CREATED:20190326T154543Z
LAST-MODIFIED:20190326T154543Z
UID:3501-1555149600-1555167600@www.boden.pingst.se
SUMMARY:Ledardag i Klöverträsk
DESCRIPTION:
URL:https://www.boden.pingst.se/handelse/ledardag-i-klovertrask/
END:VEVENT
END:VCALENDAR