BEGIN:VCALENDAR
VERSION:2.0
PRODID:-//Pingstkyrkan i Boden - ECPv6.8.2.1//NONSGML v1.0//EN
CALSCALE:GREGORIAN
METHOD:PUBLISH
X-WR-CALNAME:Pingstkyrkan i Boden
X-ORIGINAL-URL:https://www.boden.pingst.se
X-WR-CALDESC:Events for Pingstkyrkan i Boden
REFRESH-INTERVAL;VALUE=DURATION:PT1H
X-Robots-Tag:noindex
X-PUBLISHED-TTL:PT1H
BEGIN:VTIMEZONE
TZID:Europe/Stockholm
BEGIN:DAYLIGHT
TZOFFSETFROM:+0100
TZOFFSETTO:+0200
TZNAME:CEST
DTSTART:20190331T010000
END:DAYLIGHT
BEGIN:STANDARD
TZOFFSETFROM:+0200
TZOFFSETTO:+0100
TZNAME:CET
DTSTART:20191027T010000
END:STANDARD
END:VTIMEZONE
BEGIN:VEVENT
DTSTART;TZID=Europe/Stockholm:20190901T110000
DTEND;TZID=Europe/Stockholm:20190901T110000
DTSTAMP:20260423T004510
CREATED:20190825T062538Z
LAST-MODIFIED:20190825T062538Z
UID:3623-1567335600-1567335600@www.boden.pingst.se
SUMMARY:Gudstjänst och välkomstfest
DESCRIPTION:för Frida Nyberg\, Sjung mé\, nattvard\, församlingsmöte
URL:https://www.boden.pingst.se/handelse/gudstjanst-och-valkomstfest/
END:VEVENT
BEGIN:VEVENT
DTSTART;TZID=Europe/Stockholm:20190830T193000
DTEND;TZID=Europe/Stockholm:20190830T193000
DTSTAMP:20260423T004510
CREATED:20190825T062338Z
LAST-MODIFIED:20190825T062338Z
UID:3622-1567193400-1567193400@www.boden.pingst.se
SUMMARY:Ung på Noah's startar
DESCRIPTION:
URL:https://www.boden.pingst.se/handelse/ung-pa-noahs-startar/
END:VEVENT
BEGIN:VEVENT
DTSTART;TZID=Europe/Stockholm:20190828T130000
DTEND;TZID=Europe/Stockholm:20190828T130000
DTSTAMP:20260423T004510
CREATED:20190823T095206Z
LAST-MODIFIED:20190823T095206Z
UID:3621-1566997200-1566997200@www.boden.pingst.se
SUMMARY:Dagträff i Bredåker
DESCRIPTION:med Allan Näsvall\, servering
URL:https://www.boden.pingst.se/handelse/dagtraff-i-bredaker-11/
END:VEVENT
BEGIN:VEVENT
DTSTART;TZID=Europe/Stockholm:20190826T193000
DTEND;TZID=Europe/Stockholm:20190826T193000
DTSTAMP:20260423T004510
CREATED:20190819T111001Z
LAST-MODIFIED:20190819T111001Z
UID:3618-1566847800-1566847800@www.boden.pingst.se
SUMMARY:Sjung mé övar
DESCRIPTION:
URL:https://www.boden.pingst.se/handelse/sjung-me-ovar-24/
END:VEVENT
BEGIN:VEVENT
DTSTART;TZID=Europe/Stockholm:20190825T173000
DTEND;TZID=Europe/Stockholm:20190825T173000
DTSTAMP:20260423T004510
CREATED:20190807T132334Z
LAST-MODIFIED:20190807T132334Z
UID:3613-1566754200-1566754200@www.boden.pingst.se
SUMMARY:Gemenskapskväll med Samuel Ärlebrandt
DESCRIPTION:Söndagen den 25/8 klockan 17.30 kommer Samuel Ärlebrandt och berättar om sitt arbete i Östafrika. Varmt välkommen att vara med!
URL:https://www.boden.pingst.se/handelse/gemenskapskvall-med-samuel-arlebrandt/
END:VEVENT
BEGIN:VEVENT
DTSTART;TZID=Europe/Stockholm:20190825T110000
DTEND;TZID=Europe/Stockholm:20190825T110000
DTSTAMP:20260423T004510
CREATED:20190529T122357Z
LAST-MODIFIED:20190529T122423Z
UID:3597-1566730800-1566730800@www.boden.pingst.se
SUMMARY:Gudstjänst
DESCRIPTION:med Maine Lindström\, kyrkfika efteråt
URL:https://www.boden.pingst.se/handelse/gudstjanst-304/
END:VEVENT
BEGIN:VEVENT
DTSTART;TZID=Europe/Stockholm:20190818T110000
DTEND;TZID=Europe/Stockholm:20190818T110000
DTSTAMP:20260423T004510
CREATED:20190529T122316Z
LAST-MODIFIED:20190809T063013Z
UID:3596-1566126000-1566126000@www.boden.pingst.se
SUMMARY:Gudstjänst
DESCRIPTION:med Sibylla Engman\, nattvard\, kyrkfika efteråt
URL:https://www.boden.pingst.se/handelse/gudstjanst-303/
END:VEVENT
BEGIN:VEVENT
DTSTART;TZID=Europe/Stockholm:20190811T110000
DTEND;TZID=Europe/Stockholm:20190811T110000
DTSTAMP:20260423T004510
CREATED:20190529T122242Z
LAST-MODIFIED:20190529T122242Z
UID:3595-1565521200-1565521200@www.boden.pingst.se
SUMMARY:Gudstjänst
DESCRIPTION:med David Sundström\, kyrkfika efteråt
URL:https://www.boden.pingst.se/handelse/gudstjanst-302/
END:VEVENT
BEGIN:VEVENT
DTSTART;TZID=Europe/Stockholm:20190804T110000
DTEND;TZID=Europe/Stockholm:20190804T110000
DTSTAMP:20260423T004510
CREATED:20190529T122201Z
LAST-MODIFIED:20190604T100225Z
UID:3594-1564916400-1564916400@www.boden.pingst.se
SUMMARY:Gudstjänst
DESCRIPTION:med Anna-Sara Bergwall\, kyrkfika efteråt
URL:https://www.boden.pingst.se/handelse/gudstjanst-301/
END:VEVENT
BEGIN:VEVENT
DTSTART;TZID=Europe/Stockholm:20190728T110000
DTEND;TZID=Europe/Stockholm:20190728T110000
DTSTAMP:20260423T004510
CREATED:20190529T122124Z
LAST-MODIFIED:20190529T122124Z
UID:3593-1564311600-1564311600@www.boden.pingst.se
SUMMARY:Gudstjänst
DESCRIPTION:med Klas-Gunnar Axelsson\, kyrkfika efteråt
URL:https://www.boden.pingst.se/handelse/gudstjanst-300/
END:VEVENT
BEGIN:VEVENT
DTSTART;TZID=Europe/Stockholm:20190721T110000
DTEND;TZID=Europe/Stockholm:20190721T110000
DTSTAMP:20260423T004510
CREATED:20190529T122045Z
LAST-MODIFIED:20190529T122045Z
UID:3592-1563706800-1563706800@www.boden.pingst.se
SUMMARY:Gudstjänst
DESCRIPTION:med Miriam Wälitalo
URL:https://www.boden.pingst.se/handelse/gudstjanst-299/
END:VEVENT
BEGIN:VEVENT
DTSTART;TZID=Europe/Stockholm:20190714T110000
DTEND;TZID=Europe/Stockholm:20190714T110000
DTSTAMP:20260423T004510
CREATED:20190529T121959Z
LAST-MODIFIED:20190529T121959Z
UID:3591-1563102000-1563102000@www.boden.pingst.se
SUMMARY:Gudstjänst
DESCRIPTION:med Mauritz Danielsson\, kyrkfika efteråt
URL:https://www.boden.pingst.se/handelse/gudstjanst-298/
END:VEVENT
BEGIN:VEVENT
DTSTART;TZID=Europe/Stockholm:20190707T110000
DTEND;TZID=Europe/Stockholm:20190707T110000
DTSTAMP:20260423T004510
CREATED:20190529T121914Z
LAST-MODIFIED:20190623T070524Z
UID:3590-1562497200-1562497200@www.boden.pingst.se
SUMMARY:Gudstjänst
DESCRIPTION:med Sibylla Engman
URL:https://www.boden.pingst.se/handelse/gudstjanst-297/
END:VEVENT
BEGIN:VEVENT
DTSTART;TZID=Europe/Stockholm:20190630T110000
DTEND;TZID=Europe/Stockholm:20190630T110000
DTSTAMP:20260423T004510
CREATED:20190529T121539Z
LAST-MODIFIED:20190620T103341Z
UID:3588-1561892400-1561892400@www.boden.pingst.se
SUMMARY:Gudstjänst
DESCRIPTION:med Christer Holmgren\, församlingsmöte och kyrkfika efteråt
URL:https://www.boden.pingst.se/handelse/gudstjanst-296/
END:VEVENT
BEGIN:VEVENT
DTSTART;VALUE=DATE:20190624
DTEND;VALUE=DATE:20190627
DTSTAMP:20260423T004510
CREATED:20190529T121132Z
LAST-MODIFIED:20190529T121132Z
UID:3587-1561334400-1561593599@www.boden.pingst.se
SUMMARY:Arnemark KIDS
DESCRIPTION:för barn i åk 3-6. Anmälan stänger 10/6 eller när platserna är fyllda. Mer info under fliken ’barn’.
URL:https://www.boden.pingst.se/handelse/arnemark-kids-2/
END:VEVENT
BEGIN:VEVENT
DTSTART;TZID=Europe/Stockholm:20190623T110000
DTEND;TZID=Europe/Stockholm:20190623T110000
DTSTAMP:20260423T004510
CREATED:20190529T121025Z
LAST-MODIFIED:20190529T121025Z
UID:3586-1561287600-1561287600@www.boden.pingst.se
SUMMARY:Gudstjänst i Arnemark
DESCRIPTION:
URL:https://www.boden.pingst.se/handelse/gudstjanst-i-arnemark/
END:VEVENT
BEGIN:VEVENT
DTSTART;VALUE=DATE:20190621
DTEND;VALUE=DATE:20190624
DTSTAMP:20260423T004510
CREATED:20190529T120918Z
LAST-MODIFIED:20190529T120918Z
UID:3585-1561075200-1561334399@www.boden.pingst.se
SUMMARY:Midsommar i Arnemark
DESCRIPTION:Under helgen den 21-23/6 är det det Gudstjänster\, barnmöten\, musikcafé och andra roliga aktiviteter på Arnemarksgården. För att se hela programmet\, kolla affischen.
URL:https://www.boden.pingst.se/handelse/midsommar-i-arnemark-2/
END:VEVENT
BEGIN:VEVENT
DTSTART;VALUE=DATE:20190618
DTEND;VALUE=DATE:20190621
DTSTAMP:20260423T004510
CREATED:20190529T120825Z
LAST-MODIFIED:20190529T120825Z
UID:3584-1560816000-1561075199@www.boden.pingst.se
SUMMARY:Kyrka på stan
DESCRIPTION:Vi ansvarar 18-20/6. Vill du hjälpa till? Kontakta 070-2332125
URL:https://www.boden.pingst.se/handelse/kyrka-pa-stan-3/
END:VEVENT
BEGIN:VEVENT
DTSTART;TZID=Europe/Stockholm:20190617T183000
DTEND;TZID=Europe/Stockholm:20190617T183000
DTSTAMP:20260423T004510
CREATED:20190529T120713Z
LAST-MODIFIED:20190529T120713Z
UID:3583-1560796200-1560796200@www.boden.pingst.se
SUMMARY:Bön- och lovsångskväll
DESCRIPTION:
URL:https://www.boden.pingst.se/handelse/bon-och-lovsangskvall-4/
END:VEVENT
BEGIN:VEVENT
DTSTART;TZID=Europe/Stockholm:20190616T110000
DTEND;TZID=Europe/Stockholm:20190616T110000
DTSTAMP:20260423T004510
CREATED:20190529T120629Z
LAST-MODIFIED:20190613T092726Z
UID:3582-1560682800-1560682800@www.boden.pingst.se
SUMMARY:Gudstjänst
DESCRIPTION:nattvard och efteråt kyrkfika
URL:https://www.boden.pingst.se/handelse/gudstjanst-295/
END:VEVENT
BEGIN:VEVENT
DTSTART;TZID=Europe/Stockholm:20190612T130000
DTEND;TZID=Europe/Stockholm:20190612T130000
DTSTAMP:20260423T004510
CREATED:20190529T120536Z
LAST-MODIFIED:20190529T120536Z
UID:3581-1560344400-1560344400@www.boden.pingst.se
SUMMARY:Dagträff i Bredåker
DESCRIPTION:med Johan Blomqvist\, servering
URL:https://www.boden.pingst.se/handelse/dagtraff-i-bredaker-10/
END:VEVENT
BEGIN:VEVENT
DTSTART;TZID=Europe/Stockholm:20190609T180000
DTEND;TZID=Europe/Stockholm:20190609T180000
DTSTAMP:20260423T004510
CREATED:20190529T120427Z
LAST-MODIFIED:20190529T120427Z
UID:3580-1560103200-1560103200@www.boden.pingst.se
SUMMARY:Gudstjänst
DESCRIPTION:med Frida Nyberg\, Sjung mé-kören och drop in-fika från 17.00
URL:https://www.boden.pingst.se/handelse/gudstjanst-294/
END:VEVENT
BEGIN:VEVENT
DTSTART;TZID=Europe/Stockholm:20190608T110000
DTEND;TZID=Europe/Stockholm:20190608T110000
DTSTAMP:20260423T004510
CREATED:20190529T120244Z
LAST-MODIFIED:20190529T120244Z
UID:3578-1559991600-1559991600@www.boden.pingst.se
SUMMARY:Stråkavslutning
DESCRIPTION:
URL:https://www.boden.pingst.se/handelse/strakavslutning/
END:VEVENT
BEGIN:VEVENT
DTSTART;TZID=Europe/Stockholm:20190607T200000
DTEND;TZID=Europe/Stockholm:20190607T200000
DTSTAMP:20260423T004510
CREATED:20190529T120308Z
LAST-MODIFIED:20190529T120308Z
UID:3579-1559937600-1559937600@www.boden.pingst.se
SUMMARY:Orgelkurs
DESCRIPTION:
URL:https://www.boden.pingst.se/handelse/orgelkurs-3/
END:VEVENT
BEGIN:VEVENT
DTSTART;TZID=Europe/Stockholm:20190607T193000
DTEND;TZID=Europe/Stockholm:20190607T193000
DTSTAMP:20260423T004510
CREATED:20190529T120215Z
LAST-MODIFIED:20190529T120215Z
UID:3577-1559935800-1559935800@www.boden.pingst.se
SUMMARY:Ung på Noah's avslutning
DESCRIPTION:
URL:https://www.boden.pingst.se/handelse/ung-pa-noahs-avslutning/
END:VEVENT
BEGIN:VEVENT
DTSTART;TZID=Europe/Stockholm:20190607T170000
DTEND;TZID=Europe/Stockholm:20190607T170000
DTSTAMP:20260423T004510
CREATED:20190529T120148Z
LAST-MODIFIED:20190529T120148Z
UID:3576-1559926800-1559926800@www.boden.pingst.se
SUMMARY:Minibrass
DESCRIPTION:
URL:https://www.boden.pingst.se/handelse/minibrass-8/
END:VEVENT
BEGIN:VEVENT
DTSTART;TZID=Europe/Stockholm:20190606T093000
DTEND;TZID=Europe/Stockholm:20190606T093000
DTSTAMP:20260423T004510
CREATED:20190524T140513Z
LAST-MODIFIED:20190524T140513Z
UID:3573-1559813400-1559813400@www.boden.pingst.se
SUMMARY:Utflykt till Storforsen
DESCRIPTION:Avfärd 9.30 från kyrkan\, åter klockan 16.00. Ta med egen mat eller fika. Anmäl dig senast 2/6 till jsc.holmgren@gmail.com eller på listan i foajén. 
URL:https://www.boden.pingst.se/handelse/utflykt-till-storforsen/
END:VEVENT
BEGIN:VEVENT
DTSTART;TZID=Europe/Stockholm:20190603T170000
DTEND;TZID=Europe/Stockholm:20190603T170000
DTSTAMP:20260423T004510
CREATED:20190524T140220Z
LAST-MODIFIED:20190524T140220Z
UID:3572-1559581200-1559581200@www.boden.pingst.se
SUMMARY:Arbetskväll på Secondhand
DESCRIPTION:
URL:https://www.boden.pingst.se/handelse/arbetskvall-pa-secondhand-8/
END:VEVENT
BEGIN:VEVENT
DTSTART;TZID=Europe/Stockholm:20190602T173000
DTEND;TZID=Europe/Stockholm:20190602T173000
DTSTAMP:20260423T004510
CREATED:20190524T140127Z
LAST-MODIFIED:20190524T140127Z
UID:3571-1559496600-1559496600@www.boden.pingst.se
SUMMARY:Församlingsmöte
DESCRIPTION:
URL:https://www.boden.pingst.se/handelse/forsamlingsmote-2/
END:VEVENT
BEGIN:VEVENT
DTSTART;TZID=Europe/Stockholm:20190602T110000
DTEND;TZID=Europe/Stockholm:20190602T110000
DTSTAMP:20260423T004510
CREATED:20190524T140105Z
LAST-MODIFIED:20190524T140105Z
UID:3570-1559473200-1559473200@www.boden.pingst.se
SUMMARY:Gudstjänst
DESCRIPTION:med Frida Nyberg\, Barnkyrkans avslutning och efteråt kyrkfika
URL:https://www.boden.pingst.se/handelse/gudstjanst-293/
END:VEVENT
END:VCALENDAR