BEGIN:VCALENDAR
VERSION:2.0
PRODID:-//Pingstkyrkan i Boden - ECPv6.8.2.1//NONSGML v1.0//EN
CALSCALE:GREGORIAN
METHOD:PUBLISH
X-WR-CALNAME:Pingstkyrkan i Boden
X-ORIGINAL-URL:https://www.boden.pingst.se
X-WR-CALDESC:Events for Pingstkyrkan i Boden
REFRESH-INTERVAL;VALUE=DURATION:PT1H
X-Robots-Tag:noindex
X-PUBLISHED-TTL:PT1H
BEGIN:VTIMEZONE
TZID:Europe/Stockholm
BEGIN:DAYLIGHT
TZOFFSETFROM:+0100
TZOFFSETTO:+0200
TZNAME:CEST
DTSTART:20190331T010000
END:DAYLIGHT
BEGIN:STANDARD
TZOFFSETFROM:+0200
TZOFFSETTO:+0100
TZNAME:CET
DTSTART:20191027T010000
END:STANDARD
END:VTIMEZONE
BEGIN:VEVENT
DTSTART;TZID=Europe/Stockholm:20191020T110000
DTEND;TZID=Europe/Stockholm:20191020T110000
DTSTAMP:20260422T031051
CREATED:20190924T125724Z
LAST-MODIFIED:20190924T125724Z
UID:3688-1571569200-1571569200@www.boden.pingst.se
SUMMARY:Gudstjänst
DESCRIPTION:med Anton Björkman\, Miniton\, kyrkfika efteråt 
URL:https://www.boden.pingst.se/handelse/gudstjanst-311/
END:VEVENT
BEGIN:VEVENT
DTSTART;TZID=Europe/Stockholm:20191018T184500
DTEND;TZID=Europe/Stockholm:20191018T184500
DTSTAMP:20260422T031051
CREATED:20190924T124019Z
LAST-MODIFIED:20190924T130650Z
UID:3674-1571424300-1571424300@www.boden.pingst.se
SUMMARY:Mixen: SUPERFREDAG
DESCRIPTION:aktiviteter för barn i åk 2-6
URL:https://www.boden.pingst.se/handelse/mixen-24/
END:VEVENT
BEGIN:VEVENT
DTSTART;TZID=Europe/Stockholm:20191017T190000
DTEND;TZID=Europe/Stockholm:20191017T190000
DTSTAMP:20260422T031051
CREATED:20190924T125643Z
LAST-MODIFIED:20190924T125643Z
UID:3687-1571338800-1571338800@www.boden.pingst.se
SUMMARY:LP-möte
DESCRIPTION:med Kurt-Arne Mörtsell\, LP-vännerna sjunger
URL:https://www.boden.pingst.se/handelse/lp-mote-232/
END:VEVENT
BEGIN:VEVENT
DTSTART;TZID=Europe/Stockholm:20191016T130000
DTEND;TZID=Europe/Stockholm:20191016T130000
DTSTAMP:20260422T031051
CREATED:20190924T125611Z
LAST-MODIFIED:20190924T125611Z
UID:3686-1571230800-1571230800@www.boden.pingst.se
SUMMARY:Allträff
DESCRIPTION:”Glimtar av mitt liv” med Benjamin Mattsson
URL:https://www.boden.pingst.se/handelse/alltraff-28/
END:VEVENT
BEGIN:VEVENT
DTSTART;TZID=Europe/Stockholm:20191013T110000
DTEND;TZID=Europe/Stockholm:20191013T110000
DTSTAMP:20260422T031051
CREATED:20190924T125206Z
LAST-MODIFIED:20190924T125206Z
UID:3683-1570964400-1570964400@www.boden.pingst.se
SUMMARY:Gudstjänst
DESCRIPTION:med livsberättelser\, Barnkyrkan\, kyrkfika efteråt
URL:https://www.boden.pingst.se/handelse/gudstjanst-310/
END:VEVENT
BEGIN:VEVENT
DTSTART;TZID=Europe/Stockholm:20191011T193000
DTEND;TZID=Europe/Stockholm:20191011T193000
DTSTAMP:20260422T031051
CREATED:20190924T125125Z
LAST-MODIFIED:20190924T125125Z
UID:3682-1570822200-1570822200@www.boden.pingst.se
SUMMARY:Ung på Noah's
DESCRIPTION:ungdomssamling för åk 7 och uppåt
URL:https://www.boden.pingst.se/handelse/ung-pa-noahs-24/
END:VEVENT
BEGIN:VEVENT
DTSTART;TZID=Europe/Stockholm:20191010T190000
DTEND;TZID=Europe/Stockholm:20191010T190000
DTSTAMP:20260422T031051
CREATED:20190924T125428Z
LAST-MODIFIED:20190924T125428Z
UID:3685-1570734000-1570734000@www.boden.pingst.se
SUMMARY:LP-möte
DESCRIPTION:med Christer Holmgren\, LP-vännerna sjunger
URL:https://www.boden.pingst.se/handelse/lp-mote-231/
END:VEVENT
BEGIN:VEVENT
DTSTART;TZID=Europe/Stockholm:20191007T183000
DTEND;TZID=Europe/Stockholm:20191007T183000
DTSTAMP:20260422T031051
CREATED:20190620T103142Z
LAST-MODIFIED:20191001T123722Z
UID:3604-1570473000-1570473000@www.boden.pingst.se
SUMMARY:Bön - tid att lyssna in Guds hjärta
DESCRIPTION:
URL:https://www.boden.pingst.se/handelse/bon-och-lovsangskvall-5/
END:VEVENT
BEGIN:VEVENT
DTSTART;TZID=Europe/Stockholm:20191007T170000
DTEND;TZID=Europe/Stockholm:20191007T170000
DTSTAMP:20260422T031051
CREATED:20190924T125014Z
LAST-MODIFIED:20190924T125014Z
UID:3681-1570467600-1570467600@www.boden.pingst.se
SUMMARY:Arbetskväll på Secondhand
DESCRIPTION:
URL:https://www.boden.pingst.se/handelse/arbetskvall-pa-secondhand-9/
END:VEVENT
BEGIN:VEVENT
DTSTART;TZID=Europe/Stockholm:20191006T173000
DTEND;TZID=Europe/Stockholm:20191006T173000
DTSTAMP:20260422T031051
CREATED:20190924T125248Z
LAST-MODIFIED:20190924T125248Z
UID:3684-1570383000-1570383000@www.boden.pingst.se
SUMMARY:Församlingsmöte
DESCRIPTION:
URL:https://www.boden.pingst.se/handelse/forsamlingsmote-3/
END:VEVENT
BEGIN:VEVENT
DTSTART;TZID=Europe/Stockholm:20191006T110000
DTEND;TZID=Europe/Stockholm:20191006T110000
DTSTAMP:20260422T031051
CREATED:20190924T124840Z
LAST-MODIFIED:20190924T124840Z
UID:3680-1570359600-1570359600@www.boden.pingst.se
SUMMARY:Gudstjänst
DESCRIPTION:Caroline Söderström predikar\, Josefina Gniste leder i lovsång\, Gudstjänst-kit för barnen och efteråt kyrkfika
URL:https://www.boden.pingst.se/handelse/gudstjanst-309/
END:VEVENT
BEGIN:VEVENT
DTSTART;TZID=Europe/Stockholm:20191005T180000
DTEND;TZID=Europe/Stockholm:20191005T180000
DTSTAMP:20260422T031051
CREATED:20190924T124708Z
LAST-MODIFIED:20190924T124708Z
UID:3679-1570298400-1570298400@www.boden.pingst.se
SUMMARY:Lovsångskväll
DESCRIPTION:med Josefina Gniste
URL:https://www.boden.pingst.se/handelse/lovsangskvall-3/
END:VEVENT
BEGIN:VEVENT
DTSTART;TZID=Europe/Stockholm:20191005T163000
DTEND;TZID=Europe/Stockholm:20191005T163000
DTSTAMP:20260422T031051
CREATED:20190924T124634Z
LAST-MODIFIED:20190924T124634Z
UID:3678-1570293000-1570293000@www.boden.pingst.se
SUMMARY:Middag
DESCRIPTION:OBS! Anmäl dig senast 29/9 på listan i kyrkan eller till 070-2332125. Pris: 40kr/person\, 100kr/familj
URL:https://www.boden.pingst.se/handelse/middag/
END:VEVENT
BEGIN:VEVENT
DTSTART;TZID=Europe/Stockholm:20191005T143000
DTEND;TZID=Europe/Stockholm:20191005T143000
DTSTAMP:20260422T031051
CREATED:20190924T124511Z
LAST-MODIFIED:20190924T124511Z
UID:3677-1570285800-1570285800@www.boden.pingst.se
SUMMARY:Seminarium
DESCRIPTION:”Tillsammans – närmare kärnan” med Josefina Gniste
URL:https://www.boden.pingst.se/handelse/seminarium-2/
END:VEVENT
BEGIN:VEVENT
DTSTART;TZID=Europe/Stockholm:20191005T123000
DTEND;TZID=Europe/Stockholm:20191005T123000
DTSTAMP:20260422T031051
CREATED:20190930T063508Z
LAST-MODIFIED:20190930T063508Z
UID:3700-1570278600-1570278600@www.boden.pingst.se
SUMMARY:Inspirationsträff
DESCRIPTION:md Josefina Gniste\, för dig som är engagerad kring Gudstjänsterna.
URL:https://www.boden.pingst.se/handelse/inspirationstraff/
END:VEVENT
BEGIN:VEVENT
DTSTART;TZID=Europe/Stockholm:20191004T210000
DTEND;TZID=Europe/Stockholm:20191004T210000
DTSTAMP:20260422T031051
CREATED:20190924T124349Z
LAST-MODIFIED:20190924T124349Z
UID:3676-1570222800-1570222800@www.boden.pingst.se
SUMMARY:Tjugoett
DESCRIPTION:en enklare kvällsgudstjänst med predikan av Josefina Gniste\, bön och lovsång
URL:https://www.boden.pingst.se/handelse/tjugoett-16/
END:VEVENT
BEGIN:VEVENT
DTSTART;TZID=Europe/Stockholm:20191004T193000
DTEND;TZID=Europe/Stockholm:20191004T193000
DTSTAMP:20260422T031051
CREATED:20190924T124104Z
LAST-MODIFIED:20190924T124104Z
UID:3675-1570217400-1570217400@www.boden.pingst.se
SUMMARY:Häng på Noah's
DESCRIPTION:
URL:https://www.boden.pingst.se/handelse/hang-pa-noahs-7/
END:VEVENT
BEGIN:VEVENT
DTSTART;TZID=Europe/Stockholm:20191004T184500
DTEND;TZID=Europe/Stockholm:20191004T184500
DTSTAMP:20260422T031051
CREATED:20190924T131452Z
LAST-MODIFIED:20190924T131452Z
UID:3698-1570214700-1570214700@www.boden.pingst.se
SUMMARY:Mixen
DESCRIPTION:aktiviteter för barn i åk2-6
URL:https://www.boden.pingst.se/handelse/mixen-25/
END:VEVENT
BEGIN:VEVENT
DTSTART;TZID=Europe/Stockholm:20191004T180000
DTEND;TZID=Europe/Stockholm:20191004T180000
DTSTAMP:20260422T031051
CREATED:20190924T123929Z
LAST-MODIFIED:20190924T123929Z
UID:3673-1570212000-1570212000@www.boden.pingst.se
SUMMARY:Miniton & Glädjeton
DESCRIPTION:Barnkörerna övar – för barn i åldrarna 4-12 år
URL:https://www.boden.pingst.se/handelse/miniton-gladjeton/
END:VEVENT
BEGIN:VEVENT
DTSTART;TZID=Europe/Stockholm:20191004T170000
DTEND;TZID=Europe/Stockholm:20191004T170000
DTSTAMP:20260422T031051
CREATED:20190924T123815Z
LAST-MODIFIED:20190924T123815Z
UID:3672-1570208400-1570208400@www.boden.pingst.se
SUMMARY:Minibrass
DESCRIPTION:
URL:https://www.boden.pingst.se/handelse/minibrass-10/
END:VEVENT
BEGIN:VEVENT
DTSTART;TZID=Europe/Stockholm:20191003T190000
DTEND;TZID=Europe/Stockholm:20191003T190000
DTSTAMP:20260422T031051
CREATED:20190924T123744Z
LAST-MODIFIED:20190924T123744Z
UID:3671-1570129200-1570129200@www.boden.pingst.se
SUMMARY:LP-möte
DESCRIPTION:med Christer Öberg\, LP-vännerna sjunger
URL:https://www.boden.pingst.se/handelse/lp-mote-230/
END:VEVENT
BEGIN:VEVENT
DTSTART;TZID=Europe/Stockholm:20191002T183000
DTEND;TZID=Europe/Stockholm:20191002T183000
DTSTAMP:20260422T031051
CREATED:20190924T131351Z
LAST-MODIFIED:20190924T131351Z
UID:3697-1570041000-1570041000@www.boden.pingst.se
SUMMARY:Språkcafé
DESCRIPTION:
URL:https://www.boden.pingst.se/handelse/sprakcafe-18/
END:VEVENT
BEGIN:VEVENT
DTSTART;TZID=Europe/Stockholm:20190929T110000
DTEND;TZID=Europe/Stockholm:20190929T110000
DTSTAMP:20260422T031051
CREATED:20190828T135359Z
LAST-MODIFIED:20190916T132555Z
UID:3639-1569754800-1569754800@www.boden.pingst.se
SUMMARY:Gudstjänst
DESCRIPTION:med Christer Holmgren\, Glädjeton\, kyrkfika efteråt
URL:https://www.boden.pingst.se/handelse/gudstjanst-308/
END:VEVENT
BEGIN:VEVENT
DTSTART;TZID=Europe/Stockholm:20190926T190000
DTEND;TZID=Europe/Stockholm:20190926T190000
DTSTAMP:20260422T031051
CREATED:20190828T133829Z
LAST-MODIFIED:20190828T133829Z
UID:3630-1569524400-1569524400@www.boden.pingst.se
SUMMARY:LP-möte
DESCRIPTION:med Johan Enström
URL:https://www.boden.pingst.se/handelse/lp-mote-229/
END:VEVENT
BEGIN:VEVENT
DTSTART;TZID=Europe/Stockholm:20190923T190000
DTEND;TZID=Europe/Stockholm:20190923T190000
DTSTAMP:20260422T031051
CREATED:20190828T135659Z
LAST-MODIFIED:20190828T135659Z
UID:3641-1569265200-1569265200@www.boden.pingst.se
SUMMARY:Föreläsning med Ulrica Stigberg
DESCRIPTION:”Mitt ibland oss – kyrkans utmaning kring nätporr” i samarbete med Bilda. Mer information på www.bilda.nu
URL:https://www.boden.pingst.se/handelse/forelasning-med-ulrica-stigberg/
END:VEVENT
BEGIN:VEVENT
DTSTART;TZID=Europe/Stockholm:20190923T130000
DTEND;TZID=Europe/Stockholm:20190923T130000
DTSTAMP:20260422T031051
CREATED:20190828T135432Z
LAST-MODIFIED:20190828T135432Z
UID:3640-1569243600-1569243600@www.boden.pingst.se
SUMMARY:Stickgruppen startar
DESCRIPTION:
URL:https://www.boden.pingst.se/handelse/stickgruppen-startar-4/
END:VEVENT
BEGIN:VEVENT
DTSTART;TZID=Europe/Stockholm:20190922T110000
DTEND;TZID=Europe/Stockholm:20190922T110000
DTSTAMP:20260422T031051
CREATED:20190828T135316Z
LAST-MODIFIED:20190828T135316Z
UID:3638-1569150000-1569150000@www.boden.pingst.se
SUMMARY:Gudstjänst
DESCRIPTION:med livsberättelser
URL:https://www.boden.pingst.se/handelse/gudstjanst-307/
END:VEVENT
BEGIN:VEVENT
DTSTART;TZID=Europe/Stockholm:20190919T190000
DTEND;TZID=Europe/Stockholm:20190919T190000
DTSTAMP:20260422T031051
CREATED:20190828T133739Z
LAST-MODIFIED:20190828T133739Z
UID:3629-1568919600-1568919600@www.boden.pingst.se
SUMMARY:LP-möte
DESCRIPTION:med Anton Björkman
URL:https://www.boden.pingst.se/handelse/lp-mote-228/
END:VEVENT
BEGIN:VEVENT
DTSTART;TZID=Europe/Stockholm:20190918T130000
DTEND;TZID=Europe/Stockholm:20190918T130000
DTSTAMP:20260422T031051
CREATED:20190828T135939Z
LAST-MODIFIED:20190828T135939Z
UID:3643-1568811600-1568811600@www.boden.pingst.se
SUMMARY:Allträff
DESCRIPTION:”Israel i ord\, sång och bild” med Inga-Lill och Conny Sundström
URL:https://www.boden.pingst.se/handelse/alltraff-27/
END:VEVENT
BEGIN:VEVENT
DTSTART;TZID=Europe/Stockholm:20190916T193000
DTEND;TZID=Europe/Stockholm:20190916T193000
DTSTAMP:20260422T031051
CREATED:20190819T111100Z
LAST-MODIFIED:20190819T111100Z
UID:3619-1568662200-1568662200@www.boden.pingst.se
SUMMARY:Sjung mé övar
DESCRIPTION:
URL:https://www.boden.pingst.se/handelse/sjung-me-ovar-25/
END:VEVENT
END:VCALENDAR