BEGIN:VCALENDAR
VERSION:2.0
PRODID:-//Pingstkyrkan i Boden - ECPv6.8.2.1//NONSGML v1.0//EN
CALSCALE:GREGORIAN
METHOD:PUBLISH
X-ORIGINAL-URL:https://www.boden.pingst.se
X-WR-CALDESC:Events for Pingstkyrkan i Boden
REFRESH-INTERVAL;VALUE=DURATION:PT1H
X-Robots-Tag:noindex
X-PUBLISHED-TTL:PT1H
BEGIN:VTIMEZONE
TZID:Europe/Stockholm
BEGIN:DAYLIGHT
TZOFFSETFROM:+0100
TZOFFSETTO:+0200
TZNAME:CEST
DTSTART:20240331T010000
END:DAYLIGHT
BEGIN:STANDARD
TZOFFSETFROM:+0200
TZOFFSETTO:+0100
TZNAME:CET
DTSTART:20241027T010000
END:STANDARD
END:VTIMEZONE
BEGIN:VEVENT
DTSTART;TZID=Europe/Stockholm:20240915T110000
DTEND;TZID=Europe/Stockholm:20240915T110000
DTSTAMP:20260423T005229
CREATED:20240820T080817Z
LAST-MODIFIED:20240820T080817Z
UID:5209-1726398000-1726398000@www.boden.pingst.se
SUMMARY:Gudstjänst
DESCRIPTION:Med Marcus Sandström. Insamling till församlingen. Barnkyrka. Kyrkfika efteråt
URL:https://www.boden.pingst.se/handelse/gudstjanst-488/
END:VEVENT
BEGIN:VEVENT
DTSTART;TZID=Europe/Stockholm:20240917T183000
DTEND;TZID=Europe/Stockholm:20240917T183000
DTSTAMP:20260423T005229
CREATED:20240830T133738Z
LAST-MODIFIED:20240830T133738Z
UID:5218-1726597800-1726597800@www.boden.pingst.se
SUMMARY:Connect och bönegrupper
DESCRIPTION:
URL:https://www.boden.pingst.se/handelse/connect-och-bonegrupper-5/
END:VEVENT
BEGIN:VEVENT
DTSTART;TZID=Europe/Stockholm:20240924T183000
DTEND;TZID=Europe/Stockholm:20240924T183000
DTSTAMP:20260423T005229
CREATED:20240830T133325Z
LAST-MODIFIED:20240830T133325Z
UID:5216-1727202600-1727202600@www.boden.pingst.se
SUMMARY:Bibelstudium
DESCRIPTION:
URL:https://www.boden.pingst.se/handelse/bibelstudium-15/
END:VEVENT
BEGIN:VEVENT
DTSTART;TZID=Europe/Stockholm:20240928T100000
DTEND;TZID=Europe/Stockholm:20240928T100000
DTSTAMP:20260423T005229
CREATED:20240901T062555Z
LAST-MODIFIED:20240901T062555Z
UID:5222-1727517600-1727517600@www.boden.pingst.se
SUMMARY:Brunch med Simon Holst
DESCRIPTION:Med temat ”Israel\, Palestina och kriget i Gaza”. Brunchen kostar 50 kr/ person\, anmälan till Pingstkyrkan Boden
URL:https://www.boden.pingst.se/handelse/brunch-med-simon-holst/
END:VEVENT
BEGIN:VEVENT
DTSTART;TZID=Europe/Stockholm:20240922T110000
DTEND;TZID=Europe/Stockholm:20240922T110000
DTSTAMP:20260423T005229
CREATED:20240625T085545Z
LAST-MODIFIED:20240820T080538Z
UID:5188-1727002800-1727002800@www.boden.pingst.se
SUMMARY:Gudstjänst
DESCRIPTION:Insamling till Församling. Barnkyrka. Kyrkfika efteråt
URL:https://www.boden.pingst.se/handelse/gudstjanst-484/
END:VEVENT
END:VCALENDAR