BEGIN:VCALENDAR
VERSION:2.0
PRODID:-//Pingstkyrkan i Boden - ECPv6.8.2.1//NONSGML v1.0//EN
CALSCALE:GREGORIAN
METHOD:PUBLISH
X-WR-CALNAME:Pingstkyrkan i Boden
X-ORIGINAL-URL:https://www.boden.pingst.se
X-WR-CALDESC:Events for Pingstkyrkan i Boden
REFRESH-INTERVAL;VALUE=DURATION:PT1H
X-Robots-Tag:noindex
X-PUBLISHED-TTL:PT1H
BEGIN:VTIMEZONE
TZID:Europe/Stockholm
BEGIN:DAYLIGHT
TZOFFSETFROM:+0100
TZOFFSETTO:+0200
TZNAME:CEST
DTSTART:20190331T010000
END:DAYLIGHT
BEGIN:STANDARD
TZOFFSETFROM:+0200
TZOFFSETTO:+0100
TZNAME:CET
DTSTART:20191027T010000
END:STANDARD
END:VTIMEZONE
BEGIN:VEVENT
DTSTART;TZID=Europe/Stockholm:20191211T130000
DTEND;TZID=Europe/Stockholm:20191211T130000
DTSTAMP:20260422T000220
CREATED:20191127T204920Z
LAST-MODIFIED:20191127T204920Z
UID:3763-1576069200-1576069200@www.boden.pingst.se
SUMMARY:Allträffens julfest
DESCRIPTION:
URL:https://www.boden.pingst.se/handelse/alltraffens-julfest-4/
END:VEVENT
BEGIN:VEVENT
DTSTART;TZID=Europe/Stockholm:20191208T173000
DTEND;TZID=Europe/Stockholm:20191208T173000
DTSTAMP:20260422T000220
CREATED:20191127T204840Z
LAST-MODIFIED:20191127T204840Z
UID:3762-1575826200-1575826200@www.boden.pingst.se
SUMMARY:Församlingsmöte
DESCRIPTION:
URL:https://www.boden.pingst.se/handelse/forsamlingsmote-5/
END:VEVENT
BEGIN:VEVENT
DTSTART;TZID=Europe/Stockholm:20191208T110000
DTEND;TZID=Europe/Stockholm:20191208T110000
DTSTAMP:20260422T000220
CREATED:20191127T204816Z
LAST-MODIFIED:20191127T204816Z
UID:3761-1575802800-1575802800@www.boden.pingst.se
SUMMARY:Julkonsert
DESCRIPTION:med Miniton\, Glädjeton och Tonica. En konsert full med julstämning\, sång\, musik och berättelsen om den första julen. Varmt välkomna!
URL:https://www.boden.pingst.se/handelse/julkonsert-3/
END:VEVENT
BEGIN:VEVENT
DTSTART;TZID=Europe/Stockholm:20191207T110000
DTEND;TZID=Europe/Stockholm:20191207T110000
DTSTAMP:20260422T000220
CREATED:20191127T204724Z
LAST-MODIFIED:20191127T204724Z
UID:3760-1575716400-1575716400@www.boden.pingst.se
SUMMARY:Stråkövning
DESCRIPTION:
URL:https://www.boden.pingst.se/handelse/strakovning-11/
END:VEVENT
BEGIN:VEVENT
DTSTART;TZID=Europe/Stockholm:20191206T193000
DTEND;TZID=Europe/Stockholm:20191206T193000
DTSTAMP:20260422T000220
CREATED:20191127T204626Z
LAST-MODIFIED:20191127T204626Z
UID:3759-1575660600-1575660600@www.boden.pingst.se
SUMMARY:Ung på Noah's
DESCRIPTION:
URL:https://www.boden.pingst.se/handelse/ung-pa-noahs-26/
END:VEVENT
BEGIN:VEVENT
DTSTART;TZID=Europe/Stockholm:20191206T183000
DTEND;TZID=Europe/Stockholm:20191206T183000
DTSTAMP:20260422T000220
CREATED:20191127T204547Z
LAST-MODIFIED:20191127T204547Z
UID:3758-1575657000-1575657000@www.boden.pingst.se
SUMMARY:Julkonsert
DESCRIPTION:med Miniton\, Glädjeton och Tonica. En kväll full med julstämning\, sång\, musik och berättelsen om den första julen. Varmt välkomna!
URL:https://www.boden.pingst.se/handelse/julkonsert-2/
END:VEVENT
BEGIN:VEVENT
DTSTART;TZID=Europe/Stockholm:20191206T170000
DTEND;TZID=Europe/Stockholm:20191206T170000
DTSTAMP:20260422T000220
CREATED:20191127T204342Z
LAST-MODIFIED:20191127T204342Z
UID:3757-1575651600-1575651600@www.boden.pingst.se
SUMMARY:Minibrass
DESCRIPTION:
URL:https://www.boden.pingst.se/handelse/minibrass-13/
END:VEVENT
BEGIN:VEVENT
DTSTART;TZID=Europe/Stockholm:20191205T190000
DTEND;TZID=Europe/Stockholm:20191205T190000
DTSTAMP:20260422T000220
CREATED:20191127T204314Z
LAST-MODIFIED:20191127T204314Z
UID:3756-1575572400-1575572400@www.boden.pingst.se
SUMMARY:LP-möte
DESCRIPTION:med Tommy Ström\, LP-vännerna sjunger
URL:https://www.boden.pingst.se/handelse/lp-mote-239/
END:VEVENT
BEGIN:VEVENT
DTSTART;TZID=Europe/Stockholm:20191202T170000
DTEND;TZID=Europe/Stockholm:20191202T170000
DTSTAMP:20260422T000220
CREATED:20191127T204230Z
LAST-MODIFIED:20191127T204230Z
UID:3755-1575306000-1575306000@www.boden.pingst.se
SUMMARY:Arbetskväll på Secondhand
DESCRIPTION:
URL:https://www.boden.pingst.se/handelse/arbetskvall-pa-secondhand-11/
END:VEVENT
BEGIN:VEVENT
DTSTART;TZID=Europe/Stockholm:20191201T150000
DTEND;TZID=Europe/Stockholm:20191201T150000
DTSTAMP:20260422T000220
CREATED:20191118T143124Z
LAST-MODIFIED:20191118T143124Z
UID:3749-1575212400-1575212400@www.boden.pingst.se
SUMMARY:Adventsgudstjänst
DESCRIPTION:i Pingst Luleå med Tigleth Malkey. Tema: ”Och man ska ge honom namnet Kristus”
URL:https://www.boden.pingst.se/handelse/adventsgudstjanst-3/
END:VEVENT
BEGIN:VEVENT
DTSTART;TZID=Europe/Stockholm:20191201T110000
DTEND;TZID=Europe/Stockholm:20191201T110000
DTSTAMP:20260422T000220
CREATED:20191118T143019Z
LAST-MODIFIED:20191118T143204Z
UID:3748-1575198000-1575198000@www.boden.pingst.se
SUMMARY:Adventsgudstjänst
DESCRIPTION:i Pingst Boden med Tigleth Malkey. Tema: ”Och man ska ge honom namnet Jesus”. Barnkyrkan julavslutning\, kyrkfika efteråt.
URL:https://www.boden.pingst.se/handelse/adventsgudstjanst-2/
END:VEVENT
BEGIN:VEVENT
DTSTART;TZID=Europe/Stockholm:20191130T150000
DTEND;TZID=Europe/Stockholm:20191130T180000
DTSTAMP:20260422T000220
CREATED:20191118T142916Z
LAST-MODIFIED:20191118T142916Z
UID:3747-1575126000-1575136800@www.boden.pingst.se
SUMMARY:Inspirationsträff för ledare och volontärer
DESCRIPTION:med Tigleth Malkey i Pingst Luleå. Kvällen avslutas med middag tillsammans. Anmälan görs till pastor@lulea.pingst.se eller till 0920-220815 senast den 28/11.
URL:https://www.boden.pingst.se/handelse/inspirationstraff-for-ledare-och-volontarer/
END:VEVENT
BEGIN:VEVENT
DTSTART;TZID=Europe/Stockholm:20191130T110000
DTEND;TZID=Europe/Stockholm:20191130T110000
DTSTAMP:20260422T000220
CREATED:20191118T175641Z
LAST-MODIFIED:20191118T175641Z
UID:3751-1575111600-1575111600@www.boden.pingst.se
SUMMARY:Stråkövning
DESCRIPTION:
URL:https://www.boden.pingst.se/handelse/strakovning-10/
END:VEVENT
BEGIN:VEVENT
DTSTART;TZID=Europe/Stockholm:20191129T210000
DTEND;TZID=Europe/Stockholm:20191129T210000
DTSTAMP:20260422T000220
CREATED:20191022T125922Z
LAST-MODIFIED:20191118T143304Z
UID:3736-1575061200-1575061200@www.boden.pingst.se
SUMMARY:Tjugoett
DESCRIPTION:en Gudstjänst för kvällspigga! Tigleth Malkey talar\, det blir lovsång och bön. Tema: ”Och man ska ge honom namnet Emmanuel”
URL:https://www.boden.pingst.se/handelse/tjugoett-18/
END:VEVENT
BEGIN:VEVENT
DTSTART;TZID=Europe/Stockholm:20191129T193000
DTEND;TZID=Europe/Stockholm:20191129T193000
DTSTAMP:20260422T000220
CREATED:20191022T125823Z
LAST-MODIFIED:20191022T125823Z
UID:3735-1575055800-1575055800@www.boden.pingst.se
SUMMARY:Häng på Noah's
DESCRIPTION:
URL:https://www.boden.pingst.se/handelse/hang-pa-noahs-9/
END:VEVENT
BEGIN:VEVENT
DTSTART;TZID=Europe/Stockholm:20191129T170000
DTEND;TZID=Europe/Stockholm:20191129T170000
DTSTAMP:20260422T000220
CREATED:20191118T175620Z
LAST-MODIFIED:20191118T175620Z
UID:3750-1575046800-1575046800@www.boden.pingst.se
SUMMARY:Minibrass
DESCRIPTION:
URL:https://www.boden.pingst.se/handelse/minibrass-12/
END:VEVENT
BEGIN:VEVENT
DTSTART;TZID=Europe/Stockholm:20191128T190000
DTEND;TZID=Europe/Stockholm:20191128T190000
DTSTAMP:20260422T000220
CREATED:20191022T125707Z
LAST-MODIFIED:20191022T125707Z
UID:3734-1574967600-1574967600@www.boden.pingst.se
SUMMARY:LP-möte
DESCRIPTION:med Ronny Broström\, LP-vännerna sjunger
URL:https://www.boden.pingst.se/handelse/lp-mote-238/
END:VEVENT
BEGIN:VEVENT
DTSTART;TZID=Europe/Stockholm:20191127T130000
DTEND;TZID=Europe/Stockholm:20191127T130000
DTSTAMP:20260422T000220
CREATED:20191118T142750Z
LAST-MODIFIED:20191118T142750Z
UID:3746-1574859600-1574859600@www.boden.pingst.se
SUMMARY:Dagledigträff i Bredåker
DESCRIPTION:med Christer Öberg\, servering
URL:https://www.boden.pingst.se/handelse/dagledigtraff-i-bredaker-2/
END:VEVENT
BEGIN:VEVENT
DTSTART;TZID=Europe/Stockholm:20191124T170000
DTEND;TZID=Europe/Stockholm:20191124T170000
DTSTAMP:20260422T000220
CREATED:20191117T075004Z
LAST-MODIFIED:20191117T075004Z
UID:3740-1574614800-1574614800@www.boden.pingst.se
SUMMARY:Volontärträff på Returidé Secondhand
DESCRIPTION:Alla volontärer är varmt välkomna! Det blir information\, inspiration och gott fika.
URL:https://www.boden.pingst.se/handelse/volontartraff-pa-returide-secondhand-2/
END:VEVENT
BEGIN:VEVENT
DTSTART;TZID=Europe/Stockholm:20191124T110000
DTEND;TZID=Europe/Stockholm:20191124T110000
DTSTAMP:20260422T000220
CREATED:20191022T125548Z
LAST-MODIFIED:20191118T100449Z
UID:3733-1574593200-1574593200@www.boden.pingst.se
SUMMARY:Gudstjänst
DESCRIPTION:med Herbert Jacobsson\, Barnkyrkan och efteråt kyrkfika.
URL:https://www.boden.pingst.se/handelse/gudstjanst-316/
END:VEVENT
BEGIN:VEVENT
DTSTART;TZID=Europe/Stockholm:20191122T193000
DTEND;TZID=Europe/Stockholm:20191122T193000
DTSTAMP:20260422T000220
CREATED:20191022T124441Z
LAST-MODIFIED:20191113T190304Z
UID:3729-1574451000-1574451000@www.boden.pingst.se
SUMMARY:Ung på Noah's
DESCRIPTION:
URL:https://www.boden.pingst.se/handelse/ung-pa-noahs-25/
END:VEVENT
BEGIN:VEVENT
DTSTART;TZID=Europe/Stockholm:20191122T170000
DTEND;TZID=Europe/Stockholm:20191122T170000
DTSTAMP:20260422T000220
CREATED:20191117T075120Z
LAST-MODIFIED:20191117T075120Z
UID:3741-1574442000-1574442000@www.boden.pingst.se
SUMMARY:Minibrass
DESCRIPTION:
URL:https://www.boden.pingst.se/handelse/minibrass-11/
END:VEVENT
BEGIN:VEVENT
DTSTART;TZID=Europe/Stockholm:20191121T190000
DTEND;TZID=Europe/Stockholm:20191121T190000
DTSTAMP:20260422T000220
CREATED:20191022T124819Z
LAST-MODIFIED:20191022T125413Z
UID:3732-1574362800-1574362800@www.boden.pingst.se
SUMMARY:LP-möte
DESCRIPTION:med Sibylla Engman\, LP-vännerna sjunger
URL:https://www.boden.pingst.se/handelse/lp-mote-237/
END:VEVENT
BEGIN:VEVENT
DTSTART;TZID=Europe/Stockholm:20191117T110000
DTEND;TZID=Europe/Stockholm:20191117T110000
DTSTAMP:20260422T000220
CREATED:20191022T124710Z
LAST-MODIFIED:20191022T124710Z
UID:3731-1573988400-1573988400@www.boden.pingst.se
SUMMARY:Gudstjänst
DESCRIPTION:med Maria Flodin\, Barnkyrkan\, Sjung mé\, nattvard och efteråt kyrkfika
URL:https://www.boden.pingst.se/handelse/gudstjanst-315/
END:VEVENT
BEGIN:VEVENT
DTSTART;TZID=Europe/Stockholm:20191116T103000
DTEND;TZID=Europe/Stockholm:20191116T103000
DTSTAMP:20260422T000220
CREATED:20191022T124605Z
LAST-MODIFIED:20191110T090623Z
UID:3730-1573900200-1573900200@www.boden.pingst.se
SUMMARY:Unga vuxna brunch
DESCRIPTION:på Noah’s för dig som är mellan 18-35 (ungefär). Maria Flodin kommer att tala och det blir en stund med god gemenskap\, samtal och brunch.
URL:https://www.boden.pingst.se/handelse/unga-vuxna-brunch/
END:VEVENT
BEGIN:VEVENT
DTSTART;TZID=Europe/Stockholm:20191114T190000
DTEND;TZID=Europe/Stockholm:20191114T190000
DTSTAMP:20260422T000220
CREATED:20191022T124330Z
LAST-MODIFIED:20191029T130102Z
UID:3728-1573758000-1573758000@www.boden.pingst.se
SUMMARY:LP-möte
DESCRIPTION:med David Sundström\, LP-vännerna sjunger
URL:https://www.boden.pingst.se/handelse/lp-mote-236/
END:VEVENT
BEGIN:VEVENT
DTSTART;TZID=Europe/Stockholm:20191113T130000
DTEND;TZID=Europe/Stockholm:20191113T130000
DTSTAMP:20260422T000220
CREATED:20191022T124249Z
LAST-MODIFIED:20191022T124249Z
UID:3727-1573650000-1573650000@www.boden.pingst.se
SUMMARY:Allträff
DESCRIPTION:”Mitt liv som präst” med Tomas Lång
URL:https://www.boden.pingst.se/handelse/alltraff-29/
END:VEVENT
BEGIN:VEVENT
DTSTART;TZID=Europe/Stockholm:20191112T190000
DTEND;TZID=Europe/Stockholm:20191112T190000
DTSTAMP:20260422T000220
CREATED:20191022T124059Z
LAST-MODIFIED:20191022T124059Z
UID:3726-1573585200-1573585200@www.boden.pingst.se
SUMMARY:Bönegrupperna träffas
DESCRIPTION:
URL:https://www.boden.pingst.se/handelse/bonegrupperna-traffas/
END:VEVENT
BEGIN:VEVENT
DTSTART;TZID=Europe/Stockholm:20191111T193000
DTEND;TZID=Europe/Stockholm:20191111T193000
DTSTAMP:20260422T000220
CREATED:20191022T124001Z
LAST-MODIFIED:20191022T124001Z
UID:3725-1573500600-1573500600@www.boden.pingst.se
SUMMARY:Sjung mé övar
DESCRIPTION:
URL:https://www.boden.pingst.se/handelse/sjung-me-ovar-26/
END:VEVENT
BEGIN:VEVENT
DTSTART;TZID=Europe/Stockholm:20191110T110000
DTEND;TZID=Europe/Stockholm:20191110T110000
DTSTAMP:20260422T000220
CREATED:20191022T123842Z
LAST-MODIFIED:20191022T123842Z
UID:3724-1573383600-1573383600@www.boden.pingst.se
SUMMARY:Gudstjänst
DESCRIPTION:med Johan Enström\, Barnkyrka\, kyrkfika efteråt
URL:https://www.boden.pingst.se/handelse/gudstjanst-314/
END:VEVENT
END:VCALENDAR