BEGIN:VCALENDAR
VERSION:2.0
PRODID:-//Pingstkyrkan i Boden - ECPv6.8.2.1//NONSGML v1.0//EN
CALSCALE:GREGORIAN
METHOD:PUBLISH
X-WR-CALNAME:Pingstkyrkan i Boden
X-ORIGINAL-URL:https://www.boden.pingst.se
X-WR-CALDESC:Events for Pingstkyrkan i Boden
REFRESH-INTERVAL;VALUE=DURATION:PT1H
X-Robots-Tag:noindex
X-PUBLISHED-TTL:PT1H
BEGIN:VTIMEZONE
TZID:Europe/Stockholm
BEGIN:DAYLIGHT
TZOFFSETFROM:+0100
TZOFFSETTO:+0200
TZNAME:CEST
DTSTART:20190331T010000
END:DAYLIGHT
BEGIN:STANDARD
TZOFFSETFROM:+0200
TZOFFSETTO:+0100
TZNAME:CET
DTSTART:20191027T010000
END:STANDARD
BEGIN:DAYLIGHT
TZOFFSETFROM:+0100
TZOFFSETTO:+0200
TZNAME:CEST
DTSTART:20200329T010000
END:DAYLIGHT
BEGIN:STANDARD
TZOFFSETFROM:+0200
TZOFFSETTO:+0100
TZNAME:CET
DTSTART:20201025T010000
END:STANDARD
END:VTIMEZONE
BEGIN:VEVENT
DTSTART;TZID=Europe/Stockholm:20200202T173000
DTEND;TZID=Europe/Stockholm:20200202T173000
DTSTAMP:20260421T040454
CREATED:20191217T145138Z
LAST-MODIFIED:20191217T145138Z
UID:3801-1580664600-1580664600@www.boden.pingst.se
SUMMARY:Församlingsmöte
DESCRIPTION:
URL:https://www.boden.pingst.se/handelse/forsamlingsmote-7/
END:VEVENT
BEGIN:VEVENT
DTSTART;TZID=Europe/Stockholm:20200202T110000
DTEND;TZID=Europe/Stockholm:20200202T110000
DTSTAMP:20260421T040454
CREATED:20191217T144617Z
LAST-MODIFIED:20191217T144617Z
UID:3797-1580641200-1580641200@www.boden.pingst.se
SUMMARY:Gudstjänst
DESCRIPTION:med Christine Viklund
URL:https://www.boden.pingst.se/handelse/gudstjanst-321/
END:VEVENT
BEGIN:VEVENT
DTSTART;TZID=Europe/Stockholm:20200201T130000
DTEND;TZID=Europe/Stockholm:20200201T160000
DTSTAMP:20260421T040454
CREATED:20200106T095730Z
LAST-MODIFIED:20200106T095730Z
UID:3817-1580562000-1580572800@www.boden.pingst.se
SUMMARY:Ledardag med Christine Viklund
DESCRIPTION:under temat ”Det finns hopp för psykisk hälsa”
URL:https://www.boden.pingst.se/handelse/ledardag-med-christine-viklund/
END:VEVENT
BEGIN:VEVENT
DTSTART;TZID=Europe/Stockholm:20200131T210000
DTEND;TZID=Europe/Stockholm:20200131T210000
DTSTAMP:20260421T040454
CREATED:20200106T095641Z
LAST-MODIFIED:20200106T095641Z
UID:3816-1580504400-1580504400@www.boden.pingst.se
SUMMARY:Tjugoett
DESCRIPTION:en Gudstjänst för kvällspigga! Besök av Christine Viklund\, bön och lovsång.
URL:https://www.boden.pingst.se/handelse/tjugoett-19/
END:VEVENT
BEGIN:VEVENT
DTSTART;TZID=Europe/Stockholm:20200130T190000
DTEND;TZID=Europe/Stockholm:20200130T190000
DTSTAMP:20260421T040454
CREATED:20200106T095555Z
LAST-MODIFIED:20200106T095555Z
UID:3815-1580410800-1580410800@www.boden.pingst.se
SUMMARY:LP-möte
DESCRIPTION:med Allan Näsvall\, LP-vännerna sjunger
URL:https://www.boden.pingst.se/handelse/lp-mote-243/
END:VEVENT
BEGIN:VEVENT
DTSTART;TZID=Europe/Stockholm:20200126T110000
DTEND;TZID=Europe/Stockholm:20200126T110000
DTSTAMP:20260421T040454
CREATED:20191217T144513Z
LAST-MODIFIED:20200114T152412Z
UID:3796-1580036400-1580036400@www.boden.pingst.se
SUMMARY:Gudstjänst
DESCRIPTION:med Malte Holmquist\, Barnkyrkan\, kyrkfika efteråt
URL:https://www.boden.pingst.se/handelse/gudstjanst-320/
END:VEVENT
BEGIN:VEVENT
DTSTART;TZID=Europe/Stockholm:20200124T193000
DTEND;TZID=Europe/Stockholm:20200124T193000
DTSTAMP:20260421T040454
CREATED:20200106T095443Z
LAST-MODIFIED:20200106T095443Z
UID:3814-1579894200-1579894200@www.boden.pingst.se
SUMMARY:Ung på Noah's
DESCRIPTION:
URL:https://www.boden.pingst.se/handelse/ung-pa-noahs-27/
END:VEVENT
BEGIN:VEVENT
DTSTART;TZID=Europe/Stockholm:20200124T184500
DTEND;TZID=Europe/Stockholm:20200124T184500
DTSTAMP:20260421T040454
CREATED:20200106T095402Z
LAST-MODIFIED:20200106T095402Z
UID:3813-1579891500-1579891500@www.boden.pingst.se
SUMMARY:Mixen
DESCRIPTION:aktiviteter för barn i åk 2-6
URL:https://www.boden.pingst.se/handelse/mixen-27/
END:VEVENT
BEGIN:VEVENT
DTSTART;TZID=Europe/Stockholm:20200124T180000
DTEND;TZID=Europe/Stockholm:20200124T180000
DTSTAMP:20260421T040454
CREATED:20200106T095316Z
LAST-MODIFIED:20200106T095316Z
UID:3812-1579888800-1579888800@www.boden.pingst.se
SUMMARY:Miniton och Glädjeton
DESCRIPTION:barnkörer för åldrarna 4-12 år
URL:https://www.boden.pingst.se/handelse/miniton-och-gladjeton-8/
END:VEVENT
BEGIN:VEVENT
DTSTART;TZID=Europe/Stockholm:20200124T170000
DTEND;TZID=Europe/Stockholm:20200124T170000
DTSTAMP:20260421T040454
CREATED:20200106T095215Z
LAST-MODIFIED:20200106T095215Z
UID:3811-1579885200-1579885200@www.boden.pingst.se
SUMMARY:Minibrass
DESCRIPTION:
URL:https://www.boden.pingst.se/handelse/minibrass-14/
END:VEVENT
BEGIN:VEVENT
DTSTART;TZID=Europe/Stockholm:20200123T190000
DTEND;TZID=Europe/Stockholm:20200123T190000
DTSTAMP:20260421T040454
CREATED:20200106T095139Z
LAST-MODIFIED:20200106T095139Z
UID:3810-1579806000-1579806000@www.boden.pingst.se
SUMMARY:LP-möte
DESCRIPTION:med Maine Lindström\, LP-vännerna sjunger
URL:https://www.boden.pingst.se/handelse/lp-mote-242/
END:VEVENT
BEGIN:VEVENT
DTSTART;TZID=Europe/Stockholm:20200121T190000
DTEND;TZID=Europe/Stockholm:20200121T190000
DTSTAMP:20260421T040454
CREATED:20200106T095103Z
LAST-MODIFIED:20200106T095103Z
UID:3809-1579633200-1579633200@www.boden.pingst.se
SUMMARY:Bönegrupperna träffas
DESCRIPTION:
URL:https://www.boden.pingst.se/handelse/bonegrupperna-traffas-2/
END:VEVENT
BEGIN:VEVENT
DTSTART;TZID=Europe/Stockholm:20200120T173000
DTEND;TZID=Europe/Stockholm:20200120T173000
DTSTAMP:20260421T040454
CREATED:20200114T152318Z
LAST-MODIFIED:20200114T152318Z
UID:3827-1579541400-1579541400@www.boden.pingst.se
SUMMARY:Upptakt för barnledare
DESCRIPTION:för mer information kontakta Benjamin på 070-233 21 25
URL:https://www.boden.pingst.se/handelse/upptakt-for-barnledare/
END:VEVENT
BEGIN:VEVENT
DTSTART;TZID=Europe/Stockholm:20200119T110000
DTEND;TZID=Europe/Stockholm:20200119T110000
DTSTAMP:20260421T040454
CREATED:20191217T140846Z
LAST-MODIFIED:20200112T084804Z
UID:3794-1579431600-1579431600@www.boden.pingst.se
SUMMARY:Gudstjänst
DESCRIPTION:med besök av Richard Svensson\, Sjung mé\, nattvard
URL:https://www.boden.pingst.se/handelse/gudstjanst-318/
END:VEVENT
BEGIN:VEVENT
DTSTART;TZID=Europe/Stockholm:20200118T110000
DTEND;TZID=Europe/Stockholm:20200118T110000
DTSTAMP:20260421T040454
CREATED:20200112T084704Z
LAST-MODIFIED:20200112T084704Z
UID:3822-1579345200-1579345200@www.boden.pingst.se
SUMMARY:Stråkövning
DESCRIPTION:
URL:https://www.boden.pingst.se/handelse/strakovning-12/
END:VEVENT
BEGIN:VEVENT
DTSTART;TZID=Europe/Stockholm:20200117T193000
DTEND;TZID=Europe/Stockholm:20200117T193000
DTSTAMP:20260421T040454
CREATED:20200106T094929Z
LAST-MODIFIED:20200106T094929Z
UID:3808-1579289400-1579289400@www.boden.pingst.se
SUMMARY:Ung på Noah's startar
DESCRIPTION:
URL:https://www.boden.pingst.se/handelse/ung-pa-noahs-startar-2/
END:VEVENT
BEGIN:VEVENT
DTSTART;TZID=Europe/Stockholm:20200117T170000
DTEND;TZID=Europe/Stockholm:20200117T170000
DTSTAMP:20260421T040454
CREATED:20200112T084613Z
LAST-MODIFIED:20200112T084613Z
UID:3821-1579280400-1579280400@www.boden.pingst.se
SUMMARY:Minibrass
DESCRIPTION:
URL:https://www.boden.pingst.se/handelse/minibrass-15/
END:VEVENT
BEGIN:VEVENT
DTSTART;TZID=Europe/Stockholm:20200116T190000
DTEND;TZID=Europe/Stockholm:20200116T190000
DTSTAMP:20260421T040454
CREATED:20200106T094848Z
LAST-MODIFIED:20200106T094848Z
UID:3807-1579201200-1579201200@www.boden.pingst.se
SUMMARY:LP-möte
DESCRIPTION:med Christer Öberg\, LP-vännerna sjunger
URL:https://www.boden.pingst.se/handelse/lp-mote-241/
END:VEVENT
BEGIN:VEVENT
DTSTART;TZID=Europe/Stockholm:20200116T180000
DTEND;TZID=Europe/Stockholm:20200116T180000
DTSTAMP:20260421T040454
CREATED:20200106T094810Z
LAST-MODIFIED:20200112T084325Z
UID:3806-1579197600-1579197600@www.boden.pingst.se
SUMMARY:Träff för föräldrar
DESCRIPTION:som har barn i barnverksamheten. Plats: Noah’s
URL:https://www.boden.pingst.se/handelse/traff-for-foraldrar/
END:VEVENT
BEGIN:VEVENT
DTSTART;TZID=Europe/Stockholm:20200113T130000
DTEND;TZID=Europe/Stockholm:20200113T130000
DTSTAMP:20260421T040454
CREATED:20200106T094722Z
LAST-MODIFIED:20200106T094722Z
UID:3805-1578920400-1578920400@www.boden.pingst.se
SUMMARY:Stickgruppen startar
DESCRIPTION:
URL:https://www.boden.pingst.se/handelse/stickgruppen-startar-5/
END:VEVENT
BEGIN:VEVENT
DTSTART;TZID=Europe/Stockholm:20200112T110000
DTEND;TZID=Europe/Stockholm:20200112T110000
DTSTAMP:20260421T040454
CREATED:20191217T144439Z
LAST-MODIFIED:20191217T144439Z
UID:3795-1578826800-1578826800@www.boden.pingst.se
SUMMARY:Gudstjänst
DESCRIPTION:med Christer Holmgren
URL:https://www.boden.pingst.se/handelse/gudstjanst-319/
END:VEVENT
BEGIN:VEVENT
DTSTART;TZID=Europe/Stockholm:20200111T090000
DTEND;TZID=Europe/Stockholm:20200111T090000
DTSTAMP:20260421T040454
CREATED:20200112T084518Z
LAST-MODIFIED:20200112T084518Z
UID:3820-1578733200-1578733200@www.boden.pingst.se
SUMMARY:Bön i stadshuset
DESCRIPTION:
URL:https://www.boden.pingst.se/handelse/bon-i-stadshuset-17/
END:VEVENT
BEGIN:VEVENT
DTSTART;TZID=Europe/Stockholm:20200106T070000
DTEND;TZID=Europe/Stockholm:20200106T070000
DTSTAMP:20260421T040454
CREATED:20200106T091242Z
LAST-MODIFIED:20200106T092048Z
UID:3804-1578294000-1578294000@www.boden.pingst.se
SUMMARY:Bönevecka
DESCRIPTION:BÖNEVECKA! Under vecka 2 har vi något som vi kallar 24/7-bön\, det innebär att det varje dag\, dygnet runt kommer att vara någon i församlingen som ber. Det finns ett schema på kyrkan eller en länk nedan att fylla i om du vill ha någon specifik tid\, annars så vill vi uppmuntra dig att vara med i bön för vår stad under denna vecka.\n\n\n \n\n\nKryssa i den rutan för den tid du är med och ber – låt oss tillsammans fylla hela veckan med bön!\n\n\nhttps://docs.google.com/spreadsheets/d/1EOJxjbyVxKOiqKeZS5NK7KF2Iek9kxsEdRySUx_9y64/edit?usp=sharing\n\n\n \n\n\nVarmt välkommen på Gudstjänst på söndag klockan 11.00!
URL:https://www.boden.pingst.se/handelse/bonevecka/
END:VEVENT
BEGIN:VEVENT
DTSTART;TZID=Europe/Stockholm:20200105T110000
DTEND;TZID=Europe/Stockholm:20200105T110000
DTSTAMP:20260421T040454
CREATED:20191127T205518Z
LAST-MODIFIED:20200105T082602Z
UID:3770-1578222000-1578222000@www.boden.pingst.se
SUMMARY:Årets första möte
DESCRIPTION:med knytkalas och vittnesbörd! Församlingsmöte efteråt.
URL:https://www.boden.pingst.se/handelse/arets-forsta-mote/
END:VEVENT
BEGIN:VEVENT
DTSTART;TZID=Europe/Stockholm:20191229T110000
DTEND;TZID=Europe/Stockholm:20191229T110000
DTSTAMP:20260421T040454
CREATED:20191127T205445Z
LAST-MODIFIED:20191127T205445Z
UID:3769-1577617200-1577617200@www.boden.pingst.se
SUMMARY:Storbönemöte
DESCRIPTION:Tillsammans ber vi för det nya året!
URL:https://www.boden.pingst.se/handelse/storbonemote-7/
END:VEVENT
BEGIN:VEVENT
DTSTART;TZID=Europe/Stockholm:20191226T110000
DTEND;TZID=Europe/Stockholm:20191226T160000
DTSTAMP:20260421T040454
CREATED:20191127T205414Z
LAST-MODIFIED:20191127T205414Z
UID:3768-1577358000-1577376000@www.boden.pingst.se
SUMMARY:Vi ansvarar på RIA
DESCRIPTION:
URL:https://www.boden.pingst.se/handelse/vi-ansvarar-pa-ria/
END:VEVENT
BEGIN:VEVENT
DTSTART;TZID=Europe/Stockholm:20191224T110000
DTEND;TZID=Europe/Stockholm:20191224T110000
DTSTAMP:20260421T040454
CREATED:20191127T205343Z
LAST-MODIFIED:20191127T205343Z
UID:3767-1577185200-1577185200@www.boden.pingst.se
SUMMARY:Julaftonsgudstjänst
DESCRIPTION:Starta julafton på bästa sätt; med Julevangeliet\, julsånger och gemenskap. Efteråt äter vi grötlunch tillsammans! 30kr/person\, 100kr/familj
URL:https://www.boden.pingst.se/handelse/julaftonsgudstjanst/
END:VEVENT
BEGIN:VEVENT
DTSTART;TZID=Europe/Stockholm:20191215T110000
DTEND;TZID=Europe/Stockholm:20191215T110000
DTSTAMP:20260421T040454
CREATED:20191127T205217Z
LAST-MODIFIED:20191127T205217Z
UID:3766-1576407600-1576407600@www.boden.pingst.se
SUMMARY:Gudstjänst
DESCRIPTION:med Anders Sjöberg\, Sjung mé\, nattvard och efteråt kyrkfika
URL:https://www.boden.pingst.se/handelse/gudstjanst-317/
END:VEVENT
BEGIN:VEVENT
DTSTART;TZID=Europe/Stockholm:20191214T140000
DTEND;TZID=Europe/Stockholm:20191214T160000
DTSTAMP:20260421T040454
CREATED:20191127T205129Z
LAST-MODIFIED:20191127T205129Z
UID:3765-1576332000-1576339200@www.boden.pingst.se
SUMMARY:Bibelstudium
DESCRIPTION:med Anders Sjöberg. Tema: Hela världen väntar – en vandring i Apostlagärningarna. Plats: Rörvikskyrkan
URL:https://www.boden.pingst.se/handelse/bibelstudium-5/
END:VEVENT
BEGIN:VEVENT
DTSTART;TZID=Europe/Stockholm:20191212T190000
DTEND;TZID=Europe/Stockholm:20191212T190000
DTSTAMP:20260421T040454
CREATED:20191127T204957Z
LAST-MODIFIED:20191127T204957Z
UID:3764-1576177200-1576177200@www.boden.pingst.se
SUMMARY:LP-möte
DESCRIPTION:med Malte Holmquist\, LP-vännerna sjunger
URL:https://www.boden.pingst.se/handelse/lp-mote-240/
END:VEVENT
END:VCALENDAR