BEGIN:VCALENDAR
VERSION:2.0
PRODID:-//Pingstkyrkan i Boden - ECPv6.8.2.1//NONSGML v1.0//EN
CALSCALE:GREGORIAN
METHOD:PUBLISH
X-WR-CALNAME:Pingstkyrkan i Boden
X-ORIGINAL-URL:https://www.boden.pingst.se
X-WR-CALDESC:Events for Pingstkyrkan i Boden
REFRESH-INTERVAL;VALUE=DURATION:PT1H
X-Robots-Tag:noindex
X-PUBLISHED-TTL:PT1H
BEGIN:VTIMEZONE
TZID:Europe/Stockholm
BEGIN:DAYLIGHT
TZOFFSETFROM:+0100
TZOFFSETTO:+0200
TZNAME:CEST
DTSTART:20200329T010000
END:DAYLIGHT
BEGIN:STANDARD
TZOFFSETFROM:+0200
TZOFFSETTO:+0100
TZNAME:CET
DTSTART:20201025T010000
END:STANDARD
END:VTIMEZONE
BEGIN:VEVENT
DTSTART;TZID=Europe/Stockholm:20200329T110000
DTEND;TZID=Europe/Stockholm:20200329T110000
DTSTAMP:20260420T222522
CREATED:20200228T134936Z
LAST-MODIFIED:20200327T160110Z
UID:3881-1585479600-1585479600@www.boden.pingst.se
SUMMARY:Gudstjänst LIVE
DESCRIPTION:OBS! På söndag firar vi inte Gudstjänst i kyrkan i enlighet med regeringens restriktioner. Vi kommer istället att sända live via vår Facebook och via närradion.
URL:https://www.boden.pingst.se/handelse/gudstjanst-328/
END:VEVENT
BEGIN:VEVENT
DTSTART;TZID=Europe/Stockholm:20200322T110000
DTEND;TZID=Europe/Stockholm:20200322T110000
DTSTAMP:20260420T222522
CREATED:20200228T134459Z
LAST-MODIFIED:20200228T134459Z
UID:3878-1584874800-1584874800@www.boden.pingst.se
SUMMARY:Gudstjänst
DESCRIPTION:med Stefan Beimark\, Barnkyrkan och efteråt kyrkfika
URL:https://www.boden.pingst.se/handelse/gudstjanst-327/
END:VEVENT
BEGIN:VEVENT
DTSTART;TZID=Europe/Stockholm:20200320T193000
DTEND;TZID=Europe/Stockholm:20200320T193000
DTSTAMP:20260420T222522
CREATED:20200228T134332Z
LAST-MODIFIED:20200228T134332Z
UID:3876-1584732600-1584732600@www.boden.pingst.se
SUMMARY:Ung på Noah's
DESCRIPTION:
URL:https://www.boden.pingst.se/handelse/ung-pa-noahs-28/
END:VEVENT
BEGIN:VEVENT
DTSTART;TZID=Europe/Stockholm:20200320T180000
DTEND;TZID=Europe/Stockholm:20200320T180000
DTSTAMP:20260420T222522
CREATED:20200319T113337Z
LAST-MODIFIED:20200319T113337Z
UID:3894-1584727200-1584727200@www.boden.pingst.se
SUMMARY:Barngrupperna till Pagla
DESCRIPTION:Vi kommer att åka pulka och hitta på andra roliga aktiviteter. Samling i Pagla klockan 18.00\, behöver ditt barn skjuts kan du kontakta Benjamin på 073-0675567.
URL:https://www.boden.pingst.se/handelse/barngrupperna-till-pagla/
END:VEVENT
BEGIN:VEVENT
DTSTART;TZID=Europe/Stockholm:20200315T110000
DTEND;TZID=Europe/Stockholm:20200315T110000
DTSTAMP:20260420T222522
CREATED:20200228T134113Z
LAST-MODIFIED:20200228T134113Z
UID:3873-1584270000-1584270000@www.boden.pingst.se
SUMMARY:Gudstjänst
DESCRIPTION:med välkomnande av Torbjörn Björk\, nattvard\, dop\, Barnkyrka och efteråt kyrkfika.
URL:https://www.boden.pingst.se/handelse/gudstjanst-326/
END:VEVENT
BEGIN:VEVENT
DTSTART;TZID=Europe/Stockholm:20200314T120000
DTEND;TZID=Europe/Stockholm:20200314T120000
DTSTAMP:20260420T222522
CREATED:20200228T134031Z
LAST-MODIFIED:20200228T134031Z
UID:3872-1584187200-1584187200@www.boden.pingst.se
SUMMARY:Stråkövning
DESCRIPTION:
URL:https://www.boden.pingst.se/handelse/strakovning-14/
END:VEVENT
BEGIN:VEVENT
DTSTART;TZID=Europe/Stockholm:20200314T100000
DTEND;TZID=Europe/Stockholm:20200314T100000
DTSTAMP:20260420T222522
CREATED:20200310T072806Z
LAST-MODIFIED:20200310T072806Z
UID:3884-1584180000-1584180000@www.boden.pingst.se
SUMMARY:Vi ansvarar på RIA
DESCRIPTION:
URL:https://www.boden.pingst.se/handelse/vi-ansvarar-pa-ria-2/
END:VEVENT
BEGIN:VEVENT
DTSTART;TZID=Europe/Stockholm:20200313T210000
DTEND;TZID=Europe/Stockholm:20200313T210000
DTSTAMP:20260420T222522
CREATED:20200228T133907Z
LAST-MODIFIED:20200228T133956Z
UID:3871-1584133200-1584133200@www.boden.pingst.se
SUMMARY:Tjugoett
DESCRIPTION:En Gudstjänst med predikan\, bön och lovsång för kvällspigga!
URL:https://www.boden.pingst.se/handelse/tjugoett-20/
END:VEVENT
BEGIN:VEVENT
DTSTART;TZID=Europe/Stockholm:20200313T193000
DTEND;TZID=Europe/Stockholm:20200313T193000
DTSTAMP:20260420T222522
CREATED:20200228T133847Z
LAST-MODIFIED:20200228T133847Z
UID:3870-1584127800-1584127800@www.boden.pingst.se
SUMMARY:Häng på Noah's
DESCRIPTION:
URL:https://www.boden.pingst.se/handelse/hang-pa-noahs-10/
END:VEVENT
BEGIN:VEVENT
DTSTART;TZID=Europe/Stockholm:20200311T130000
DTEND;TZID=Europe/Stockholm:20200311T130000
DTSTAMP:20260420T222522
CREATED:20200228T133256Z
LAST-MODIFIED:20200228T133256Z
UID:3865-1583931600-1583931600@www.boden.pingst.se
SUMMARY:Dagträff i Bredåker
DESCRIPTION:med Kurt-Arne Mörtsell
URL:https://www.boden.pingst.se/handelse/dagtraff-i-bredaker-14/
END:VEVENT
BEGIN:VEVENT
DTSTART;TZID=Europe/Stockholm:20200308T173000
DTEND;TZID=Europe/Stockholm:20200308T173000
DTSTAMP:20260420T222522
CREATED:20200211T140531Z
LAST-MODIFIED:20200211T140531Z
UID:3855-1583688600-1583688600@www.boden.pingst.se
SUMMARY:Församlingens årsmöte
DESCRIPTION:
URL:https://www.boden.pingst.se/handelse/forsamlingens-arsmote/
END:VEVENT
BEGIN:VEVENT
DTSTART;TZID=Europe/Stockholm:20200308T110000
DTEND;TZID=Europe/Stockholm:20200308T110000
DTSTAMP:20260420T222522
CREATED:20200211T140822Z
LAST-MODIFIED:20200211T140822Z
UID:3856-1583665200-1583665200@www.boden.pingst.se
SUMMARY:Gudstjänst
DESCRIPTION:med Frida Nyberg\, Sjung mé
URL:https://www.boden.pingst.se/handelse/gudstjanst-325/
END:VEVENT
BEGIN:VEVENT
DTSTART;TZID=Europe/Stockholm:20200305T190000
DTEND;TZID=Europe/Stockholm:20200305T190000
DTSTAMP:20260420T222522
CREATED:20200228T133143Z
LAST-MODIFIED:20200228T133143Z
UID:3864-1583434800-1583434800@www.boden.pingst.se
SUMMARY:LP-möte
DESCRIPTION:med Johan Enström\, LP-vännerna sjunger
URL:https://www.boden.pingst.se/handelse/lp-mote-248/
END:VEVENT
BEGIN:VEVENT
DTSTART;TZID=Europe/Stockholm:20200302T170000
DTEND;TZID=Europe/Stockholm:20200302T170000
DTSTAMP:20260420T222522
CREATED:20200228T134141Z
LAST-MODIFIED:20200228T134141Z
UID:3874-1583168400-1583168400@www.boden.pingst.se
SUMMARY:Arbetskväll på Returidé Secondhand
DESCRIPTION:
URL:https://www.boden.pingst.se/handelse/arbetskvall-pa-returide-secondhand/
END:VEVENT
BEGIN:VEVENT
DTSTART;TZID=Europe/Stockholm:20200301T110000
DTEND;TZID=Europe/Stockholm:20200301T110000
DTSTAMP:20260420T222522
CREATED:20200211T125223Z
LAST-MODIFIED:20200211T125223Z
UID:3853-1583060400-1583060400@www.boden.pingst.se
SUMMARY:Gudstjänst
DESCRIPTION:med Caroline Söderström\, kyrkfika efteråt
URL:https://www.boden.pingst.se/handelse/gudstjanst-324/
END:VEVENT
BEGIN:VEVENT
DTSTART;TZID=Europe/Stockholm:20200228T180000
DTEND;TZID=Europe/Stockholm:20200228T180000
DTSTAMP:20260420T222522
CREATED:20200211T125150Z
LAST-MODIFIED:20200211T125150Z
UID:3852-1582912800-1582912800@www.boden.pingst.se
SUMMARY:LOV för barnen och ungdomarna
DESCRIPTION:
URL:https://www.boden.pingst.se/handelse/lov-for-barnen-och-ungdomarna/
END:VEVENT
BEGIN:VEVENT
DTSTART;TZID=Europe/Stockholm:20200227T190000
DTEND;TZID=Europe/Stockholm:20200227T190000
DTSTAMP:20260420T222522
CREATED:20200211T125109Z
LAST-MODIFIED:20200211T125109Z
UID:3851-1582830000-1582830000@www.boden.pingst.se
SUMMARY:LP-möte
DESCRIPTION:med Niclas Gyllroth\, LP-vännerna sjunger
URL:https://www.boden.pingst.se/handelse/lp-mote-247/
END:VEVENT
BEGIN:VEVENT
DTSTART;TZID=Europe/Stockholm:20200223T110000
DTEND;TZID=Europe/Stockholm:20200223T110000
DTSTAMP:20260420T222522
CREATED:20191217T145034Z
LAST-MODIFIED:20200211T124902Z
UID:3800-1582455600-1582455600@www.boden.pingst.se
SUMMARY:Gudstjänst
DESCRIPTION:med David Sundström\, Barnkyrka\, Sjung mé och nattvard
URL:https://www.boden.pingst.se/handelse/gudstjanst-323/
END:VEVENT
BEGIN:VEVENT
DTSTART;TZID=Europe/Stockholm:20200222T110000
DTEND;TZID=Europe/Stockholm:20200222T110000
DTSTAMP:20260420T222522
CREATED:20200211T124801Z
LAST-MODIFIED:20200211T124801Z
UID:3849-1582369200-1582369200@www.boden.pingst.se
SUMMARY:Stråkövning
DESCRIPTION:
URL:https://www.boden.pingst.se/handelse/strakovning-13/
END:VEVENT
BEGIN:VEVENT
DTSTART;TZID=Europe/Stockholm:20200220T190000
DTEND;TZID=Europe/Stockholm:20200220T190000
DTSTAMP:20260420T222522
CREATED:20200211T124618Z
LAST-MODIFIED:20200211T124618Z
UID:3848-1582225200-1582225200@www.boden.pingst.se
SUMMARY:LP-möte
DESCRIPTION:med Malte Holmquist\, LP-vännerna sjunger
URL:https://www.boden.pingst.se/handelse/lp-mote-246/
END:VEVENT
BEGIN:VEVENT
DTSTART;TZID=Europe/Stockholm:20200219T130000
DTEND;TZID=Europe/Stockholm:20200219T130000
DTSTAMP:20260420T222522
CREATED:20200211T124534Z
LAST-MODIFIED:20200211T124534Z
UID:3847-1582117200-1582117200@www.boden.pingst.se
SUMMARY:Allträff
DESCRIPTION:”Min morfar och jag” med Niclas Gyllroth
URL:https://www.boden.pingst.se/handelse/alltraff-30/
END:VEVENT
BEGIN:VEVENT
DTSTART;TZID=Europe/Stockholm:20200217T190000
DTEND;TZID=Europe/Stockholm:20200217T190000
DTSTAMP:20260420T222522
CREATED:20200211T124501Z
LAST-MODIFIED:20200211T124501Z
UID:3846-1581966000-1581966000@www.boden.pingst.se
SUMMARY:Sjung mé-kören övar
DESCRIPTION:
URL:https://www.boden.pingst.se/handelse/sjung-me-koren-ovar-37/
END:VEVENT
BEGIN:VEVENT
DTSTART;TZID=Europe/Stockholm:20200216T110000
DTEND;TZID=Europe/Stockholm:20200216T110000
DTSTAMP:20260420T222522
CREATED:20191217T144936Z
LAST-MODIFIED:20191217T144936Z
UID:3799-1581850800-1581850800@www.boden.pingst.se
SUMMARY:Tillsammansgudstjänst
DESCRIPTION:med Benjamin Mattsson\, barnkörerna
URL:https://www.boden.pingst.se/handelse/tillsammansgudstjanst-2/
END:VEVENT
BEGIN:VEVENT
DTSTART;TZID=Europe/Stockholm:20200213T190000
DTEND;TZID=Europe/Stockholm:20200213T190000
DTSTAMP:20260420T222522
CREATED:20200209T081347Z
LAST-MODIFIED:20200209T081347Z
UID:3842-1581620400-1581620400@www.boden.pingst.se
SUMMARY:LP-möte
DESCRIPTION:med Ulrica Vedin\, LP-vännerna sjunger
URL:https://www.boden.pingst.se/handelse/lp-mote-245/
END:VEVENT
BEGIN:VEVENT
DTSTART;TZID=Europe/Stockholm:20200212T153000
DTEND;TZID=Europe/Stockholm:20200212T153000
DTSTAMP:20260420T222522
CREATED:20200209T081246Z
LAST-MODIFIED:20200209T081246Z
UID:3841-1581521400-1581521400@www.boden.pingst.se
SUMMARY:After school
DESCRIPTION:på Noah’s\, för ungdomar.
URL:https://www.boden.pingst.se/handelse/after-school/
END:VEVENT
BEGIN:VEVENT
DTSTART;TZID=Europe/Stockholm:20200211T173000
DTEND;TZID=Europe/Stockholm:20200211T173000
DTSTAMP:20260420T222522
CREATED:20200209T081147Z
LAST-MODIFIED:20200209T081147Z
UID:3840-1581442200-1581442200@www.boden.pingst.se
SUMMARY:Smaka & se
DESCRIPTION:En kväll med Bibel och gemenskap.
URL:https://www.boden.pingst.se/handelse/smaka-se/
END:VEVENT
BEGIN:VEVENT
DTSTART;TZID=Europe/Stockholm:20200209T110000
DTEND;TZID=Europe/Stockholm:20200209T110000
DTSTAMP:20260420T222522
CREATED:20191217T144651Z
LAST-MODIFIED:20200202T090718Z
UID:3798-1581246000-1581246000@www.boden.pingst.se
SUMMARY:Gudstjänst
DESCRIPTION:med Johan Enström\, Barnkyrkan\, Sjung mé och efteråt kyrkfika
URL:https://www.boden.pingst.se/handelse/gudstjanst-322/
END:VEVENT
BEGIN:VEVENT
DTSTART;TZID=Europe/Stockholm:20200206T190000
DTEND;TZID=Europe/Stockholm:20200206T190000
DTSTAMP:20260420T222522
CREATED:20200202T090420Z
LAST-MODIFIED:20200202T090420Z
UID:3838-1581015600-1581015600@www.boden.pingst.se
SUMMARY:LP-möte
DESCRIPTION:med Anton Björkman\, LP-vännerna sjunger
URL:https://www.boden.pingst.se/handelse/lp-mote-244/
END:VEVENT
BEGIN:VEVENT
DTSTART;TZID=Europe/Stockholm:20200205T130000
DTEND;TZID=Europe/Stockholm:20200205T130000
DTSTAMP:20260420T222522
CREATED:20200202T090332Z
LAST-MODIFIED:20200202T090332Z
UID:3837-1580907600-1580907600@www.boden.pingst.se
SUMMARY:Dagträff i Bredåker
DESCRIPTION:med Allan Näsvall
URL:https://www.boden.pingst.se/handelse/dagtraff-i-bredaker-13/
END:VEVENT
BEGIN:VEVENT
DTSTART;TZID=Europe/Stockholm:20200203T170000
DTEND;TZID=Europe/Stockholm:20200203T170000
DTSTAMP:20260420T222522
CREATED:20200202T090248Z
LAST-MODIFIED:20200202T090248Z
UID:3836-1580749200-1580749200@www.boden.pingst.se
SUMMARY:Arbetskväll på secondhand
DESCRIPTION:
URL:https://www.boden.pingst.se/handelse/arbetskvall-pa-secondhand-12/
END:VEVENT
END:VCALENDAR