BEGIN:VCALENDAR
VERSION:2.0
PRODID:-//Pingstkyrkan i Boden - ECPv6.8.2.1//NONSGML v1.0//EN
CALSCALE:GREGORIAN
METHOD:PUBLISH
X-WR-CALNAME:Pingstkyrkan i Boden
X-ORIGINAL-URL:https://www.boden.pingst.se
X-WR-CALDESC:Events for Pingstkyrkan i Boden
REFRESH-INTERVAL;VALUE=DURATION:PT1H
X-Robots-Tag:noindex
X-PUBLISHED-TTL:PT1H
BEGIN:VTIMEZONE
TZID:Europe/Stockholm
BEGIN:DAYLIGHT
TZOFFSETFROM:+0100
TZOFFSETTO:+0200
TZNAME:CEST
DTSTART:20200329T010000
END:DAYLIGHT
BEGIN:STANDARD
TZOFFSETFROM:+0200
TZOFFSETTO:+0100
TZNAME:CET
DTSTART:20201025T010000
END:STANDARD
END:VTIMEZONE
BEGIN:VEVENT
DTSTART;VALUE=DATE:20200628
DTEND;VALUE=DATE:20200706
DTSTAMP:20260421T050245
CREATED:20200616T075122Z
LAST-MODIFIED:20200616T075122Z
UID:4038-1593302400-1593993599@www.boden.pingst.se
SUMMARY:Lappis
DESCRIPTION:Lappis har i år ställt om och blivit digitalt! Det kommer att bli bibelstudium och Gudstjänster\, barninslag och ungdomsmöten. Mer information finns på Lappis hemsida lappis.se – detta vill du inte missa! 
URL:https://www.boden.pingst.se/handelse/lappis/
END:VEVENT
BEGIN:VEVENT
DTSTART;TZID=Europe/Stockholm:20200623T190000
DTEND;TZID=Europe/Stockholm:20200623T190000
DTSTAMP:20260421T050245
CREATED:20200616T074729Z
LAST-MODIFIED:20200616T074749Z
UID:4036-1592938800-1592938800@www.boden.pingst.se
SUMMARY:Bön - där du är
DESCRIPTION:Under hela sommaren enas vi som församling i bön varje tisdag klockan 19.00 – var med där du är och be för vår stad\, vårt land och vår omvärld. Bön gör skillnad!
URL:https://www.boden.pingst.se/handelse/bon-dar-du-ar/
END:VEVENT
BEGIN:VEVENT
DTSTART;TZID=Europe/Stockholm:20200621T110000
DTEND;TZID=Europe/Stockholm:20200621T110000
DTSTAMP:20260421T050245
CREATED:20200602T093737Z
LAST-MODIFIED:20200602T093737Z
UID:4020-1592737200-1592737200@www.boden.pingst.se
SUMMARY:Sommargudstjänst
DESCRIPTION:Frida Nyberg predikar\, det blir bön och lovsång. Vi sänder via vår Facebook\, närradion och webbradion.
URL:https://www.boden.pingst.se/handelse/sommargudstjanst-2/
END:VEVENT
BEGIN:VEVENT
DTSTART;TZID=Europe/Stockholm:20200616T190000
DTEND;TZID=Europe/Stockholm:20200616T190000
DTSTAMP:20260421T050245
CREATED:20200616T074444Z
LAST-MODIFIED:20200616T074444Z
UID:4035-1592334000-1592334000@www.boden.pingst.se
SUMMARY:Bön
DESCRIPTION:Tisdagar klockan 19.00 vill vi som församling enas i bön för vår stad\, vårt land och vår värld i rådande situation. \nOavsett var du är kan du vara med – hemma eller tillsammans med oss uppe på Gruvberget. Kyrkan är där du är! \nOBS! Vi kommer att hålla avstånd mellan oss på Gruvberget\, men stanna hemma om du är över 70 år\, i riskgrupp eller är sjuk.
URL:https://www.boden.pingst.se/handelse/bon-3/
END:VEVENT
BEGIN:VEVENT
DTSTART;TZID=Europe/Stockholm:20200615T100000
DTEND;TZID=Europe/Stockholm:20200618T100000
DTSTAMP:20260421T050245
CREATED:20200616T074831Z
LAST-MODIFIED:20200616T074831Z
UID:4037-1592215200-1592474400@www.boden.pingst.se
SUMMARY:Kyrka på stan
DESCRIPTION:
URL:https://www.boden.pingst.se/handelse/kyrka-pa-stan-4/
END:VEVENT
BEGIN:VEVENT
DTSTART;TZID=Europe/Stockholm:20200614T110000
DTEND;TZID=Europe/Stockholm:20200614T110000
DTSTAMP:20260421T050245
CREATED:20200602T093614Z
LAST-MODIFIED:20200602T093614Z
UID:4019-1592132400-1592132400@www.boden.pingst.se
SUMMARY:Gudstjänst
DESCRIPTION:Max Hemström predikar\, det blir bön och lovsång. Vi sänder live via vår Facebook\, närradion och webbradion.
URL:https://www.boden.pingst.se/handelse/gudstjanst-336/
END:VEVENT
BEGIN:VEVENT
DTSTART;TZID=Europe/Stockholm:20200607T110000
DTEND;TZID=Europe/Stockholm:20200607T110000
DTSTAMP:20260421T050245
CREATED:20200602T093532Z
LAST-MODIFIED:20200602T093532Z
UID:4018-1591527600-1591527600@www.boden.pingst.se
SUMMARY:Gudstjänst
DESCRIPTION:Frida Nyberg predikar\, det blir bön och lovsång. Vi sänder live via vår Facebook\, närradion och webbradion.
URL:https://www.boden.pingst.se/handelse/gudstjanst-335/
END:VEVENT
BEGIN:VEVENT
DTSTART;TZID=Europe/Stockholm:20200605T193000
DTEND;TZID=Europe/Stockholm:20200605T193000
DTSTAMP:20260421T050245
CREATED:20200602T094048Z
LAST-MODIFIED:20200602T094048Z
UID:4023-1591385400-1591385400@www.boden.pingst.se
SUMMARY:Ung på Noah's sommaravslutning
DESCRIPTION:
URL:https://www.boden.pingst.se/handelse/ung-pa-noahs-sommaravslutning/
END:VEVENT
BEGIN:VEVENT
DTSTART;TZID=Europe/Stockholm:20200421T190000
DTEND;TZID=Europe/Stockholm:20200421T190000
DTSTAMP:20260421T050245
CREATED:20200331T084005Z
LAST-MODIFIED:20200423T133202Z
UID:3923-1587495600-1587495600@www.boden.pingst.se
SUMMARY:Bön
DESCRIPTION:Tisdagar klockan 19.00 vill vi som församling enas i bön för vår stad\, vårt land och vår värld i rådande situation. \nOavsett var du är kan du vara med – hemma eller tillsammans med oss uppe på Gruvberget. Kyrkan är där du är! \nOBS! Vi kommer att hålla avstånd mellan oss på Gruvberget\, men stanna hemma om du är över 70 år\, i riskgrupp eller är sjuk.
URL:https://www.boden.pingst.se/handelse/bon-2/
END:VEVENT
BEGIN:VEVENT
DTSTART;TZID=Europe/Stockholm:20200531T110000
DTEND;TZID=Europe/Stockholm:20200531T110000
DTSTAMP:20260421T050245
CREATED:20200501T132818Z
LAST-MODIFIED:20200501T132818Z
UID:3988-1590922800-1590922800@www.boden.pingst.se
SUMMARY:Gudstjänst
DESCRIPTION:Frida Nyberg predikar\, det blir bön och lovsång. Vi sänder live via vår Facebook\, närradion och webbradion.
URL:https://www.boden.pingst.se/handelse/gudstjanst-334/
END:VEVENT
BEGIN:VEVENT
DTSTART;TZID=Europe/Stockholm:20200524T110000
DTEND;TZID=Europe/Stockholm:20200524T110000
DTSTAMP:20260421T050245
CREATED:20200501T132720Z
LAST-MODIFIED:20200501T132720Z
UID:3987-1590318000-1590318000@www.boden.pingst.se
SUMMARY:Gudstjänst
DESCRIPTION:Benjamin Mattsson predikar\, det blir bön och lovsång. Vi sänder live via vår Facebook\, närradion och webbradion.
URL:https://www.boden.pingst.se/handelse/gudstjanst-333/
END:VEVENT
BEGIN:VEVENT
DTSTART;TZID=Europe/Stockholm:20200424T193000
DTEND;TZID=Europe/Stockholm:20200424T193000
DTSTAMP:20260421T050245
CREATED:20200423T133029Z
LAST-MODIFIED:20200423T133029Z
UID:3971-1587756600-1587756600@www.boden.pingst.se
SUMMARY:Ung på Noah's
DESCRIPTION:
URL:https://www.boden.pingst.se/handelse/ung-pa-noahs-29/
END:VEVENT
BEGIN:VEVENT
DTSTART;TZID=Europe/Stockholm:20200521T080000
DTEND;TZID=Europe/Stockholm:20200521T080000
DTSTAMP:20260421T050245
CREATED:20200518T081442Z
LAST-MODIFIED:20200518T081442Z
UID:4006-1590048000-1590048000@www.boden.pingst.se
SUMMARY:Andakt via närradion
DESCRIPTION:
URL:https://www.boden.pingst.se/handelse/andakt-via-narradion/
END:VEVENT
BEGIN:VEVENT
DTSTART;TZID=Europe/Stockholm:20200521T080000
DTEND;TZID=Europe/Stockholm:20200521T080000
DTSTAMP:20260421T050245
CREATED:20200518T081328Z
LAST-MODIFIED:20200518T081328Z
UID:4005-1590048000-1590048000@www.boden.pingst.se
SUMMARY:Gökotta
DESCRIPTION:På torsdag är det Kristi himmelfärdsdag! Klockan 8.00 blir det gökotta uppe på Gruvberget tillsammans med några fler församlingar i Boden. Ta med något att sitta på och lite fika – om du vill! \nVi är utomhus och håller avstånd till varandra på plats. Om du är i riskgrupp eller av andra anledningar inte har möjlighet att vara med så kommer vi att sända en andakt på närradion (98\,2 MHz) klockan 8.00 som du kan ta del av!
URL:https://www.boden.pingst.se/handelse/gokotta-2/
END:VEVENT
BEGIN:VEVENT
DTSTART;TZID=Europe/Stockholm:20200517T110000
DTEND;TZID=Europe/Stockholm:20200517T110000
DTSTAMP:20260421T050245
CREATED:20200501T132633Z
LAST-MODIFIED:20200501T132633Z
UID:3986-1589713200-1589713200@www.boden.pingst.se
SUMMARY:Gudstjänst
DESCRIPTION:Caroline Söderström predikar\, det blir bön och lovsång. Vi sänder live via vår Facebook\, närradion och webbradion.
URL:https://www.boden.pingst.se/handelse/gudstjanst-332/
END:VEVENT
BEGIN:VEVENT
DTSTART;TZID=Europe/Stockholm:20200510T110000
DTEND;TZID=Europe/Stockholm:20200510T110000
DTSTAMP:20260421T050245
CREATED:20200501T132547Z
LAST-MODIFIED:20200501T132547Z
UID:3985-1589108400-1589108400@www.boden.pingst.se
SUMMARY:Gudstjänst
DESCRIPTION:Anton Björkman predikar\, det blir bön och lovsång. Vi sänder live via vår Facebook\, närradion och webbradion.
URL:https://www.boden.pingst.se/handelse/gudstjanst-331/
END:VEVENT
BEGIN:VEVENT
DTSTART;TZID=Europe/Stockholm:20200426T110000
DTEND;TZID=Europe/Stockholm:20200426T110000
DTSTAMP:20260421T050245
CREATED:20200423T133717Z
LAST-MODIFIED:20200423T134025Z
UID:3972-1587898800-1587898800@www.boden.pingst.se
SUMMARY:Gudstjänst
DESCRIPTION:Frida Nyberg predikar\, det blir bön och lovsång. Vi sänder live via vår Facebook\, närradion och webbradion.
URL:https://www.boden.pingst.se/handelse/gudstjanst-330/
END:VEVENT
BEGIN:VEVENT
DTSTART;TZID=Europe/Stockholm:20200419T110000
DTEND;TZID=Europe/Stockholm:20200419T110000
DTSTAMP:20260421T050245
CREATED:20200407T064827Z
LAST-MODIFIED:20200407T064827Z
UID:3968-1587294000-1587294000@www.boden.pingst.se
SUMMARY:Gudstjänst
DESCRIPTION:Niclas Gyllroth predikar\, det blir bön och lovsång. Vi sänder live via vår Facebook\, närradion och webbradion.
URL:https://www.boden.pingst.se/handelse/gudstjanst-329/
END:VEVENT
BEGIN:VEVENT
DTSTART;TZID=Europe/Stockholm:20200412T110000
DTEND;TZID=Europe/Stockholm:20200412T110000
DTSTAMP:20260421T050245
CREATED:20200403T095929Z
LAST-MODIFIED:20200403T095956Z
UID:3964-1586689200-1586689200@www.boden.pingst.se
SUMMARY:Gudstjänst via Facebook och närradion
DESCRIPTION:Åsa Öqvist\, diakon i Equmeniakyrkan\, Boden predikar. Vi sänder live via vår Facebook och via närradion.
URL:https://www.boden.pingst.se/handelse/gudstjanst-via-facebook-och-narradion-2/
END:VEVENT
BEGIN:VEVENT
DTSTART;TZID=Europe/Stockholm:20200405T110000
DTEND;TZID=Europe/Stockholm:20200405T110000
DTSTAMP:20260421T050245
CREATED:20200331T084315Z
LAST-MODIFIED:20200331T084315Z
UID:3924-1586084400-1586084400@www.boden.pingst.se
SUMMARY:Gudstjänst via Facebook och närradion
DESCRIPTION:På söndag predikar Anton Björkman. Vi firar inte Gudstjänst i kyrkan i enlighet med regeringens restriktioner. Vi kommer istället att sända live via vår Facebook och via närradion.
URL:https://www.boden.pingst.se/handelse/gudstjanst-via-facebook-och-narradion/
END:VEVENT
BEGIN:VEVENT
DTSTART;TZID=Europe/Stockholm:20200329T110000
DTEND;TZID=Europe/Stockholm:20200329T110000
DTSTAMP:20260421T050245
CREATED:20200228T134936Z
LAST-MODIFIED:20200327T160110Z
UID:3881-1585479600-1585479600@www.boden.pingst.se
SUMMARY:Gudstjänst LIVE
DESCRIPTION:OBS! På söndag firar vi inte Gudstjänst i kyrkan i enlighet med regeringens restriktioner. Vi kommer istället att sända live via vår Facebook och via närradion.
URL:https://www.boden.pingst.se/handelse/gudstjanst-328/
END:VEVENT
BEGIN:VEVENT
DTSTART;TZID=Europe/Stockholm:20200322T110000
DTEND;TZID=Europe/Stockholm:20200322T110000
DTSTAMP:20260421T050245
CREATED:20200228T134459Z
LAST-MODIFIED:20200228T134459Z
UID:3878-1584874800-1584874800@www.boden.pingst.se
SUMMARY:Gudstjänst
DESCRIPTION:med Stefan Beimark\, Barnkyrkan och efteråt kyrkfika
URL:https://www.boden.pingst.se/handelse/gudstjanst-327/
END:VEVENT
BEGIN:VEVENT
DTSTART;TZID=Europe/Stockholm:20200320T193000
DTEND;TZID=Europe/Stockholm:20200320T193000
DTSTAMP:20260421T050245
CREATED:20200228T134332Z
LAST-MODIFIED:20200228T134332Z
UID:3876-1584732600-1584732600@www.boden.pingst.se
SUMMARY:Ung på Noah's
DESCRIPTION:
URL:https://www.boden.pingst.se/handelse/ung-pa-noahs-28/
END:VEVENT
BEGIN:VEVENT
DTSTART;TZID=Europe/Stockholm:20200320T180000
DTEND;TZID=Europe/Stockholm:20200320T180000
DTSTAMP:20260421T050245
CREATED:20200319T113337Z
LAST-MODIFIED:20200319T113337Z
UID:3894-1584727200-1584727200@www.boden.pingst.se
SUMMARY:Barngrupperna till Pagla
DESCRIPTION:Vi kommer att åka pulka och hitta på andra roliga aktiviteter. Samling i Pagla klockan 18.00\, behöver ditt barn skjuts kan du kontakta Benjamin på 073-0675567.
URL:https://www.boden.pingst.se/handelse/barngrupperna-till-pagla/
END:VEVENT
BEGIN:VEVENT
DTSTART;TZID=Europe/Stockholm:20200315T110000
DTEND;TZID=Europe/Stockholm:20200315T110000
DTSTAMP:20260421T050245
CREATED:20200228T134113Z
LAST-MODIFIED:20200228T134113Z
UID:3873-1584270000-1584270000@www.boden.pingst.se
SUMMARY:Gudstjänst
DESCRIPTION:med välkomnande av Torbjörn Björk\, nattvard\, dop\, Barnkyrka och efteråt kyrkfika.
URL:https://www.boden.pingst.se/handelse/gudstjanst-326/
END:VEVENT
BEGIN:VEVENT
DTSTART;TZID=Europe/Stockholm:20200314T120000
DTEND;TZID=Europe/Stockholm:20200314T120000
DTSTAMP:20260421T050245
CREATED:20200228T134031Z
LAST-MODIFIED:20200228T134031Z
UID:3872-1584187200-1584187200@www.boden.pingst.se
SUMMARY:Stråkövning
DESCRIPTION:
URL:https://www.boden.pingst.se/handelse/strakovning-14/
END:VEVENT
BEGIN:VEVENT
DTSTART;TZID=Europe/Stockholm:20200314T100000
DTEND;TZID=Europe/Stockholm:20200314T100000
DTSTAMP:20260421T050245
CREATED:20200310T072806Z
LAST-MODIFIED:20200310T072806Z
UID:3884-1584180000-1584180000@www.boden.pingst.se
SUMMARY:Vi ansvarar på RIA
DESCRIPTION:
URL:https://www.boden.pingst.se/handelse/vi-ansvarar-pa-ria-2/
END:VEVENT
BEGIN:VEVENT
DTSTART;TZID=Europe/Stockholm:20200313T210000
DTEND;TZID=Europe/Stockholm:20200313T210000
DTSTAMP:20260421T050245
CREATED:20200228T133907Z
LAST-MODIFIED:20200228T133956Z
UID:3871-1584133200-1584133200@www.boden.pingst.se
SUMMARY:Tjugoett
DESCRIPTION:En Gudstjänst med predikan\, bön och lovsång för kvällspigga!
URL:https://www.boden.pingst.se/handelse/tjugoett-20/
END:VEVENT
BEGIN:VEVENT
DTSTART;TZID=Europe/Stockholm:20200313T193000
DTEND;TZID=Europe/Stockholm:20200313T193000
DTSTAMP:20260421T050245
CREATED:20200228T133847Z
LAST-MODIFIED:20200228T133847Z
UID:3870-1584127800-1584127800@www.boden.pingst.se
SUMMARY:Häng på Noah's
DESCRIPTION:
URL:https://www.boden.pingst.se/handelse/hang-pa-noahs-10/
END:VEVENT
BEGIN:VEVENT
DTSTART;TZID=Europe/Stockholm:20200311T130000
DTEND;TZID=Europe/Stockholm:20200311T130000
DTSTAMP:20260421T050245
CREATED:20200228T133256Z
LAST-MODIFIED:20200228T133256Z
UID:3865-1583931600-1583931600@www.boden.pingst.se
SUMMARY:Dagträff i Bredåker
DESCRIPTION:med Kurt-Arne Mörtsell
URL:https://www.boden.pingst.se/handelse/dagtraff-i-bredaker-14/
END:VEVENT
END:VCALENDAR