BEGIN:VCALENDAR
VERSION:2.0
PRODID:-//Pingstkyrkan i Boden - ECPv6.8.2.1//NONSGML v1.0//EN
CALSCALE:GREGORIAN
METHOD:PUBLISH
X-WR-CALNAME:Pingstkyrkan i Boden
X-ORIGINAL-URL:https://www.boden.pingst.se
X-WR-CALDESC:Events for Pingstkyrkan i Boden
REFRESH-INTERVAL;VALUE=DURATION:PT1H
X-Robots-Tag:noindex
X-PUBLISHED-TTL:PT1H
BEGIN:VTIMEZONE
TZID:Europe/Stockholm
BEGIN:DAYLIGHT
TZOFFSETFROM:+0100
TZOFFSETTO:+0200
TZNAME:CEST
DTSTART:20200329T010000
END:DAYLIGHT
BEGIN:STANDARD
TZOFFSETFROM:+0200
TZOFFSETTO:+0100
TZNAME:CET
DTSTART:20201025T010000
END:STANDARD
BEGIN:DAYLIGHT
TZOFFSETFROM:+0100
TZOFFSETTO:+0200
TZNAME:CEST
DTSTART:20210328T010000
END:DAYLIGHT
BEGIN:STANDARD
TZOFFSETFROM:+0200
TZOFFSETTO:+0100
TZNAME:CET
DTSTART:20211031T010000
END:STANDARD
END:VTIMEZONE
BEGIN:VEVENT
DTSTART;TZID=Europe/Stockholm:20210110T110000
DTEND;TZID=Europe/Stockholm:20210110T110000
DTSTAMP:20260420T051522
CREATED:20201229T143257Z
LAST-MODIFIED:20201229T143638Z
UID:4157-1610276400-1610276400@www.boden.pingst.se
SUMMARY:Gudstjänst
DESCRIPTION:via Facebook Live\, närradion och webbradion. Predikan av Frida Nyberg och vi sjunger och ber tillsammans. Kyrkfika via Teams efteråt.
URL:https://www.boden.pingst.se/handelse/gudstjanst-351/
END:VEVENT
BEGIN:VEVENT
DTSTART;TZID=Europe/Stockholm:20210110T100000
DTEND;TZID=Europe/Stockholm:20210110T100000
DTSTAMP:20260420T051522
CREATED:20201229T143404Z
LAST-MODIFIED:20201229T143418Z
UID:4158-1610272800-1610272800@www.boden.pingst.se
SUMMARY:Barnkyrkan
DESCRIPTION:via Teams. Länk finns under fliken ’Barn’.
URL:https://www.boden.pingst.se/handelse/barnkyrka/
END:VEVENT
BEGIN:VEVENT
DTSTART;TZID=Europe/Stockholm:20210103T173000
DTEND;TZID=Europe/Stockholm:20210103T173000
DTSTAMP:20260420T051522
CREATED:20201222T143010Z
LAST-MODIFIED:20201222T143010Z
UID:4151-1609695000-1609695000@www.boden.pingst.se
SUMMARY:Församlingsmöte via Teams
DESCRIPTION:Mer information kommer i nästa medlemsbrev.
URL:https://www.boden.pingst.se/handelse/forsamlingsmote-via-teams/
END:VEVENT
BEGIN:VEVENT
DTSTART;TZID=Europe/Stockholm:20210103T110000
DTEND;TZID=Europe/Stockholm:20210103T110000
DTSTAMP:20260420T051522
CREATED:20201222T142926Z
LAST-MODIFIED:20201229T143620Z
UID:4150-1609671600-1609671600@www.boden.pingst.se
SUMMARY:Gudstjänst
DESCRIPTION:via Facebook Live\, närradion och webbradion. Predikan av Frida Nyberg och vi sjunger och ber tillsammans. Kyrkfika via Teams efteråt.
URL:https://www.boden.pingst.se/handelse/gudstjanst-350/
END:VEVENT
BEGIN:VEVENT
DTSTART;TZID=Europe/Stockholm:20201227T110000
DTEND;TZID=Europe/Stockholm:20201227T110000
DTSTAMP:20260420T051522
CREATED:20201211T100908Z
LAST-MODIFIED:20201211T100908Z
UID:4142-1609066800-1609066800@www.boden.pingst.se
SUMMARY:Gudstjänst
DESCRIPTION:via Facebook Live\, närradion och webbradion. Predikan av Anton Björkman och vi sjunger och ber tillsammans.
URL:https://www.boden.pingst.se/handelse/gudstjanst-349/
END:VEVENT
BEGIN:VEVENT
DTSTART;TZID=Europe/Stockholm:20201224T110000
DTEND;TZID=Europe/Stockholm:20201224T110000
DTSTAMP:20260420T051522
CREATED:20201211T100759Z
LAST-MODIFIED:20201211T100759Z
UID:4141-1608807600-1608807600@www.boden.pingst.se
SUMMARY:Julandakt
DESCRIPTION:via Facebook och närradion. God jul!
URL:https://www.boden.pingst.se/handelse/julandakt/
END:VEVENT
BEGIN:VEVENT
DTSTART;TZID=Europe/Stockholm:20201220T180000
DTEND;TZID=Europe/Stockholm:20201220T180000
DTSTAMP:20260420T051522
CREATED:20201211T100702Z
LAST-MODIFIED:20201211T100702Z
UID:4140-1608487200-1608487200@www.boden.pingst.se
SUMMARY:Julkväll
DESCRIPTION:med gemenskap\, julquiz och lekar. Välkommen att vara med!
URL:https://www.boden.pingst.se/handelse/julkvall/
END:VEVENT
BEGIN:VEVENT
DTSTART;TZID=Europe/Stockholm:20201220T173000
DTEND;TZID=Europe/Stockholm:20201220T173000
DTSTAMP:20260420T051522
CREATED:20201211T100626Z
LAST-MODIFIED:20201211T100626Z
UID:4139-1608485400-1608485400@www.boden.pingst.se
SUMMARY:Extrainsatt församlingsmöte
DESCRIPTION:via Teams. Länk och information finns i det senaste medlemsbrevet.
URL:https://www.boden.pingst.se/handelse/extrainsatt-forsamlingsmote/
END:VEVENT
BEGIN:VEVENT
DTSTART;TZID=Europe/Stockholm:20201220T110000
DTEND;TZID=Europe/Stockholm:20201220T110000
DTSTAMP:20260420T051522
CREATED:20201211T100546Z
LAST-MODIFIED:20201211T100546Z
UID:4138-1608462000-1608462000@www.boden.pingst.se
SUMMARY:Gudstjänst
DESCRIPTION:via Facebook Live\, närradion och webbradion. Besök av Marcus Sandström som predikar\, tillfälle för lovsång och bön.
URL:https://www.boden.pingst.se/handelse/gudstjanst-348/
END:VEVENT
BEGIN:VEVENT
DTSTART;TZID=Europe/Stockholm:20201220T100000
DTEND;TZID=Europe/Stockholm:20201220T100000
DTSTAMP:20260420T051522
CREATED:20201211T100438Z
LAST-MODIFIED:20201211T100438Z
UID:4137-1608458400-1608458400@www.boden.pingst.se
SUMMARY:Barnkyrkan online
DESCRIPTION:via Teams. Länk finns under fliken ’Barn’.
URL:https://www.boden.pingst.se/handelse/barnkyrkan-online-2/
END:VEVENT
BEGIN:VEVENT
DTSTART;TZID=Europe/Stockholm:20201219T090000
DTEND;TZID=Europe/Stockholm:20201219T090000
DTSTAMP:20260420T051522
CREATED:20201211T100359Z
LAST-MODIFIED:20201211T100359Z
UID:4136-1608368400-1608368400@www.boden.pingst.se
SUMMARY:Bön i stadshuset
DESCRIPTION:
URL:https://www.boden.pingst.se/handelse/bon-i-stadshuset-19/
END:VEVENT
BEGIN:VEVENT
DTSTART;TZID=Europe/Stockholm:20201218T193000
DTEND;TZID=Europe/Stockholm:20201218T193000
DTSTAMP:20260420T051522
CREATED:20201211T100334Z
LAST-MODIFIED:20201211T100334Z
UID:4135-1608319800-1608319800@www.boden.pingst.se
SUMMARY:Ung på Noah's julavslutning
DESCRIPTION:via Teams
URL:https://www.boden.pingst.se/handelse/ung-pa-noahs-julavslutning-3/
END:VEVENT
BEGIN:VEVENT
DTSTART;TZID=Europe/Stockholm:20201218T160000
DTEND;TZID=Europe/Stockholm:20201218T160000
DTSTAMP:20260420T051522
CREATED:20201211T100304Z
LAST-MODIFIED:20201211T100304Z
UID:4134-1608307200-1608307200@www.boden.pingst.se
SUMMARY:After School julavslutning
DESCRIPTION:via Teams
URL:https://www.boden.pingst.se/handelse/after-school-julavslutning/
END:VEVENT
BEGIN:VEVENT
DTSTART;TZID=Europe/Stockholm:20201211T193000
DTEND;TZID=Europe/Stockholm:20201211T193000
DTSTAMP:20260420T051522
CREATED:20201204T115631Z
LAST-MODIFIED:20201204T115631Z
UID:4129-1607715000-1607715000@www.boden.pingst.se
SUMMARY:UNG PÅ NOAH'S ONLINE
DESCRIPTION:
URL:https://www.boden.pingst.se/handelse/ung-pa-noahs-online-2/
END:VEVENT
BEGIN:VEVENT
DTSTART;TZID=Europe/Stockholm:20201206T173000
DTEND;TZID=Europe/Stockholm:20201206T173000
DTSTAMP:20260420T051522
CREATED:20201127T220323Z
LAST-MODIFIED:20201127T220323Z
UID:4127-1607275800-1607275800@www.boden.pingst.se
SUMMARY:Församlingsmöte
DESCRIPTION:via Teams. Mer information kommer i medlemsbrevet under veckan.
URL:https://www.boden.pingst.se/handelse/forsamlingsmote-8/
END:VEVENT
BEGIN:VEVENT
DTSTART;TZID=Europe/Stockholm:20201203T180000
DTEND;TZID=Europe/Stockholm:20201203T180000
DTSTAMP:20260420T051522
CREATED:20201204T115545Z
LAST-MODIFIED:20201204T115545Z
UID:4128-1607018400-1607018400@www.boden.pingst.se
SUMMARY:Bibelstudium
DESCRIPTION:fördjupad undervisning om julen. Finns på Facebook\, Youtube och där poddar finns.
URL:https://www.boden.pingst.se/handelse/bibelstudium-6/
END:VEVENT
BEGIN:VEVENT
DTSTART;TZID=Europe/Stockholm:20201129T100000
DTEND;TZID=Europe/Stockholm:20201129T100000
DTSTAMP:20260420T051522
CREATED:20201126T140627Z
LAST-MODIFIED:20201126T140627Z
UID:4124-1606644000-1606644000@www.boden.pingst.se
SUMMARY:Barnkyrkan Online
DESCRIPTION:På söndagar klockan 10.00-10.30 (innan Gudstjänsten) har vi Barnkyrkan för alla barn via Teams. Det blir lekar\, bibelberättelser och annat skoj. \nLänk till Teamsmötet finns under fliken ‘Barn’.
URL:https://www.boden.pingst.se/handelse/barnkyrkan-online/
END:VEVENT
BEGIN:VEVENT
DTSTART;TZID=Europe/Stockholm:20201127T160000
DTEND;TZID=Europe/Stockholm:20201127T160000
DTSTAMP:20260420T051522
CREATED:20201126T140413Z
LAST-MODIFIED:20201126T140413Z
UID:4123-1606492800-1606492800@www.boden.pingst.se
SUMMARY:After School Online
DESCRIPTION:Varje fredag klockan 16.00-16.30 ses vi via Teams och har en stund där vi leker lekar\, har en utmaning och snackar om livet och Bibeln. För barn som går i 2:an-6:an. \nLänk till Teamsmötet finns under fliken ’Barn’.
URL:https://www.boden.pingst.se/handelse/after-school-online/
END:VEVENT
BEGIN:VEVENT
DTSTART;TZID=Europe/Stockholm:20201125T120000
DTEND;TZID=Europe/Stockholm:20201125T120000
DTSTAMP:20260420T051522
CREATED:20201126T140841Z
LAST-MODIFIED:20201126T140841Z
UID:4125-1606305600-1606305600@www.boden.pingst.se
SUMMARY:Bön - där du är
DESCRIPTION:Varje onsdag klockan 12.00 tänder vi ett ljus och ber tillsammans – var gärna med där du är! I samarbete med Johanneskyrkan och Svenska Kyrkan i Boden. Skicka ditt böneämne till 070-233 21 25. 
URL:https://www.boden.pingst.se/handelse/bon-dar-du-ar-3/
END:VEVENT
BEGIN:VEVENT
DTSTART;TZID=Europe/Stockholm:20201122T110000
DTEND;TZID=Europe/Stockholm:20201122T110000
DTSTAMP:20260420T051522
CREATED:20201112T144717Z
LAST-MODIFIED:20201112T144717Z
UID:4105-1606042800-1606042800@www.boden.pingst.se
SUMMARY:Gudstjänst
DESCRIPTION:med predikan\, bön och lovsång. Endast via Facebook live\, närradion och webbradion.
URL:https://www.boden.pingst.se/handelse/gudstjanst-347/
END:VEVENT
BEGIN:VEVENT
DTSTART;TZID=Europe/Stockholm:20201115T110000
DTEND;TZID=Europe/Stockholm:20201115T110000
DTSTAMP:20260420T051522
CREATED:20201112T144625Z
LAST-MODIFIED:20201112T144625Z
UID:4104-1605438000-1605438000@www.boden.pingst.se
SUMMARY:Gudstjänst
DESCRIPTION:med Staffan Edin\, bön och lovsång. OBS! Endast via Facebook live\, närradion och webbradion.
URL:https://www.boden.pingst.se/handelse/gudstjanst-346/
END:VEVENT
BEGIN:VEVENT
DTSTART;TZID=Europe/Stockholm:20201113T193000
DTEND;TZID=Europe/Stockholm:20201113T193000
DTSTAMP:20260420T051522
CREATED:20201112T145022Z
LAST-MODIFIED:20201112T145022Z
UID:4107-1605295800-1605295800@www.boden.pingst.se
SUMMARY:UNG PÅ NOAH'S ONLINE
DESCRIPTION:
URL:https://www.boden.pingst.se/handelse/ung-pa-noahs-online/
END:VEVENT
BEGIN:VEVENT
DTSTART;TZID=Europe/Stockholm:20201101T173000
DTEND;TZID=Europe/Stockholm:20201101T173000
DTSTAMP:20260420T051522
CREATED:20201028T113008Z
LAST-MODIFIED:20201028T113008Z
UID:4093-1604251800-1604251800@www.boden.pingst.se
SUMMARY:Församlingsmöte
DESCRIPTION:i kyrkan och via Teams. Länk till Teams-mötet kommer i nästa medlemsbrev.
URL:https://www.boden.pingst.se/handelse/forsamlingsmote-6/
END:VEVENT
BEGIN:VEVENT
DTSTART;TZID=Europe/Stockholm:20201101T110000
DTEND;TZID=Europe/Stockholm:20201101T110000
DTSTAMP:20260420T051522
CREATED:20201028T112924Z
LAST-MODIFIED:20201028T112924Z
UID:4092-1604228400-1604228400@www.boden.pingst.se
SUMMARY:Gudstjänst
DESCRIPTION:i kyrkan\, via Facebook och närradion med livsberättelser\, bön och lovsång. Barnkyrkan på Noah’s.
URL:https://www.boden.pingst.se/handelse/gudstjanst-345/
END:VEVENT
BEGIN:VEVENT
DTSTART;TZID=Europe/Stockholm:20201030T180000
DTEND;TZID=Europe/Stockholm:20201030T180000
DTSTAMP:20260420T051522
CREATED:20201006T125131Z
LAST-MODIFIED:20201006T125131Z
UID:4088-1604080800-1604080800@www.boden.pingst.se
SUMMARY:HÖSTLOV
DESCRIPTION:för barn- och ungdomsgrupperna.
URL:https://www.boden.pingst.se/handelse/hostlov-3/
END:VEVENT
BEGIN:VEVENT
DTSTART;TZID=Europe/Stockholm:20201025T110000
DTEND;TZID=Europe/Stockholm:20201025T110000
DTSTAMP:20260420T051522
CREATED:20200915T091243Z
LAST-MODIFIED:20200915T091243Z
UID:4075-1603623600-1603623600@www.boden.pingst.se
SUMMARY:Gudstjänst
DESCRIPTION:i kyrkan (max 50 personer)\, via Facebook och närradion. Caroline Söderström predikar och det blir tillfälle för bön och lovsång. Barnkyrkan på Ankaret. 
URL:https://www.boden.pingst.se/handelse/gudstjanst-344/
END:VEVENT
BEGIN:VEVENT
DTSTART;TZID=Europe/Stockholm:20201016T180000
DTEND;TZID=Europe/Stockholm:20201016T180000
DTSTAMP:20260420T051522
CREATED:20201006T125047Z
LAST-MODIFIED:20201006T125047Z
UID:4087-1602871200-1602871200@www.boden.pingst.se
SUMMARY:Familjefredag
DESCRIPTION:med mörkerkurragömma. Vi samlas klockan 18.00 på Prästholmsskolans skolgård. Ta med familjen!
URL:https://www.boden.pingst.se/handelse/familjefredag-2/
END:VEVENT
BEGIN:VEVENT
DTSTART;TZID=Europe/Stockholm:20201011T110000
DTEND;TZID=Europe/Stockholm:20201011T110000
DTSTAMP:20260420T051522
CREATED:20200915T091201Z
LAST-MODIFIED:20200915T091201Z
UID:4074-1602414000-1602414000@www.boden.pingst.se
SUMMARY:Gudstjänst
DESCRIPTION:i kyrkan (max 50 personer)\, via Facebook och närradion. Frida Nyberg predikar och det blir tillfälle för bön och lovsång. Barnkyrkan på Ankaret. 
URL:https://www.boden.pingst.se/handelse/gudstjanst-343/
END:VEVENT
BEGIN:VEVENT
DTSTART;TZID=Europe/Stockholm:20201006T190000
DTEND;TZID=Europe/Stockholm:20201006T190000
DTSTAMP:20260420T051522
CREATED:20201006T124659Z
LAST-MODIFIED:20201006T124659Z
UID:4084-1602010800-1602010800@www.boden.pingst.se
SUMMARY:Bön på Noah's
DESCRIPTION:
URL:https://www.boden.pingst.se/handelse/bon-pa-noahs/
END:VEVENT
BEGIN:VEVENT
DTSTART;TZID=Europe/Stockholm:20201004T173000
DTEND;TZID=Europe/Stockholm:20201004T173000
DTSTAMP:20260420T051522
CREATED:20200915T091319Z
LAST-MODIFIED:20201002T071553Z
UID:4076-1601832600-1601832600@www.boden.pingst.se
SUMMARY:Församlingsmöte
DESCRIPTION:Det finns möjlighet att vara med både på plats i kyrkan men också online via teams. Vi utgår ifrån de förordningar som myndigheterna ger\, det vill säga max 50 besökare och 2 meters säkerhetsavstånd. För att vara med online via teams finns instruktioner och en länk i senaste medlemsbrevet.
URL:https://www.boden.pingst.se/handelse/forsamlingskvall-7/
END:VEVENT
END:VCALENDAR