BEGIN:VCALENDAR
VERSION:2.0
PRODID:-//Pingstkyrkan i Boden - ECPv6.8.2.1//NONSGML v1.0//EN
CALSCALE:GREGORIAN
METHOD:PUBLISH
X-WR-CALNAME:Pingstkyrkan i Boden
X-ORIGINAL-URL:https://www.boden.pingst.se
X-WR-CALDESC:Events for Pingstkyrkan i Boden
REFRESH-INTERVAL;VALUE=DURATION:PT1H
X-Robots-Tag:noindex
X-PUBLISHED-TTL:PT1H
BEGIN:VTIMEZONE
TZID:Europe/Stockholm
BEGIN:DAYLIGHT
TZOFFSETFROM:+0100
TZOFFSETTO:+0200
TZNAME:CEST
DTSTART:20210328T010000
END:DAYLIGHT
BEGIN:STANDARD
TZOFFSETFROM:+0200
TZOFFSETTO:+0100
TZNAME:CET
DTSTART:20211031T010000
END:STANDARD
END:VTIMEZONE
BEGIN:VEVENT
DTSTART;TZID=Europe/Stockholm:20210404T100000
DTEND;TZID=Europe/Stockholm:20210404T100000
DTSTAMP:20260420T091850
CREATED:20210324T090236Z
LAST-MODIFIED:20210324T090236Z
UID:4230-1617530400-1617530400@www.boden.pingst.se
SUMMARY:Påskfest för alla barn
DESCRIPTION:på gården vid Ankaret. Det blir äggjakt\, lekar och vi kommer att prata om varför vi firar påsk.
URL:https://www.boden.pingst.se/handelse/paskfest-for-alla-barn/
END:VEVENT
BEGIN:VEVENT
DTSTART;TZID=Europe/Stockholm:20210404T100000
DTEND;TZID=Europe/Stockholm:20210404T100000
DTSTAMP:20260420T091850
CREATED:20210324T090031Z
LAST-MODIFIED:20210324T090031Z
UID:4229-1617530400-1617530400@www.boden.pingst.se
SUMMARY:Påskvandring utomhus
DESCRIPTION:Välkommen att gå en promenad i med påsken i fokus\, du kan välja en kortare eller längre runda och får ta del av påskens berättelse\, samtala och be tillsammans med de du promenerar med.
URL:https://www.boden.pingst.se/handelse/paskvandring-utomhus/
END:VEVENT
BEGIN:VEVENT
DTSTART;TZID=Europe/Stockholm:20210402T110000
DTEND;TZID=Europe/Stockholm:20210402T110000
DTSTAMP:20260420T091850
CREATED:20210324T083526Z
LAST-MODIFIED:20210324T083526Z
UID:4227-1617361200-1617361200@www.boden.pingst.se
SUMMARY:Långfredagsgudstjänst
DESCRIPTION:med Frida Nyberg\, Simon Sjödin mfl. Sänds via Facebook.
URL:https://www.boden.pingst.se/handelse/langfredagsgudstjanst-2/
END:VEVENT
BEGIN:VEVENT
DTSTART;TZID=Europe/Stockholm:20210401T180000
DTEND;TZID=Europe/Stockholm:20210401T200000
DTSTAMP:20260420T091850
CREATED:20210324T083350Z
LAST-MODIFIED:20210324T083419Z
UID:4226-1617300000-1617307200@www.boden.pingst.se
SUMMARY:Drop-in nattvard
DESCRIPTION:mellan 18.00-20.00. 8 personer åt gången\, vi håller avstånd och är noggrann med hygien.
URL:https://www.boden.pingst.se/handelse/drop-in-nattvard/
END:VEVENT
BEGIN:VEVENT
DTSTART;TZID=Europe/Stockholm:20210401T180000
DTEND;TZID=Europe/Stockholm:20210401T180000
DTSTAMP:20260420T091850
CREATED:20210324T083623Z
LAST-MODIFIED:20210324T083623Z
UID:4228-1617300000-1617300000@www.boden.pingst.se
SUMMARY:Getsemanestund via närradion
DESCRIPTION:med Marcus Sandström.
URL:https://www.boden.pingst.se/handelse/getsemanestund-via-narradion/
END:VEVENT
BEGIN:VEVENT
DTSTART;TZID=Europe/Stockholm:20210328T110000
DTEND;TZID=Europe/Stockholm:20210328T110000
DTSTAMP:20260420T091850
CREATED:20210315T103059Z
LAST-MODIFIED:20210315T103059Z
UID:4216-1616929200-1616929200@www.boden.pingst.se
SUMMARY:Gudstjänst
DESCRIPTION:via Facebook\, närradion och webbradion. Frida Nyberg predikar\, bön och lovsång. Kyrkfika via Teams efteråt.
URL:https://www.boden.pingst.se/handelse/gudstjanst-362/
END:VEVENT
BEGIN:VEVENT
DTSTART;TZID=Europe/Stockholm:20210323T190000
DTEND;TZID=Europe/Stockholm:20210323T190000
DTSTAMP:20260420T091850
CREATED:20210315T103446Z
LAST-MODIFIED:20210319T123103Z
UID:4217-1616526000-1616526000@www.boden.pingst.se
SUMMARY:Tillgänglig kyrka för alla - en samtalskväll om funktionsnedsättningar
DESCRIPTION:Sänds via Facebook\, mer information på startsidan. Kvällen är i samarbete med studieförbundet Bilda.
URL:https://www.boden.pingst.se/handelse/tillganglig-kyrka-for-alla-en-samtalskvall-om-funktionsvariationer/
END:VEVENT
BEGIN:VEVENT
DTSTART;TZID=Europe/Stockholm:20210321T110000
DTEND;TZID=Europe/Stockholm:20210321T110000
DTSTAMP:20260420T091850
CREATED:20210315T103033Z
LAST-MODIFIED:20210315T103033Z
UID:4215-1616324400-1616324400@www.boden.pingst.se
SUMMARY:Gudstjänst
DESCRIPTION:via Facebook\, närradion och webbradion. Marcus Sandström predikar\, bön och lovsång. Kyrkfika via Teams efteråt.
URL:https://www.boden.pingst.se/handelse/gudstjanst-361/
END:VEVENT
BEGIN:VEVENT
DTSTART;TZID=Europe/Stockholm:20210321T100000
DTEND;TZID=Europe/Stockholm:20210321T100000
DTSTAMP:20260420T091850
CREATED:20210315T102922Z
LAST-MODIFIED:20210315T102922Z
UID:4214-1616320800-1616320800@www.boden.pingst.se
SUMMARY:Barnkyrkan Online
DESCRIPTION:via Teams
URL:https://www.boden.pingst.se/handelse/barnkyrkan-online-3/
END:VEVENT
BEGIN:VEVENT
DTSTART;TZID=Europe/Stockholm:20210319T193000
DTEND;TZID=Europe/Stockholm:20210319T193000
DTSTAMP:20260420T091850
CREATED:20210315T102727Z
LAST-MODIFIED:20210315T102727Z
UID:4213-1616182200-1616182200@www.boden.pingst.se
SUMMARY:Ung på Noah's
DESCRIPTION:
URL:https://www.boden.pingst.se/handelse/ung-pa-noahs-31/
END:VEVENT
BEGIN:VEVENT
DTSTART;TZID=Europe/Stockholm:20210319T130000
DTEND;TZID=Europe/Stockholm:20210319T130000
DTSTAMP:20260420T091850
CREATED:20210315T102700Z
LAST-MODIFIED:20210315T102700Z
UID:4212-1616158800-1616158800@www.boden.pingst.se
SUMMARY:After School
DESCRIPTION:i kyrkan för barn i åk2-6. 
URL:https://www.boden.pingst.se/handelse/after-school-3/
END:VEVENT
BEGIN:VEVENT
DTSTART;TZID=Europe/Stockholm:20210316T190000
DTEND;TZID=Europe/Stockholm:20210316T190000
DTSTAMP:20260420T091850
CREATED:20210315T102550Z
LAST-MODIFIED:20210315T102611Z
UID:4211-1615921200-1615921200@www.boden.pingst.se
SUMMARY:Inspirationskväll via Teams
DESCRIPTION:för dig som längtar efter att leda en bönegrupp/connectgrupp eller vara med i en sådan och kanske på sikt leda en egen grupp själv. Finns du redan med i en mindre grupp\, bönegrupp eller liknande så vill vi även uppmuntra dig att delta. Länk till mötet finns HÄR.
URL:https://www.boden.pingst.se/handelse/inspirationskvall-via-teams/
END:VEVENT
BEGIN:VEVENT
DTSTART;TZID=Europe/Stockholm:20210314T173000
DTEND;TZID=Europe/Stockholm:20210314T173000
DTSTAMP:20260420T091850
CREATED:20210202T152343Z
LAST-MODIFIED:20210305T145620Z
UID:4184-1615743000-1615743000@www.boden.pingst.se
SUMMARY:Församlingens årsmöte
DESCRIPTION:Mer information finns på startsidan och i medlemsbrevet.
URL:https://www.boden.pingst.se/handelse/arsmote-2021/
END:VEVENT
BEGIN:VEVENT
DTSTART;TZID=Europe/Stockholm:20210314T110000
DTEND;TZID=Europe/Stockholm:20210314T110000
DTSTAMP:20260420T091850
CREATED:20210305T144313Z
LAST-MODIFIED:20210305T144313Z
UID:4195-1615719600-1615719600@www.boden.pingst.se
SUMMARY:Gudstjänst
DESCRIPTION:via Facebook\, närradion och webbradion. Frida Nyberg predikar\, bön och lovsång. Kyrkfika via Teams efteråt.
URL:https://www.boden.pingst.se/handelse/gudstjanst-360/
END:VEVENT
BEGIN:VEVENT
DTSTART;TZID=Europe/Stockholm:20210312T150000
DTEND;TZID=Europe/Stockholm:20210312T150000
DTSTAMP:20260420T091850
CREATED:20210305T144819Z
LAST-MODIFIED:20210305T145002Z
UID:4196-1615561200-1615561200@www.boden.pingst.se
SUMMARY:Sportlovsdag barn
DESCRIPTION:För åk 2-6. Samling 15.00 på gården utanför Ankaret (ta med kläder efter väder)\, vi bjuder på hamburgare till middag och sedan blir det joytime i kyrkan. \nAnmälan finns på Instagram @pingstbodenbarn.
URL:https://www.boden.pingst.se/handelse/sportlovsdag/
END:VEVENT
BEGIN:VEVENT
DTSTART;TZID=Europe/Stockholm:20210310T093000
DTEND;TZID=Europe/Stockholm:20210310T093000
DTSTAMP:20260420T091850
CREATED:20210305T144911Z
LAST-MODIFIED:20210305T145030Z
UID:4197-1615368600-1615368600@www.boden.pingst.se
SUMMARY:Sportlovsdag ungdom
DESCRIPTION:Onsdag 10/3 kommer det vara en dag i Kanis för de som går 7:an – 3:an (gymnasiet). Vi kommer att åka från Pingst Boden 09:30 och hem 16:00. Vi äter lunch i backen\, så packa med några mackor och choklad. \nAnmälan finns på Instagram @ungpanoahs.
URL:https://www.boden.pingst.se/handelse/sportlovsdag-ungdom/
END:VEVENT
BEGIN:VEVENT
DTSTART;TZID=Europe/Stockholm:20210307T110000
DTEND;TZID=Europe/Stockholm:20210307T110000
DTSTAMP:20260420T091850
CREATED:20210215T100521Z
LAST-MODIFIED:20210215T100521Z
UID:4192-1615114800-1615114800@www.boden.pingst.se
SUMMARY:Gudstjänst
DESCRIPTION:via Facebook\, närradion och webbradion. Marcus Sandström predikar\, bön och lovsång. Kyrkfika via Teams efteråt.
URL:https://www.boden.pingst.se/handelse/gudstjanst-359/
END:VEVENT
BEGIN:VEVENT
DTSTART;TZID=Europe/Stockholm:20210228T110000
DTEND;TZID=Europe/Stockholm:20210228T110000
DTSTAMP:20260420T091850
CREATED:20210215T100434Z
LAST-MODIFIED:20210215T100434Z
UID:4191-1614510000-1614510000@www.boden.pingst.se
SUMMARY:Gudstjänst
DESCRIPTION:via Facebook\, närradion och webbradion. Greger Björklund predikar\, bön och lovsång. Kyrkfika via Teams efteråt.
URL:https://www.boden.pingst.se/handelse/gudstjanst-358/
END:VEVENT
BEGIN:VEVENT
DTSTART;TZID=Europe/Stockholm:20210225T180000
DTEND;TZID=Europe/Stockholm:20210225T180000
DTSTAMP:20260420T091850
CREATED:20210215T100110Z
LAST-MODIFIED:20210215T100110Z
UID:4190-1614276000-1614276000@www.boden.pingst.se
SUMMARY:Bibelstudium
DESCRIPTION:Sänds via Facebook och närradion.\nBibelstudiet anordnas i samarbete med Studieförbundet Bilda
URL:https://www.boden.pingst.se/handelse/bibelstudium-7-2/
END:VEVENT
BEGIN:VEVENT
DTSTART;TZID=Europe/Stockholm:20210221T110000
DTEND;TZID=Europe/Stockholm:20210221T110000
DTSTAMP:20260420T091850
CREATED:20210209T132454Z
LAST-MODIFIED:20210209T132454Z
UID:4185-1613905200-1613905200@www.boden.pingst.se
SUMMARY:Gudstjänst
DESCRIPTION:via Facebook\, närradion och webbradion. Frida Nyberg predikar\, bön och lovsång. Kyrkfika via Teams efteråt.
URL:https://www.boden.pingst.se/handelse/gudstjanst-357/
END:VEVENT
BEGIN:VEVENT
DTSTART;TZID=Europe/Stockholm:20210220T090000
DTEND;TZID=Europe/Stockholm:20210220T090000
DTSTAMP:20260420T091850
CREATED:20201222T143232Z
LAST-MODIFIED:20210215T100227Z
UID:4152-1613811600-1613811600@www.boden.pingst.se
SUMMARY:Bön i stadshuset
DESCRIPTION:
URL:https://www.boden.pingst.se/handelse/bon-i-stadshuset-20/
END:VEVENT
BEGIN:VEVENT
DTSTART;TZID=Europe/Stockholm:20210214T110000
DTEND;TZID=Europe/Stockholm:20210214T110000
DTSTAMP:20260420T091850
CREATED:20210202T152225Z
LAST-MODIFIED:20210202T152225Z
UID:4183-1613300400-1613300400@www.boden.pingst.se
SUMMARY:Gudstjänst
DESCRIPTION:via Facebook\, närradion och webbradion. Caroline Söderström predikar\, bön och lovsång. Kyrkfika via Teams efteråt.
URL:https://www.boden.pingst.se/handelse/gudstjanst-356/
END:VEVENT
BEGIN:VEVENT
DTSTART;TZID=Europe/Stockholm:20210212T130000
DTEND;TZID=Europe/Stockholm:20210212T130000
DTSTAMP:20260420T091850
CREATED:20210127T074538Z
LAST-MODIFIED:20210215T100140Z
UID:4180-1613134800-1613134800@www.boden.pingst.se
SUMMARY:After School på kyrkan
DESCRIPTION:
URL:https://www.boden.pingst.se/handelse/after-school-pa-kyrkan/
END:VEVENT
BEGIN:VEVENT
DTSTART;TZID=Europe/Stockholm:20210207T173000
DTEND;TZID=Europe/Stockholm:20210207T173000
DTSTAMP:20260420T091850
CREATED:20210113T100403Z
LAST-MODIFIED:20210113T100403Z
UID:4176-1612719000-1612719000@www.boden.pingst.se
SUMMARY:Församlingsmöte via Teams
DESCRIPTION:Mer information kommer i nästa medlemsbrev.
URL:https://www.boden.pingst.se/handelse/forsamlingsmote-via-teams-2/
END:VEVENT
BEGIN:VEVENT
DTSTART;TZID=Europe/Stockholm:20210207T110000
DTEND;TZID=Europe/Stockholm:20210207T110000
DTSTAMP:20260420T091850
CREATED:20210113T100302Z
LAST-MODIFIED:20210113T100302Z
UID:4175-1612695600-1612695600@www.boden.pingst.se
SUMMARY:Gudstjänst
DESCRIPTION:via Facebook\, närradion och webbradion. Frida Nyberg predikar\, bön och lovsång. Kyrkfika via Teams efteråt.
URL:https://www.boden.pingst.se/handelse/gudstjanst-355/
END:VEVENT
BEGIN:VEVENT
DTSTART;TZID=Europe/Stockholm:20210131T110000
DTEND;TZID=Europe/Stockholm:20210131T110000
DTSTAMP:20260420T091850
CREATED:20210113T100217Z
LAST-MODIFIED:20210113T100217Z
UID:4174-1612090800-1612090800@www.boden.pingst.se
SUMMARY:Gudstjänst
DESCRIPTION:via Facebook\, närradion och webbradion. Benjamin Mattsson predikar\, bön och lovsång. Kyrkfika via Teams efteråt.
URL:https://www.boden.pingst.se/handelse/gudstjanst-354/
END:VEVENT
BEGIN:VEVENT
DTSTART;TZID=Europe/Stockholm:20210129T190000
DTEND;TZID=Europe/Stockholm:20210129T190000
DTSTAMP:20260420T091850
CREATED:20210127T091434Z
LAST-MODIFIED:20210127T091434Z
UID:4181-1611946800-1611946800@www.boden.pingst.se
SUMMARY:Ung på Noah's i Pagla
DESCRIPTION:
URL:https://www.boden.pingst.se/handelse/ung-pa-noahs-i-pagla/
END:VEVENT
BEGIN:VEVENT
DTSTART;TZID=Europe/Stockholm:20210128T180000
DTEND;TZID=Europe/Stockholm:20210128T180000
DTSTAMP:20260420T091850
CREATED:20201229T143507Z
LAST-MODIFIED:20210125T095727Z
UID:4159-1611856800-1611856800@www.boden.pingst.se
SUMMARY:Bibelstudium
DESCRIPTION:Sänds via Facebook och närradion.\nBibelstudiet anordnas i samarbete med Studieförbundet Bilda
URL:https://www.boden.pingst.se/handelse/bibelstudium-7/
END:VEVENT
BEGIN:VEVENT
DTSTART;TZID=Europe/Stockholm:20210124T110000
DTEND;TZID=Europe/Stockholm:20210124T110000
DTSTAMP:20260420T091850
CREATED:20210113T100115Z
LAST-MODIFIED:20210113T100115Z
UID:4173-1611486000-1611486000@www.boden.pingst.se
SUMMARY:Gudstjänst
DESCRIPTION:via Facebook\, närradion och webbradion. Torbjörn Björk predikar\, bön och lovsång. Kyrkfika via Teams efteråt.
URL:https://www.boden.pingst.se/handelse/gudstjanst-353/
END:VEVENT
BEGIN:VEVENT
DTSTART;TZID=Europe/Stockholm:20210117T110000
DTEND;TZID=Europe/Stockholm:20210117T110000
DTSTAMP:20260420T091850
CREATED:20210105T095419Z
LAST-MODIFIED:20210105T095419Z
UID:4165-1610881200-1610881200@www.boden.pingst.se
SUMMARY:Gudstjänst
DESCRIPTION:via Facebook\, närradion och webbradion. Caroline Söderström predikar\, bön och lovsång. Kyrkfika via Teams efteråt.
URL:https://www.boden.pingst.se/handelse/gudstjanst-352/
END:VEVENT
END:VCALENDAR