BEGIN:VCALENDAR
VERSION:2.0
PRODID:-//Pingstkyrkan i Boden - ECPv6.8.2.1//NONSGML v1.0//EN
CALSCALE:GREGORIAN
METHOD:PUBLISH
X-WR-CALNAME:Pingstkyrkan i Boden
X-ORIGINAL-URL:https://www.boden.pingst.se
X-WR-CALDESC:Events for Pingstkyrkan i Boden
REFRESH-INTERVAL;VALUE=DURATION:PT1H
X-Robots-Tag:noindex
X-PUBLISHED-TTL:PT1H
BEGIN:VTIMEZONE
TZID:Europe/Stockholm
BEGIN:DAYLIGHT
TZOFFSETFROM:+0100
TZOFFSETTO:+0200
TZNAME:CEST
DTSTART:20170326T010000
END:DAYLIGHT
BEGIN:STANDARD
TZOFFSETFROM:+0200
TZOFFSETTO:+0100
TZNAME:CET
DTSTART:20171029T010000
END:STANDARD
END:VTIMEZONE
BEGIN:VEVENT
DTSTART;TZID=Europe/Stockholm:20170831T190000
DTEND;TZID=Europe/Stockholm:20170831T190000
DTSTAMP:20260426T050517
CREATED:20170815T072813Z
LAST-MODIFIED:20170831T124739Z
UID:2592-1504206000-1504206000@www.boden.pingst.se
SUMMARY:LP-möte
DESCRIPTION:Malte Holmquist\, Lp-vännerna sjunger\, fika efteråt.
URL:https://www.boden.pingst.se/handelse/lp-mote-157/
END:VEVENT
BEGIN:VEVENT
DTSTART;TZID=Europe/Stockholm:20170827T180000
DTEND;TZID=Europe/Stockholm:20170827T180000
DTSTAMP:20260426T050517
CREATED:20170815T072959Z
LAST-MODIFIED:20170815T072959Z
UID:2593-1503856800-1503856800@www.boden.pingst.se
SUMMARY:Missionsgudstjänst
DESCRIPTION:Per-Åke Enström\, ICBI.
URL:https://www.boden.pingst.se/handelse/missionsgudstjanst/
END:VEVENT
BEGIN:VEVENT
DTSTART;TZID=Europe/Stockholm:20170827T110000
DTEND;TZID=Europe/Stockholm:20170827T110000
DTSTAMP:20260426T050517
CREATED:20170523T073508Z
LAST-MODIFIED:20170523T073508Z
UID:2576-1503831600-1503831600@www.boden.pingst.se
SUMMARY:Gudstjänst
DESCRIPTION:Anton Björkman\, kyrkkaffe
URL:https://www.boden.pingst.se/handelse/gudstjanst-208/
END:VEVENT
BEGIN:VEVENT
DTSTART;TZID=Europe/Stockholm:20170824T193000
DTEND;TZID=Europe/Stockholm:20170824T193000
DTSTAMP:20260426T050517
CREATED:20170523T073411Z
LAST-MODIFIED:20170815T072538Z
UID:2575-1503603000-1503603000@www.boden.pingst.se
SUMMARY:Lp-möte
DESCRIPTION:Thor Bygdén\, Lp-vännerna sjunger\, fika efteråt.
URL:https://www.boden.pingst.se/handelse/lp-mote-155/
END:VEVENT
BEGIN:VEVENT
DTSTART;TZID=Europe/Stockholm:20170820T170000
DTEND;TZID=Europe/Stockholm:20170820T170000
DTSTAMP:20260426T050517
CREATED:20170523T073052Z
LAST-MODIFIED:20170523T073052Z
UID:2573-1503248400-1503248400@www.boden.pingst.se
SUMMARY:Sommargudstjänst
DESCRIPTION:i Alträsk
URL:https://www.boden.pingst.se/handelse/sommargudstjanst/
END:VEVENT
BEGIN:VEVENT
DTSTART;TZID=Europe/Stockholm:20170820T110000
DTEND;TZID=Europe/Stockholm:20170820T110000
DTSTAMP:20260426T050517
CREATED:20170523T072946Z
LAST-MODIFIED:20170523T072946Z
UID:2572-1503226800-1503226800@www.boden.pingst.se
SUMMARY:Gudstjänst
DESCRIPTION:Kjell Enström\, kyrkkaffe
URL:https://www.boden.pingst.se/handelse/gudstjanst-207/
END:VEVENT
BEGIN:VEVENT
DTSTART;TZID=Europe/Stockholm:20170813T110000
DTEND;TZID=Europe/Stockholm:20170813T110000
DTSTAMP:20260426T050517
CREATED:20170523T072825Z
LAST-MODIFIED:20170523T072825Z
UID:2571-1502622000-1502622000@www.boden.pingst.se
SUMMARY:Gudstjänst
DESCRIPTION:Anna-Sara Bergwall\, kyrkkaffe
URL:https://www.boden.pingst.se/handelse/gudstjanst-206/
END:VEVENT
BEGIN:VEVENT
DTSTART;TZID=Europe/Stockholm:20170806T110000
DTEND;TZID=Europe/Stockholm:20170806T110000
DTSTAMP:20260426T050517
CREATED:20170523T072712Z
LAST-MODIFIED:20170523T072712Z
UID:2570-1502017200-1502017200@www.boden.pingst.se
SUMMARY:Gudstjänst
DESCRIPTION:Frida Nyberg\, kyrkkaffe
URL:https://www.boden.pingst.se/handelse/gudstjanst-205/
END:VEVENT
BEGIN:VEVENT
DTSTART;TZID=Europe/Stockholm:20170730T110000
DTEND;TZID=Europe/Stockholm:20170730T110000
DTSTAMP:20260426T050517
CREATED:20170523T070730Z
LAST-MODIFIED:20170523T070730Z
UID:2569-1501412400-1501412400@www.boden.pingst.se
SUMMARY:Gudstjänst
DESCRIPTION:
URL:https://www.boden.pingst.se/handelse/gudstjanst-204/
END:VEVENT
BEGIN:VEVENT
DTSTART;TZID=Europe/Stockholm:20170723T110000
DTEND;TZID=Europe/Stockholm:20170723T110000
DTSTAMP:20260426T050517
CREATED:20170523T070708Z
LAST-MODIFIED:20170523T070708Z
UID:2568-1500807600-1500807600@www.boden.pingst.se
SUMMARY:Gudstjänst
DESCRIPTION:
URL:https://www.boden.pingst.se/handelse/gudstjanst-203/
END:VEVENT
BEGIN:VEVENT
DTSTART;TZID=Europe/Stockholm:20170716T110000
DTEND;TZID=Europe/Stockholm:20170716T110000
DTSTAMP:20260426T050517
CREATED:20170523T070616Z
LAST-MODIFIED:20170523T070616Z
UID:2567-1500202800-1500202800@www.boden.pingst.se
SUMMARY:Gudstjänst
DESCRIPTION:Kurt Enström\, kyrkkaffe
URL:https://www.boden.pingst.se/handelse/gudstjanst-202/
END:VEVENT
BEGIN:VEVENT
DTSTART;TZID=Europe/Stockholm:20170709T110000
DTEND;TZID=Europe/Stockholm:20170709T110000
DTSTAMP:20260426T050517
CREATED:20170523T070516Z
LAST-MODIFIED:20170523T070516Z
UID:2566-1499598000-1499598000@www.boden.pingst.se
SUMMARY:Gudstjänst
DESCRIPTION:Thor Bygdén\, kyrkkaffe
URL:https://www.boden.pingst.se/handelse/gudstjanst-201/
END:VEVENT
BEGIN:VEVENT
DTSTART;TZID=Europe/Stockholm:20170702T110000
DTEND;TZID=Europe/Stockholm:20170702T110000
DTSTAMP:20260426T050517
CREATED:20170523T070422Z
LAST-MODIFIED:20170523T070422Z
UID:2565-1498993200-1498993200@www.boden.pingst.se
SUMMARY:Gudstjänst
DESCRIPTION:Malte Holmquist\, kyrkkaffe
URL:https://www.boden.pingst.se/handelse/gudstjanst-200/
END:VEVENT
BEGIN:VEVENT
DTSTART;TZID=Europe/Stockholm:20170629T190000
DTEND;TZID=Europe/Stockholm:20170629T190000
DTSTAMP:20260426T050517
CREATED:20170523T070312Z
LAST-MODIFIED:20170523T070312Z
UID:2564-1498762800-1498762800@www.boden.pingst.se
SUMMARY:Sommarcafé
DESCRIPTION:
URL:https://www.boden.pingst.se/handelse/sommarcafe/
END:VEVENT
BEGIN:VEVENT
DTSTART;VALUE=DATE:20170623
DTEND;VALUE=DATE:20170626
DTSTAMP:20260426T050517
CREATED:20170523T065928Z
LAST-MODIFIED:20170523T065928Z
UID:2563-1498176000-1498435199@www.boden.pingst.se
SUMMARY:Midsommarkonferens
DESCRIPTION:i Arnemark
URL:https://www.boden.pingst.se/handelse/midsommarkonferens-2/
END:VEVENT
BEGIN:VEVENT
DTSTART;VALUE=DATE:20170619
DTEND;VALUE=DATE:20170623
DTSTAMP:20260426T050517
CREATED:20170523T065855Z
LAST-MODIFIED:20170523T065855Z
UID:2562-1497830400-1498175999@www.boden.pingst.se
SUMMARY:Kyrka på stan
DESCRIPTION:
URL:https://www.boden.pingst.se/handelse/kyrka-pa-stan-2/
END:VEVENT
BEGIN:VEVENT
DTSTART;TZID=Europe/Stockholm:20170618T110000
DTEND;TZID=Europe/Stockholm:20170618T110000
DTSTAMP:20260426T050517
CREATED:20170523T065822Z
LAST-MODIFIED:20170523T065822Z
UID:2561-1497783600-1497783600@www.boden.pingst.se
SUMMARY:Gudstjänst
DESCRIPTION:Malte Holmquist\, nattvard\, kyrkkaffe
URL:https://www.boden.pingst.se/handelse/gudstjanst-199/
END:VEVENT
BEGIN:VEVENT
DTSTART;VALUE=DATE:20170617
DTEND;VALUE=DATE:20170621
DTSTAMP:20260426T050517
CREATED:20170523T065708Z
LAST-MODIFIED:20170523T065708Z
UID:2560-1497657600-1498003199@www.boden.pingst.se
SUMMARY:Barnläger
DESCRIPTION:i Arnemark
URL:https://www.boden.pingst.se/handelse/barnlager/
END:VEVENT
BEGIN:VEVENT
DTSTART;TZID=Europe/Stockholm:20170615T190000
DTEND;TZID=Europe/Stockholm:20170615T190000
DTSTAMP:20260426T050517
CREATED:20170523T065624Z
LAST-MODIFIED:20170523T065624Z
UID:2559-1497553200-1497553200@www.boden.pingst.se
SUMMARY:Lp-möte
DESCRIPTION:Miriam Wälitalo\, Lp-vännerna sjunger\, fika efteråt
URL:https://www.boden.pingst.se/handelse/lp-mote-154/
END:VEVENT
BEGIN:VEVENT
DTSTART;TZID=Europe/Stockholm:20170611T110000
DTEND;TZID=Europe/Stockholm:20170611T110000
DTSTAMP:20260426T050517
CREATED:20170523T065524Z
LAST-MODIFIED:20170523T065524Z
UID:2558-1497178800-1497178800@www.boden.pingst.se
SUMMARY:Gudstjänst
DESCRIPTION:Malte Holmquist
URL:https://www.boden.pingst.se/handelse/gudstjanst-198/
END:VEVENT
BEGIN:VEVENT
DTSTART;TZID=Europe/Stockholm:20170609T193000
DTEND;TZID=Europe/Stockholm:20170609T193000
DTSTAMP:20260426T050517
CREATED:20170523T065419Z
LAST-MODIFIED:20170523T065419Z
UID:2557-1497036600-1497036600@www.boden.pingst.se
SUMMARY:Ung på Noahs
DESCRIPTION:Avslutning
URL:https://www.boden.pingst.se/handelse/ung-pa-noahs-6/
END:VEVENT
BEGIN:VEVENT
DTSTART;TZID=Europe/Stockholm:20170608T190000
DTEND;TZID=Europe/Stockholm:20170608T190000
DTSTAMP:20260426T050517
CREATED:20170523T065342Z
LAST-MODIFIED:20170523T065342Z
UID:2556-1496948400-1496948400@www.boden.pingst.se
SUMMARY:Lp-möte
DESCRIPTION:Johan Enström\, lp-vännerna sjunger\, fika efteråt
URL:https://www.boden.pingst.se/handelse/lp-mote-153/
END:VEVENT
BEGIN:VEVENT
DTSTART;TZID=Europe/Stockholm:20170604T110000
DTEND;TZID=Europe/Stockholm:20170604T110000
DTSTAMP:20260426T050517
CREATED:20170523T065252Z
LAST-MODIFIED:20170523T065252Z
UID:2555-1496574000-1496574000@www.boden.pingst.se
SUMMARY:Gudstjänst
DESCRIPTION:Frida Nyberg\, barnkyrkans avslutningsfest\, kyrkkaffe\, förhandlingar efteråt
URL:https://www.boden.pingst.se/handelse/gudstjanst-197/
END:VEVENT
BEGIN:VEVENT
DTSTART;TZID=Europe/Stockholm:20170602T193000
DTEND;TZID=Europe/Stockholm:20170602T193000
DTSTAMP:20260426T050517
CREATED:20170523T065105Z
LAST-MODIFIED:20170523T065105Z
UID:2554-1496431800-1496431800@www.boden.pingst.se
SUMMARY:Ung på Noahs
DESCRIPTION:
URL:https://www.boden.pingst.se/handelse/ung-pa-noahs-5/
END:VEVENT
BEGIN:VEVENT
DTSTART;TZID=Europe/Stockholm:20170601T190000
DTEND;TZID=Europe/Stockholm:20170601T190000
DTSTAMP:20260426T050517
CREATED:20170523T065024Z
LAST-MODIFIED:20170523T065024Z
UID:2553-1496343600-1496343600@www.boden.pingst.se
SUMMARY:Lp-möte
DESCRIPTION:Ove Lindeskär\, lp-vännerna sjunger\, fika efteråt
URL:https://www.boden.pingst.se/handelse/lp-mote-152/
END:VEVENT
BEGIN:VEVENT
DTSTART;TZID=Europe/Stockholm:20170528T110000
DTEND;TZID=Europe/Stockholm:20170528T110000
DTSTAMP:20260426T050517
CREATED:20170411T073234Z
LAST-MODIFIED:20170521T092239Z
UID:2502-1495969200-1495969200@www.boden.pingst.se
SUMMARY:Jubileumsgudstjänst
DESCRIPTION:Kjell-Göran Westerberg\, barnkyrkan\, kyrkkaffe.
URL:https://www.boden.pingst.se/handelse/jubileumgudstjanst/
END:VEVENT
BEGIN:VEVENT
DTSTART;TZID=Europe/Stockholm:20170527T160000
DTEND;TZID=Europe/Stockholm:20170527T160000
DTSTAMP:20260426T050517
CREATED:20170411T073108Z
LAST-MODIFIED:20170411T073119Z
UID:2501-1495900800-1495900800@www.boden.pingst.se
SUMMARY:Julbileumskväll
DESCRIPTION:anmälan krävs
URL:https://www.boden.pingst.se/handelse/julbileumskvall/
END:VEVENT
BEGIN:VEVENT
DTSTART;TZID=Europe/Stockholm:20170525T080000
DTEND;TZID=Europe/Stockholm:20170525T080000
DTSTAMP:20260426T050517
CREATED:20170411T073524Z
LAST-MODIFIED:20170411T073524Z
UID:2503-1495699200-1495699200@www.boden.pingst.se
SUMMARY:Ekumenisk gökotta
DESCRIPTION:på Gruvberget
URL:https://www.boden.pingst.se/handelse/ekumenisk-gokotta/
END:VEVENT
BEGIN:VEVENT
DTSTART;TZID=Europe/Stockholm:20170524T130000
DTEND;TZID=Europe/Stockholm:20170524T130000
DTSTAMP:20260426T050517
CREATED:20170411T073608Z
LAST-MODIFIED:20170411T073608Z
UID:2504-1495630800-1495630800@www.boden.pingst.se
SUMMARY:Allträffens avslutning
DESCRIPTION:utflykt
URL:https://www.boden.pingst.se/handelse/alltraffens-avslutning-3/
END:VEVENT
BEGIN:VEVENT
DTSTART;TZID=Europe/Stockholm:20170523T183000
DTEND;TZID=Europe/Stockholm:20170523T183000
DTSTAMP:20260426T050517
CREATED:20170411T072701Z
LAST-MODIFIED:20170411T072701Z
UID:2500-1495564200-1495564200@www.boden.pingst.se
SUMMARY:Bibelupptäckarkväll
DESCRIPTION:
URL:https://www.boden.pingst.se/handelse/bibelupptackarkvall-6/
END:VEVENT
END:VCALENDAR