BEGIN:VCALENDAR
VERSION:2.0
PRODID:-//Pingstkyrkan i Boden - ECPv6.8.2.1//NONSGML v1.0//EN
CALSCALE:GREGORIAN
METHOD:PUBLISH
X-WR-CALNAME:Pingstkyrkan i Boden
X-ORIGINAL-URL:https://www.boden.pingst.se
X-WR-CALDESC:Events for Pingstkyrkan i Boden
REFRESH-INTERVAL;VALUE=DURATION:PT1H
X-Robots-Tag:noindex
X-PUBLISHED-TTL:PT1H
BEGIN:VTIMEZONE
TZID:Europe/Stockholm
BEGIN:DAYLIGHT
TZOFFSETFROM:+0100
TZOFFSETTO:+0200
TZNAME:CEST
DTSTART:20170326T010000
END:DAYLIGHT
BEGIN:STANDARD
TZOFFSETFROM:+0200
TZOFFSETTO:+0100
TZNAME:CET
DTSTART:20171029T010000
END:STANDARD
END:VTIMEZONE
BEGIN:VEVENT
DTSTART;TZID=Europe/Stockholm:20171005T190000
DTEND;TZID=Europe/Stockholm:20171005T190000
DTSTAMP:20260426T020102
CREATED:20170905T070626Z
LAST-MODIFIED:20170905T070626Z
UID:2630-1507230000-1507230000@www.boden.pingst.se
SUMMARY:LP-möte
DESCRIPTION:Malte Holmquist\, LP-vännerna sjunger\, fika efteråt
URL:https://www.boden.pingst.se/handelse/lp-mote-162/
END:VEVENT
BEGIN:VEVENT
DTSTART;TZID=Europe/Stockholm:20171001T110000
DTEND;TZID=Europe/Stockholm:20171001T110000
DTSTAMP:20260426T020102
CREATED:20170905T070523Z
LAST-MODIFIED:20170905T070523Z
UID:2629-1506855600-1506855600@www.boden.pingst.se
SUMMARY:Gudstjänst
DESCRIPTION:Malte Holmquist\, barnkyrkan\, kyrkkaffe\, efteråt förhandlingar
URL:https://www.boden.pingst.se/handelse/gudstjanst-213/
END:VEVENT
BEGIN:VEVENT
DTSTART;TZID=Europe/Stockholm:20170929T193000
DTEND;TZID=Europe/Stockholm:20170929T193000
DTSTAMP:20260426T020102
CREATED:20170919T070658Z
LAST-MODIFIED:20170919T070658Z
UID:2666-1506713400-1506713400@www.boden.pingst.se
SUMMARY:Ung på Noahs
DESCRIPTION:
URL:https://www.boden.pingst.se/handelse/ung-pa-noahs-11/
END:VEVENT
BEGIN:VEVENT
DTSTART;TZID=Europe/Stockholm:20170929T184500
DTEND;TZID=Europe/Stockholm:20170929T184500
DTSTAMP:20260426T020102
CREATED:20170927T081811Z
LAST-MODIFIED:20170927T081811Z
UID:2703-1506710700-1506710700@www.boden.pingst.se
SUMMARY:Mixen
DESCRIPTION:
URL:https://www.boden.pingst.se/handelse/mixen-14/
END:VEVENT
BEGIN:VEVENT
DTSTART;TZID=Europe/Stockholm:20170928T190000
DTEND;TZID=Europe/Stockholm:20170928T190000
DTSTAMP:20260426T020102
CREATED:20170905T070331Z
LAST-MODIFIED:20170905T070331Z
UID:2628-1506625200-1506625200@www.boden.pingst.se
SUMMARY:LP-möte
DESCRIPTION:Håkan Nilsson\, Lp-vännerna sjunger\, fika efteråt
URL:https://www.boden.pingst.se/handelse/lp-mote-161/
END:VEVENT
BEGIN:VEVENT
DTSTART;TZID=Europe/Stockholm:20170924T110000
DTEND;TZID=Europe/Stockholm:20170924T110000
DTSTAMP:20260426T020102
CREATED:20170905T070201Z
LAST-MODIFIED:20170905T070201Z
UID:2627-1506250800-1506250800@www.boden.pingst.se
SUMMARY:Gudstjänst
DESCRIPTION:Livsberättelser\, Glädjeton sjunger\, Noahs Kids\, kyrkkaffe.
URL:https://www.boden.pingst.se/handelse/gudstjanst-212/
END:VEVENT
BEGIN:VEVENT
DTSTART;TZID=Europe/Stockholm:20170922T180000
DTEND;TZID=Europe/Stockholm:20170922T180000
DTSTAMP:20260426T020102
CREATED:20170905T093647Z
LAST-MODIFIED:20170919T070542Z
UID:2642-1506103200-1506103200@www.boden.pingst.se
SUMMARY:Ung på Noahs:SPECIAL
DESCRIPTION:Samling 18.00 för avfärd till All In i Luleå.
URL:https://www.boden.pingst.se/handelse/ung-pa-noahs-8/
END:VEVENT
BEGIN:VEVENT
DTSTART;TZID=Europe/Stockholm:20170921T190000
DTEND;TZID=Europe/Stockholm:20170921T190000
DTSTAMP:20260426T020102
CREATED:20170905T070056Z
LAST-MODIFIED:20170905T070056Z
UID:2626-1506020400-1506020400@www.boden.pingst.se
SUMMARY:LP-möte
DESCRIPTION:Christer Öberg\, Lp-vännerna sjunger\, fika efteråt
URL:https://www.boden.pingst.se/handelse/lp-mote-160/
END:VEVENT
BEGIN:VEVENT
DTSTART;TZID=Europe/Stockholm:20170920T130000
DTEND;TZID=Europe/Stockholm:20170920T130000
DTSTAMP:20260426T020102
CREATED:20170912T071908Z
LAST-MODIFIED:20170912T071908Z
UID:2657-1505912400-1505912400@www.boden.pingst.se
SUMMARY:Allträff
DESCRIPTION:med Luisa Landewall
URL:https://www.boden.pingst.se/handelse/alltraff-15/
END:VEVENT
BEGIN:VEVENT
DTSTART;TZID=Europe/Stockholm:20170919T190000
DTEND;TZID=Europe/Stockholm:20170919T190000
DTSTAMP:20260426T020102
CREATED:20170905T065814Z
LAST-MODIFIED:20170919T081103Z
UID:2624-1505847600-1505847600@www.boden.pingst.se
SUMMARY:Bönegrupper
DESCRIPTION:
URL:https://www.boden.pingst.se/handelse/bonegrupper-9/
END:VEVENT
BEGIN:VEVENT
DTSTART;TZID=Europe/Stockholm:20170917T110000
DTEND;TZID=Europe/Stockholm:20170917T110000
DTSTAMP:20260426T020102
CREATED:20170905T065945Z
LAST-MODIFIED:20170905T065945Z
UID:2623-1505646000-1505646000@www.boden.pingst.se
SUMMARY:Gudstjänst
DESCRIPTION:Frida Nyberg\, barnkyrkan\, nattvard och kyrkkaffe.
URL:https://www.boden.pingst.se/handelse/gudstjanst-211/
END:VEVENT
BEGIN:VEVENT
DTSTART;TZID=Europe/Stockholm:20170916T110000
DTEND;TZID=Europe/Stockholm:20170916T160000
DTSTAMP:20260426T020102
CREATED:20170815T073952Z
LAST-MODIFIED:20170831T142132Z
UID:2600-1505559600-1505577600@www.boden.pingst.se
SUMMARY:Helige Ande retreat
DESCRIPTION:en dag tillsammans med fokus på bön\, undervisning och stillhet.
URL:https://www.boden.pingst.se/handelse/helige-ande-retreat/
END:VEVENT
BEGIN:VEVENT
DTSTART;TZID=Europe/Stockholm:20170914T190000
DTEND;TZID=Europe/Stockholm:20170914T190000
DTSTAMP:20260426T020102
CREATED:20170905T065606Z
LAST-MODIFIED:20170905T065606Z
UID:2622-1505415600-1505415600@www.boden.pingst.se
SUMMARY:LP-möte
DESCRIPTION:Frida Nyberg\, Lp-vännerna sjunger\, fika efteråt
URL:https://www.boden.pingst.se/handelse/lp-mote-159/
END:VEVENT
BEGIN:VEVENT
DTSTART;TZID=Europe/Stockholm:20170912T183000
DTEND;TZID=Europe/Stockholm:20170912T183000
DTSTAMP:20260426T020102
CREATED:20170815T073519Z
LAST-MODIFIED:20170815T073717Z
UID:2599-1505241000-1505241000@www.boden.pingst.se
SUMMARY:Bönekväll
DESCRIPTION:för hela församlingen.
URL:https://www.boden.pingst.se/handelse/bonekvall-3/
END:VEVENT
BEGIN:VEVENT
DTSTART;TZID=Europe/Stockholm:20170910T110000
DTEND;TZID=Europe/Stockholm:20170910T110000
DTSTAMP:20260426T020102
CREATED:20170905T065343Z
LAST-MODIFIED:20170905T065343Z
UID:2619-1505041200-1505041200@www.boden.pingst.se
SUMMARY:Gudstjänst
DESCRIPTION:Malte Holmquist\, barnkyrkan\, kyrkkaffe
URL:https://www.boden.pingst.se/handelse/gudstjanst-210/
END:VEVENT
BEGIN:VEVENT
DTSTART;TZID=Europe/Stockholm:20170907T190000
DTEND;TZID=Europe/Stockholm:20170907T190000
DTSTAMP:20260426T020102
CREATED:20170905T065449Z
LAST-MODIFIED:20170905T065449Z
UID:2621-1504810800-1504810800@www.boden.pingst.se
SUMMARY:LP-möte
DESCRIPTION:Sibylla Engman\, Lp-vännerna sjunger\, fika efteråt
URL:https://www.boden.pingst.se/handelse/lp-mote-158/
END:VEVENT
BEGIN:VEVENT
DTSTART;TZID=Europe/Stockholm:20170906T183000
DTEND;TZID=Europe/Stockholm:20170906T183000
DTSTAMP:20260426T020102
CREATED:20170905T065411Z
LAST-MODIFIED:20170905T065554Z
UID:2620-1504722600-1504722600@www.boden.pingst.se
SUMMARY:Språkcafé
DESCRIPTION:
URL:https://www.boden.pingst.se/handelse/sprakcafe-5/
END:VEVENT
BEGIN:VEVENT
DTSTART;TZID=Europe/Stockholm:20170905T190000
DTEND;TZID=Europe/Stockholm:20170905T190000
DTSTAMP:20260426T020102
CREATED:20170905T065305Z
LAST-MODIFIED:20170905T065305Z
UID:2618-1504638000-1504638000@www.boden.pingst.se
SUMMARY:Bönegrupperna startar
DESCRIPTION:
URL:https://www.boden.pingst.se/handelse/bonegrupperna-startar-2/
END:VEVENT
BEGIN:VEVENT
DTSTART;TZID=Europe/Stockholm:20170903T110000
DTEND;TZID=Europe/Stockholm:20170903T110000
DTSTAMP:20260426T020102
CREATED:20170523T073656Z
LAST-MODIFIED:20170523T073656Z
UID:2577-1504436400-1504436400@www.boden.pingst.se
SUMMARY:Gudstjänst
DESCRIPTION:Visionsgudstjänst: Frida Nyberg\, barnkyrkan startar\, kyrkkaffe\, förhandlingar efteråt
URL:https://www.boden.pingst.se/handelse/gudstjanst-209/
END:VEVENT
BEGIN:VEVENT
DTSTART;TZID=Europe/Stockholm:20170901T180000
DTEND;TZID=Europe/Stockholm:20170901T180000
DTSTAMP:20260426T020102
CREATED:20170815T074301Z
LAST-MODIFIED:20170815T075043Z
UID:2601-1504288800-1504288800@www.boden.pingst.se
SUMMARY:Glädjeton och miniton
DESCRIPTION:barnkörerna övar – för barn 4-13 år.
URL:https://www.boden.pingst.se/handelse/gladjeton-och-miniton-2/
END:VEVENT
BEGIN:VEVENT
DTSTART;TZID=Europe/Stockholm:20170831T190000
DTEND;TZID=Europe/Stockholm:20170831T190000
DTSTAMP:20260426T020102
CREATED:20170815T072813Z
LAST-MODIFIED:20170831T124739Z
UID:2592-1504206000-1504206000@www.boden.pingst.se
SUMMARY:LP-möte
DESCRIPTION:Malte Holmquist\, Lp-vännerna sjunger\, fika efteråt.
URL:https://www.boden.pingst.se/handelse/lp-mote-157/
END:VEVENT
BEGIN:VEVENT
DTSTART;TZID=Europe/Stockholm:20170827T180000
DTEND;TZID=Europe/Stockholm:20170827T180000
DTSTAMP:20260426T020102
CREATED:20170815T072959Z
LAST-MODIFIED:20170815T072959Z
UID:2593-1503856800-1503856800@www.boden.pingst.se
SUMMARY:Missionsgudstjänst
DESCRIPTION:Per-Åke Enström\, ICBI.
URL:https://www.boden.pingst.se/handelse/missionsgudstjanst/
END:VEVENT
BEGIN:VEVENT
DTSTART;TZID=Europe/Stockholm:20170827T110000
DTEND;TZID=Europe/Stockholm:20170827T110000
DTSTAMP:20260426T020102
CREATED:20170523T073508Z
LAST-MODIFIED:20170523T073508Z
UID:2576-1503831600-1503831600@www.boden.pingst.se
SUMMARY:Gudstjänst
DESCRIPTION:Anton Björkman\, kyrkkaffe
URL:https://www.boden.pingst.se/handelse/gudstjanst-208/
END:VEVENT
BEGIN:VEVENT
DTSTART;TZID=Europe/Stockholm:20170824T193000
DTEND;TZID=Europe/Stockholm:20170824T193000
DTSTAMP:20260426T020102
CREATED:20170523T073411Z
LAST-MODIFIED:20170815T072538Z
UID:2575-1503603000-1503603000@www.boden.pingst.se
SUMMARY:Lp-möte
DESCRIPTION:Thor Bygdén\, Lp-vännerna sjunger\, fika efteråt.
URL:https://www.boden.pingst.se/handelse/lp-mote-155/
END:VEVENT
BEGIN:VEVENT
DTSTART;TZID=Europe/Stockholm:20170820T170000
DTEND;TZID=Europe/Stockholm:20170820T170000
DTSTAMP:20260426T020102
CREATED:20170523T073052Z
LAST-MODIFIED:20170523T073052Z
UID:2573-1503248400-1503248400@www.boden.pingst.se
SUMMARY:Sommargudstjänst
DESCRIPTION:i Alträsk
URL:https://www.boden.pingst.se/handelse/sommargudstjanst/
END:VEVENT
BEGIN:VEVENT
DTSTART;TZID=Europe/Stockholm:20170820T110000
DTEND;TZID=Europe/Stockholm:20170820T110000
DTSTAMP:20260426T020102
CREATED:20170523T072946Z
LAST-MODIFIED:20170523T072946Z
UID:2572-1503226800-1503226800@www.boden.pingst.se
SUMMARY:Gudstjänst
DESCRIPTION:Kjell Enström\, kyrkkaffe
URL:https://www.boden.pingst.se/handelse/gudstjanst-207/
END:VEVENT
BEGIN:VEVENT
DTSTART;TZID=Europe/Stockholm:20170813T110000
DTEND;TZID=Europe/Stockholm:20170813T110000
DTSTAMP:20260426T020102
CREATED:20170523T072825Z
LAST-MODIFIED:20170523T072825Z
UID:2571-1502622000-1502622000@www.boden.pingst.se
SUMMARY:Gudstjänst
DESCRIPTION:Anna-Sara Bergwall\, kyrkkaffe
URL:https://www.boden.pingst.se/handelse/gudstjanst-206/
END:VEVENT
BEGIN:VEVENT
DTSTART;TZID=Europe/Stockholm:20170806T110000
DTEND;TZID=Europe/Stockholm:20170806T110000
DTSTAMP:20260426T020102
CREATED:20170523T072712Z
LAST-MODIFIED:20170523T072712Z
UID:2570-1502017200-1502017200@www.boden.pingst.se
SUMMARY:Gudstjänst
DESCRIPTION:Frida Nyberg\, kyrkkaffe
URL:https://www.boden.pingst.se/handelse/gudstjanst-205/
END:VEVENT
BEGIN:VEVENT
DTSTART;TZID=Europe/Stockholm:20170730T110000
DTEND;TZID=Europe/Stockholm:20170730T110000
DTSTAMP:20260426T020102
CREATED:20170523T070730Z
LAST-MODIFIED:20170523T070730Z
UID:2569-1501412400-1501412400@www.boden.pingst.se
SUMMARY:Gudstjänst
DESCRIPTION:
URL:https://www.boden.pingst.se/handelse/gudstjanst-204/
END:VEVENT
BEGIN:VEVENT
DTSTART;TZID=Europe/Stockholm:20170723T110000
DTEND;TZID=Europe/Stockholm:20170723T110000
DTSTAMP:20260426T020102
CREATED:20170523T070708Z
LAST-MODIFIED:20170523T070708Z
UID:2568-1500807600-1500807600@www.boden.pingst.se
SUMMARY:Gudstjänst
DESCRIPTION:
URL:https://www.boden.pingst.se/handelse/gudstjanst-203/
END:VEVENT
END:VCALENDAR