BEGIN:VCALENDAR
VERSION:2.0
PRODID:-//Pingstkyrkan i Boden - ECPv6.8.2.1//NONSGML v1.0//EN
CALSCALE:GREGORIAN
METHOD:PUBLISH
X-WR-CALNAME:Pingstkyrkan i Boden
X-ORIGINAL-URL:https://www.boden.pingst.se
X-WR-CALDESC:Events for Pingstkyrkan i Boden
REFRESH-INTERVAL;VALUE=DURATION:PT1H
X-Robots-Tag:noindex
X-PUBLISHED-TTL:PT1H
BEGIN:VTIMEZONE
TZID:Europe/Stockholm
BEGIN:DAYLIGHT
TZOFFSETFROM:+0100
TZOFFSETTO:+0200
TZNAME:CEST
DTSTART:20170326T010000
END:DAYLIGHT
BEGIN:STANDARD
TZOFFSETFROM:+0200
TZOFFSETTO:+0100
TZNAME:CET
DTSTART:20171029T010000
END:STANDARD
END:VTIMEZONE
BEGIN:VEVENT
DTSTART;TZID=Europe/Stockholm:20171126T180000
DTEND;TZID=Europe/Stockholm:20171126T180000
DTSTAMP:20260425T145838
CREATED:20171031T123317Z
LAST-MODIFIED:20171031T123317Z
UID:2755-1511719200-1511719200@www.boden.pingst.se
SUMMARY:Gudstjänst i Övre Svartlå
DESCRIPTION:i Missionskyrkan\, LP-vännerna medverkar
URL:https://www.boden.pingst.se/handelse/gudstjanst-i-ovre-svartla/
END:VEVENT
BEGIN:VEVENT
DTSTART;TZID=Europe/Stockholm:20171126T110000
DTEND;TZID=Europe/Stockholm:20171126T110000
DTSTAMP:20260425T145838
CREATED:20171025T090747Z
LAST-MODIFIED:20171025T090747Z
UID:2736-1511694000-1511694000@www.boden.pingst.se
SUMMARY:Gudstjänst
DESCRIPTION:Frida Nyberg\, ’VÄXA – att bära frukt’\, Sjung mé\, Barnkyrkan och fika efteråt
URL:https://www.boden.pingst.se/handelse/gudstjanst-220/
END:VEVENT
BEGIN:VEVENT
DTSTART;TZID=Europe/Stockholm:20171123T190000
DTEND;TZID=Europe/Stockholm:20171123T190000
DTSTAMP:20260425T145838
CREATED:20171025T090211Z
LAST-MODIFIED:20171025T090211Z
UID:2733-1511463600-1511463600@www.boden.pingst.se
SUMMARY:LP-möte
DESCRIPTION:Johan Enström\, LP-vännerna sjunger\, fika efteråt
URL:https://www.boden.pingst.se/handelse/lp-mote-168/
END:VEVENT
BEGIN:VEVENT
DTSTART;TZID=Europe/Stockholm:20171122T130000
DTEND;TZID=Europe/Stockholm:20171122T130000
DTSTAMP:20260425T145838
CREATED:20171031T084626Z
LAST-MODIFIED:20171031T084626Z
UID:2751-1511355600-1511355600@www.boden.pingst.se
SUMMARY:Dagträff i Bredåker
DESCRIPTION:
URL:https://www.boden.pingst.se/handelse/dagtraff-i-bredaker-2/
END:VEVENT
BEGIN:VEVENT
DTSTART;TZID=Europe/Stockholm:20171120T190000
DTEND;TZID=Europe/Stockholm:20171120T190000
DTSTAMP:20260425T145838
CREATED:20171025T091222Z
LAST-MODIFIED:20171025T091222Z
UID:2741-1511204400-1511204400@www.boden.pingst.se
SUMMARY:Sjung mé övning
DESCRIPTION:
URL:https://www.boden.pingst.se/handelse/sjung-me-ovning-2/
END:VEVENT
BEGIN:VEVENT
DTSTART;TZID=Europe/Stockholm:20171119T110000
DTEND;TZID=Europe/Stockholm:20171119T110000
DTSTAMP:20260425T145838
CREATED:20171025T090416Z
LAST-MODIFIED:20171025T090432Z
UID:2735-1511089200-1511089200@www.boden.pingst.se
SUMMARY:Gudstjänst
DESCRIPTION:Ove Glennemo\, sång av LP-vännerna\, nattvard\, Barnkyrkan\, fika efteråt
URL:https://www.boden.pingst.se/handelse/gudstjanst-219/
END:VEVENT
BEGIN:VEVENT
DTSTART;TZID=Europe/Stockholm:20171117T193000
DTEND;TZID=Europe/Stockholm:20171117T193000
DTSTAMP:20260425T145838
CREATED:20170905T094407Z
LAST-MODIFIED:20170905T094407Z
UID:2645-1510947000-1510947000@www.boden.pingst.se
SUMMARY:Ung på Noahs
DESCRIPTION:
URL:https://www.boden.pingst.se/handelse/ung-pa-noahs-10/
END:VEVENT
BEGIN:VEVENT
DTSTART;TZID=Europe/Stockholm:20171116T190000
DTEND;TZID=Europe/Stockholm:20171116T190000
DTSTAMP:20260425T145838
CREATED:20171025T090122Z
LAST-MODIFIED:20171025T090122Z
UID:2732-1510858800-1510858800@www.boden.pingst.se
SUMMARY:LP-möte
DESCRIPTION:Ove Glennemo\, LP-vännerna sjunger\, fika efteråt
URL:https://www.boden.pingst.se/handelse/lp-mote-167/
END:VEVENT
BEGIN:VEVENT
DTSTART;TZID=Europe/Stockholm:20171115T130000
DTEND;TZID=Europe/Stockholm:20171115T130000
DTSTAMP:20260425T145838
CREATED:20171025T091418Z
LAST-MODIFIED:20171025T091418Z
UID:2742-1510750800-1510750800@www.boden.pingst.se
SUMMARY:Allträff
DESCRIPTION:Tomas Dahnson\, pastor i Korskyrkan Älvsbyn\, ”Mitt liv fram till nu”
URL:https://www.boden.pingst.se/handelse/alltraff-17/
END:VEVENT
BEGIN:VEVENT
DTSTART;TZID=Europe/Stockholm:20171112T180000
DTEND;TZID=Europe/Stockholm:20171112T180000
DTSTAMP:20260425T145838
CREATED:20171031T084529Z
LAST-MODIFIED:20171031T084529Z
UID:2750-1510509600-1510509600@www.boden.pingst.se
SUMMARY:Gudstjänst i Bredåker
DESCRIPTION:
URL:https://www.boden.pingst.se/handelse/gudstjanst-i-bredaker/
END:VEVENT
BEGIN:VEVENT
DTSTART;TZID=Europe/Stockholm:20171112T110000
DTEND;TZID=Europe/Stockholm:20171112T110000
DTSTAMP:20260425T145838
CREATED:20170926T072552Z
LAST-MODIFIED:20171031T080053Z
UID:2686-1510484400-1510484400@www.boden.pingst.se
SUMMARY:Gudstjänst
DESCRIPTION:Frida Nyberg\, ’VÄXA – Tillväxt’\, Noah’s KIDS\, Miniton\, församlingsmöte och fika efteråt
URL:https://www.boden.pingst.se/handelse/gudstjanst-218/
END:VEVENT
BEGIN:VEVENT
DTSTART;TZID=Europe/Stockholm:20171110T210000
DTEND;TZID=Europe/Stockholm:20171110T210000
DTSTAMP:20260425T145838
CREATED:20170905T094044Z
LAST-MODIFIED:20170905T094044Z
UID:2644-1510347600-1510347600@www.boden.pingst.se
SUMMARY:Tjugoett
DESCRIPTION:
URL:https://www.boden.pingst.se/handelse/tjugoett-7/
END:VEVENT
BEGIN:VEVENT
DTSTART;TZID=Europe/Stockholm:20171110T184500
DTEND;TZID=Europe/Stockholm:20171110T184500
DTSTAMP:20260425T145838
CREATED:20170926T073037Z
LAST-MODIFIED:20170926T073037Z
UID:2688-1510339500-1510339500@www.boden.pingst.se
SUMMARY:Mixen
DESCRIPTION:gemenskap genom bibelundervisning och aktiviteter – för barn mellan 8-13 år
URL:https://www.boden.pingst.se/handelse/mixen-13/
END:VEVENT
BEGIN:VEVENT
DTSTART;TZID=Europe/Stockholm:20171109T190000
DTEND;TZID=Europe/Stockholm:20171109T190000
DTSTAMP:20260425T145838
CREATED:20171025T090034Z
LAST-MODIFIED:20171025T090034Z
UID:2731-1510254000-1510254000@www.boden.pingst.se
SUMMARY:LP-möte
DESCRIPTION:Christer Holmgren\, LP-vännerna sjunger\, fika efteråt
URL:https://www.boden.pingst.se/handelse/lp-mote-166/
END:VEVENT
BEGIN:VEVENT
DTSTART;TZID=Europe/Stockholm:20171107T183000
DTEND;TZID=Europe/Stockholm:20171107T183000
DTSTAMP:20260425T145838
CREATED:20171025T091513Z
LAST-MODIFIED:20171025T091513Z
UID:2743-1510079400-1510079400@www.boden.pingst.se
SUMMARY:Bönekväll för hela församlingen
DESCRIPTION:
URL:https://www.boden.pingst.se/handelse/bonekvall-for-hela-forsamlingen/
END:VEVENT
BEGIN:VEVENT
DTSTART;TZID=Europe/Stockholm:20171106T163000
DTEND;TZID=Europe/Stockholm:20171106T163000
DTSTAMP:20260425T145838
CREATED:20171025T090949Z
LAST-MODIFIED:20171025T090949Z
UID:2737-1509985800-1509985800@www.boden.pingst.se
SUMMARY:Arbetskväll på Secondhand
DESCRIPTION:
URL:https://www.boden.pingst.se/handelse/arbetskvall-pa-secondhand/
END:VEVENT
BEGIN:VEVENT
DTSTART;TZID=Europe/Stockholm:20171105T110000
DTEND;TZID=Europe/Stockholm:20171105T110000
DTSTAMP:20260425T145838
CREATED:20170926T072446Z
LAST-MODIFIED:20171029T094326Z
UID:2685-1509879600-1509879600@www.boden.pingst.se
SUMMARY:Gudstjänst
DESCRIPTION:Johan Enström\, Barnkyrkan och fika efteråt
URL:https://www.boden.pingst.se/handelse/gudstjanst-217/
END:VEVENT
BEGIN:VEVENT
DTSTART;TZID=Europe/Stockholm:20171103T180000
DTEND;TZID=Europe/Stockholm:20171103T180000
DTSTAMP:20260425T145838
CREATED:20170926T073607Z
LAST-MODIFIED:20170926T073607Z
UID:2689-1509732000-1509732000@www.boden.pingst.se
SUMMARY:Höstlov
DESCRIPTION:för Glädjeton\, Miniton och Mixen
URL:https://www.boden.pingst.se/handelse/hostlov/
END:VEVENT
BEGIN:VEVENT
DTSTART;TZID=Europe/Stockholm:20171102T190000
DTEND;TZID=Europe/Stockholm:20171102T190000
DTSTAMP:20260425T145838
CREATED:20170926T071023Z
LAST-MODIFIED:20171017T072109Z
UID:2682-1509649200-1509649200@www.boden.pingst.se
SUMMARY:LP-möte
DESCRIPTION:Allan Näsvall\, LP-vännerna sjunger\, fika efteråt
URL:https://www.boden.pingst.se/handelse/lp-mote-165/
END:VEVENT
BEGIN:VEVENT
DTSTART;TZID=Europe/Stockholm:20171030T130000
DTEND;TZID=Europe/Stockholm:20171030T130000
DTSTAMP:20260425T145838
CREATED:20171031T075947Z
LAST-MODIFIED:20171031T075947Z
UID:2745-1509368400-1509368400@www.boden.pingst.se
SUMMARY:Stickgruppen
DESCRIPTION:
URL:https://www.boden.pingst.se/handelse/stickgruppen/
END:VEVENT
BEGIN:VEVENT
DTSTART;TZID=Europe/Stockholm:20171029T110000
DTEND;TZID=Europe/Stockholm:20171029T110000
DTSTAMP:20260425T145838
CREATED:20170926T072145Z
LAST-MODIFIED:20171017T093221Z
UID:2684-1509274800-1509274800@www.boden.pingst.se
SUMMARY:Gudstjänst
DESCRIPTION:Frida Nyberg\, ’VÄXA – Växtvärk’\, Barnkyrkan\, fika efteråt
URL:https://www.boden.pingst.se/handelse/gudstjanst-216/
END:VEVENT
BEGIN:VEVENT
DTSTART;TZID=Europe/Stockholm:20171027T184500
DTEND;TZID=Europe/Stockholm:20171027T184500
DTSTAMP:20260425T145838
CREATED:20170926T072940Z
LAST-MODIFIED:20170926T072940Z
UID:2687-1509129900-1509129900@www.boden.pingst.se
SUMMARY:Mixen
DESCRIPTION:gemenskap genom bibelundervisning och aktiviteter – för barn mellan 8-13 år
URL:https://www.boden.pingst.se/handelse/mixen-12/
END:VEVENT
BEGIN:VEVENT
DTSTART;TZID=Europe/Stockholm:20171026T190000
DTEND;TZID=Europe/Stockholm:20171026T190000
DTSTAMP:20260425T145838
CREATED:20170926T070749Z
LAST-MODIFIED:20170926T070749Z
UID:2681-1509044400-1509044400@www.boden.pingst.se
SUMMARY:LP-möte
DESCRIPTION:Maine Lindström\, LP-vännerna sjunger\, fika efteråt
URL:https://www.boden.pingst.se/handelse/lp-mote-164/
END:VEVENT
BEGIN:VEVENT
DTSTART;TZID=Europe/Stockholm:20171025T130000
DTEND;TZID=Europe/Stockholm:20171025T130000
DTSTAMP:20260425T145838
CREATED:20171017T111318Z
LAST-MODIFIED:20171017T111318Z
UID:2728-1508936400-1508936400@www.boden.pingst.se
SUMMARY:Dagträff i Bredåker
DESCRIPTION:David Sundström
URL:https://www.boden.pingst.se/handelse/dagtraff-i-bredaker/
END:VEVENT
BEGIN:VEVENT
DTSTART;TZID=Europe/Stockholm:20171023T190000
DTEND;TZID=Europe/Stockholm:20171023T190000
DTSTAMP:20260425T145838
CREATED:20171017T111259Z
LAST-MODIFIED:20171017T111259Z
UID:2729-1508785200-1508785200@www.boden.pingst.se
SUMMARY:Sjung mé övning
DESCRIPTION:
URL:https://www.boden.pingst.se/handelse/sjung-me-ovning/
END:VEVENT
BEGIN:VEVENT
DTSTART;TZID=Europe/Stockholm:20171022T110000
DTEND;TZID=Europe/Stockholm:20171022T110000
DTSTAMP:20260425T145838
CREATED:20170926T072034Z
LAST-MODIFIED:20171017T073225Z
UID:2683-1508670000-1508670000@www.boden.pingst.se
SUMMARY:Gudstjänst
DESCRIPTION:Malte Holmquist\, ’VÄXA – att rota sig’\, nattvard\, Barnkyrkan och fika efteråt
URL:https://www.boden.pingst.se/handelse/gudstjanst-215/
END:VEVENT
BEGIN:VEVENT
DTSTART;TZID=Europe/Stockholm:20171021T090000
DTEND;TZID=Europe/Stockholm:20171021T090000
DTSTAMP:20260425T145838
CREATED:20171013T133934Z
LAST-MODIFIED:20171013T133934Z
UID:2715-1508576400-1508576400@www.boden.pingst.se
SUMMARY:Bön i stadshuset
DESCRIPTION:
URL:https://www.boden.pingst.se/handelse/bon-i-stadshuset-10/
END:VEVENT
BEGIN:VEVENT
DTSTART;TZID=Europe/Stockholm:20171020T183000
DTEND;TZID=Europe/Stockholm:20171020T183000
DTSTAMP:20260425T145838
CREATED:20170926T070611Z
LAST-MODIFIED:20170926T070611Z
UID:2680-1508524200-1508524200@www.boden.pingst.se
SUMMARY:Höstfest
DESCRIPTION:med barnkörerna Glädjeton och Miniton\, bibelutdelning
URL:https://www.boden.pingst.se/handelse/hostfest-5/
END:VEVENT
BEGIN:VEVENT
DTSTART;TZID=Europe/Stockholm:20171019T190000
DTEND;TZID=Europe/Stockholm:20171019T190000
DTSTAMP:20260425T145838
CREATED:20170926T070419Z
LAST-MODIFIED:20170926T070419Z
UID:2679-1508439600-1508439600@www.boden.pingst.se
SUMMARY:LP-möte
DESCRIPTION:Kurt-Arne Mörtsell\, LP-vännerna sjunger\, fika efteråt
URL:https://www.boden.pingst.se/handelse/lp-mote-163/
END:VEVENT
BEGIN:VEVENT
DTSTART;TZID=Europe/Stockholm:20171018T170000
DTEND;TZID=Europe/Stockholm:20171018T170000
DTSTAMP:20260425T145838
CREATED:20171017T083401Z
LAST-MODIFIED:20171017T083401Z
UID:2719-1508346000-1508346000@www.boden.pingst.se
SUMMARY:Motion
DESCRIPTION:i Björknäshallen
URL:https://www.boden.pingst.se/handelse/motion/
END:VEVENT
END:VCALENDAR