BEGIN:VCALENDAR
VERSION:2.0
PRODID:-//Pingstkyrkan i Boden - ECPv6.8.2.1//NONSGML v1.0//EN
CALSCALE:GREGORIAN
METHOD:PUBLISH
X-WR-CALNAME:Pingstkyrkan i Boden
X-ORIGINAL-URL:https://www.boden.pingst.se
X-WR-CALDESC:Events for Pingstkyrkan i Boden
REFRESH-INTERVAL;VALUE=DURATION:PT1H
X-Robots-Tag:noindex
X-PUBLISHED-TTL:PT1H
BEGIN:VTIMEZONE
TZID:Europe/Stockholm
BEGIN:DAYLIGHT
TZOFFSETFROM:+0100
TZOFFSETTO:+0200
TZNAME:CEST
DTSTART:20170326T010000
END:DAYLIGHT
BEGIN:STANDARD
TZOFFSETFROM:+0200
TZOFFSETTO:+0100
TZNAME:CET
DTSTART:20171029T010000
END:STANDARD
BEGIN:DAYLIGHT
TZOFFSETFROM:+0100
TZOFFSETTO:+0200
TZNAME:CEST
DTSTART:20180325T010000
END:DAYLIGHT
BEGIN:STANDARD
TZOFFSETFROM:+0200
TZOFFSETTO:+0100
TZNAME:CET
DTSTART:20181028T010000
END:STANDARD
END:VTIMEZONE
BEGIN:VEVENT
DTSTART;TZID=Europe/Stockholm:20180122T200000
DTEND;TZID=Europe/Stockholm:20180122T200000
DTSTAMP:20260426T002614
CREATED:20180123T090031Z
LAST-MODIFIED:20180123T090031Z
UID:2895-1516651200-1516651200@www.boden.pingst.se
SUMMARY:Tillsammans för hälsa
DESCRIPTION:i Björknässkolan\, B-hallen
URL:https://www.boden.pingst.se/handelse/tillsammans-for-halsa-2/
END:VEVENT
BEGIN:VEVENT
DTSTART;TZID=Europe/Stockholm:20180121T110000
DTEND;TZID=Europe/Stockholm:20180121T110000
DTSTAMP:20260426T002614
CREATED:20171219T100149Z
LAST-MODIFIED:20171219T100149Z
UID:2867-1516532400-1516532400@www.boden.pingst.se
SUMMARY:Gudstjänst
DESCRIPTION:’Att hitta HEM i Gudsbild’ Frida Nyberg\, Barnkyrkan\, nattvard
URL:https://www.boden.pingst.se/handelse/gudstjanst-225/
END:VEVENT
BEGIN:VEVENT
DTSTART;TZID=Europe/Stockholm:20180119T193000
DTEND;TZID=Europe/Stockholm:20180119T193000
DTSTAMP:20260426T002614
CREATED:20171219T081334Z
LAST-MODIFIED:20171219T081334Z
UID:2853-1516390200-1516390200@www.boden.pingst.se
SUMMARY:Ung på Noah's
DESCRIPTION:
URL:https://www.boden.pingst.se/handelse/ung-pa-noahs-7/
END:VEVENT
BEGIN:VEVENT
DTSTART;TZID=Europe/Stockholm:20180119T184500
DTEND;TZID=Europe/Stockholm:20180119T184500
DTSTAMP:20260426T002614
CREATED:20171219T100335Z
LAST-MODIFIED:20180118T184059Z
UID:2868-1516387500-1516387500@www.boden.pingst.se
SUMMARY:Mixen
DESCRIPTION:gemenskap genom bibelundervisning och aktiviteter – för barn mellan 8-13 år
URL:https://www.boden.pingst.se/handelse/mixen-11/
END:VEVENT
BEGIN:VEVENT
DTSTART;TZID=Europe/Stockholm:20180119T180000
DTEND;TZID=Europe/Stockholm:20180119T180000
DTSTAMP:20260426T002614
CREATED:20171219T100432Z
LAST-MODIFIED:20180118T184018Z
UID:2869-1516384800-1516384800@www.boden.pingst.se
SUMMARY:Glädjeton och Miniton
DESCRIPTION:barnkörerna övar – för barn 4-13 år
URL:https://www.boden.pingst.se/handelse/gladjeton-och-miniton-3/
END:VEVENT
BEGIN:VEVENT
DTSTART;TZID=Europe/Stockholm:20180118T190000
DTEND;TZID=Europe/Stockholm:20180118T190000
DTSTAMP:20260426T002614
CREATED:20171219T080320Z
LAST-MODIFIED:20171220T075640Z
UID:2849-1516302000-1516302000@www.boden.pingst.se
SUMMARY:LP-möte
DESCRIPTION:David Sundström\, LP-vännerna sjunger\, fika efteråt
URL:https://www.boden.pingst.se/handelse/lp-mote-171/
END:VEVENT
BEGIN:VEVENT
DTSTART;TZID=Europe/Stockholm:20180115T130000
DTEND;TZID=Europe/Stockholm:20180115T130000
DTSTAMP:20260426T002614
CREATED:20171219T075724Z
LAST-MODIFIED:20171219T075724Z
UID:2847-1516021200-1516021200@www.boden.pingst.se
SUMMARY:Stickgruppen
DESCRIPTION:
URL:https://www.boden.pingst.se/handelse/stickgruppen-2/
END:VEVENT
BEGIN:VEVENT
DTSTART;TZID=Europe/Stockholm:20180114T110000
DTEND;TZID=Europe/Stockholm:20180114T110000
DTSTAMP:20260426T002614
CREATED:20171219T095610Z
LAST-MODIFIED:20171219T095619Z
UID:2865-1515927600-1515927600@www.boden.pingst.se
SUMMARY:Gudstjänst i Bredåker
DESCRIPTION:med Malte Holmquist
URL:https://www.boden.pingst.se/handelse/gudstjanst-i-bredaker-2/
END:VEVENT
BEGIN:VEVENT
DTSTART;TZID=Europe/Stockholm:20180114T110000
DTEND;TZID=Europe/Stockholm:20180114T110000
DTSTAMP:20260426T002614
CREATED:20171219T095524Z
LAST-MODIFIED:20171219T095524Z
UID:2864-1515927600-1515927600@www.boden.pingst.se
SUMMARY:Gudstjänst
DESCRIPTION:’Att hitta HEM i Gudsbild’ Frida Nyberg
URL:https://www.boden.pingst.se/handelse/gudstjanst-224/
END:VEVENT
BEGIN:VEVENT
DTSTART;TZID=Europe/Stockholm:20180112T193000
DTEND;TZID=Europe/Stockholm:20180112T193000
DTSTAMP:20260426T002614
CREATED:20171219T075145Z
LAST-MODIFIED:20171219T075145Z
UID:2843-1515785400-1515785400@www.boden.pingst.se
SUMMARY:Uppstart Ung på Noah's
DESCRIPTION:
URL:https://www.boden.pingst.se/handelse/uppstart-ung-pa-noahs/
END:VEVENT
BEGIN:VEVENT
DTSTART;TZID=Europe/Stockholm:20180111T190000
DTEND;TZID=Europe/Stockholm:20180111T190000
DTSTAMP:20260426T002614
CREATED:20171219T080852Z
LAST-MODIFIED:20171220T075537Z
UID:2851-1515697200-1515697200@www.boden.pingst.se
SUMMARY:LP-möte
DESCRIPTION:Allan Näsvall\, LP-vännerna sjunger
URL:https://www.boden.pingst.se/handelse/lp-mote-173/
END:VEVENT
BEGIN:VEVENT
DTSTART;TZID=Europe/Stockholm:20180109T190000
DTEND;TZID=Europe/Stockholm:20180109T190000
DTSTAMP:20260426T002614
CREATED:20171219T075423Z
LAST-MODIFIED:20171219T075423Z
UID:2845-1515524400-1515524400@www.boden.pingst.se
SUMMARY:Bönegrupper
DESCRIPTION:
URL:https://www.boden.pingst.se/handelse/bonegrupper-10/
END:VEVENT
BEGIN:VEVENT
DTSTART;TZID=Europe/Stockholm:20180108T163000
DTEND;TZID=Europe/Stockholm:20180108T163000
DTSTAMP:20260426T002614
CREATED:20171219T085043Z
LAST-MODIFIED:20171219T085043Z
UID:2855-1515429000-1515429000@www.boden.pingst.se
SUMMARY:Arbetskväll Secondhand
DESCRIPTION:
URL:https://www.boden.pingst.se/handelse/arbetskvall-secondhand/
END:VEVENT
BEGIN:VEVENT
DTSTART;TZID=Europe/Stockholm:20180107T110000
DTEND;TZID=Europe/Stockholm:20180107T110000
DTSTAMP:20260426T002614
CREATED:20171219T095343Z
LAST-MODIFIED:20171219T095343Z
UID:2863-1515322800-1515322800@www.boden.pingst.se
SUMMARY:Gudstjänst
DESCRIPTION:Vision 2018\, Malte Holmquist\, Sjung mé\, församlingsmöte
URL:https://www.boden.pingst.se/handelse/gudstjanst-223/
END:VEVENT
BEGIN:VEVENT
DTSTART;TZID=Europe/Stockholm:20180107T093000
DTEND;TZID=Europe/Stockholm:20180107T093000
DTSTAMP:20260426T002614
CREATED:20171219T095247Z
LAST-MODIFIED:20171219T095247Z
UID:2862-1515317400-1515317400@www.boden.pingst.se
SUMMARY:Bönevecka: Föreståndare & Framtiden
DESCRIPTION:
URL:https://www.boden.pingst.se/handelse/bonevecka-forestandare-framtiden/
END:VEVENT
BEGIN:VEVENT
DTSTART;TZID=Europe/Stockholm:20180106T093000
DTEND;TZID=Europe/Stockholm:20180106T093000
DTSTAMP:20260426T002614
CREATED:20171219T095202Z
LAST-MODIFIED:20171219T095202Z
UID:2861-1515231000-1515231000@www.boden.pingst.se
SUMMARY:Bönevecka: Bön för vår stad
DESCRIPTION:Bönevandring
URL:https://www.boden.pingst.se/handelse/bonevecka-bon-for-var-stad/
END:VEVENT
BEGIN:VEVENT
DTSTART;TZID=Europe/Stockholm:20180105T093000
DTEND;TZID=Europe/Stockholm:20180105T093000
DTSTAMP:20260426T002614
CREATED:20171219T095051Z
LAST-MODIFIED:20171219T095051Z
UID:2860-1515144600-1515144600@www.boden.pingst.se
SUMMARY:Bönevecka: Barn & Ungdom
DESCRIPTION:
URL:https://www.boden.pingst.se/handelse/bonevecka-barn-ungdom/
END:VEVENT
BEGIN:VEVENT
DTSTART;TZID=Europe/Stockholm:20180104T190000
DTEND;TZID=Europe/Stockholm:20180104T190000
DTSTAMP:20260426T002614
CREATED:20171219T095010Z
LAST-MODIFIED:20171219T095010Z
UID:2859-1515092400-1515092400@www.boden.pingst.se
SUMMARY:Bönevecka: LP & Secondhand
DESCRIPTION:
URL:https://www.boden.pingst.se/handelse/bonevecka-lp-secondhand/
END:VEVENT
BEGIN:VEVENT
DTSTART;TZID=Europe/Stockholm:20180103T190000
DTEND;TZID=Europe/Stockholm:20180103T190000
DTSTAMP:20260426T002614
CREATED:20171219T094936Z
LAST-MODIFIED:20171219T094936Z
UID:2858-1515006000-1515006000@www.boden.pingst.se
SUMMARY:Bönevecka: Integration & Mission
DESCRIPTION:
URL:https://www.boden.pingst.se/handelse/bonevecka-integration-mission/
END:VEVENT
BEGIN:VEVENT
DTSTART;TZID=Europe/Stockholm:20180102T190000
DTEND;TZID=Europe/Stockholm:20180102T190000
DTSTAMP:20260426T002614
CREATED:20171219T094859Z
LAST-MODIFIED:20171219T094859Z
UID:2857-1514919600-1514919600@www.boden.pingst.se
SUMMARY:Bönevecka: Sång & musik
DESCRIPTION:
URL:https://www.boden.pingst.se/handelse/bonevecka-sang-musik/
END:VEVENT
BEGIN:VEVENT
DTSTART;TZID=Europe/Stockholm:20171231T110000
DTEND;TZID=Europe/Stockholm:20171231T110000
DTSTAMP:20260426T002614
CREATED:20171130T103024Z
LAST-MODIFIED:20171130T103024Z
UID:2826-1514718000-1514718000@www.boden.pingst.se
SUMMARY:Nyårsgudstjänst
DESCRIPTION:med Malte Holmquist
URL:https://www.boden.pingst.se/handelse/nyarsgudstjanst-2/
END:VEVENT
BEGIN:VEVENT
DTSTART;TZID=Europe/Stockholm:20171226T170000
DTEND;TZID=Europe/Stockholm:20171226T170000
DTSTAMP:20260426T002614
CREATED:20171130T102021Z
LAST-MODIFIED:20171130T102021Z
UID:2825-1514307600-1514307600@www.boden.pingst.se
SUMMARY:Annandag jul
DESCRIPTION:
URL:https://www.boden.pingst.se/handelse/annandag-jul/
END:VEVENT
BEGIN:VEVENT
DTSTART;TZID=Europe/Stockholm:20171224T110000
DTEND;TZID=Europe/Stockholm:20171224T110000
DTSTAMP:20260426T002615
CREATED:20171130T101904Z
LAST-MODIFIED:20171130T101904Z
UID:2824-1514113200-1514113200@www.boden.pingst.se
SUMMARY:Julgudstjänst
DESCRIPTION:Frida Nyberg\, grötlunch efteråt
URL:https://www.boden.pingst.se/handelse/julgudstjanst-3/
END:VEVENT
BEGIN:VEVENT
DTSTART;TZID=Europe/Stockholm:20171217T110000
DTEND;TZID=Europe/Stockholm:20171217T110000
DTSTAMP:20260426T002615
CREATED:20171130T101751Z
LAST-MODIFIED:20171130T101751Z
UID:2822-1513508400-1513508400@www.boden.pingst.se
SUMMARY:Gudstjänst
DESCRIPTION:Malte Holmquist\, nattvard\, församlingsmöte\, Noah’s KIDS julspecial
URL:https://www.boden.pingst.se/handelse/gudstjanst-222/
END:VEVENT
BEGIN:VEVENT
DTSTART;TZID=Europe/Stockholm:20171216T164500
DTEND;TZID=Europe/Stockholm:20171216T164500
DTSTAMP:20260426T002615
CREATED:20171130T101623Z
LAST-MODIFIED:20171130T101623Z
UID:2821-1513442700-1513442700@www.boden.pingst.se
SUMMARY:Barnverksamhetens Poolparty
DESCRIPTION:G-stad Badhus\, avfärd 16.45 från Pingstkyrkan\, anmälan sker till info@boden.pingst.se
URL:https://www.boden.pingst.se/handelse/barnverksamhetens-poolparty/
END:VEVENT
BEGIN:VEVENT
DTSTART;TZID=Europe/Stockholm:20171216T110000
DTEND;TZID=Europe/Stockholm:20171216T110000
DTSTAMP:20260426T002615
CREATED:20171130T101443Z
LAST-MODIFIED:20171130T101443Z
UID:2820-1513422000-1513422000@www.boden.pingst.se
SUMMARY:Stråkövning
DESCRIPTION:
URL:https://www.boden.pingst.se/handelse/strakovning/
END:VEVENT
BEGIN:VEVENT
DTSTART;TZID=Europe/Stockholm:20171216T090000
DTEND;TZID=Europe/Stockholm:20171216T090000
DTSTAMP:20260426T002615
CREATED:20171130T101405Z
LAST-MODIFIED:20171130T101405Z
UID:2819-1513414800-1513414800@www.boden.pingst.se
SUMMARY:Bön i Stadshuset
DESCRIPTION:
URL:https://www.boden.pingst.se/handelse/bon-i-stadshuset-11/
END:VEVENT
BEGIN:VEVENT
DTSTART;TZID=Europe/Stockholm:20171215T193000
DTEND;TZID=Europe/Stockholm:20171215T193000
DTSTAMP:20260426T002615
CREATED:20171130T101332Z
LAST-MODIFIED:20171130T101332Z
UID:2818-1513366200-1513366200@www.boden.pingst.se
SUMMARY:Ung på Noah's Julavslutning
DESCRIPTION:
URL:https://www.boden.pingst.se/handelse/ung-pa-noahs-julavslutning/
END:VEVENT
BEGIN:VEVENT
DTSTART;TZID=Europe/Stockholm:20171215T180000
DTEND;TZID=Europe/Stockholm:20171215T180000
DTSTAMP:20260426T002615
CREATED:20171130T101248Z
LAST-MODIFIED:20171130T101248Z
UID:2817-1513360800-1513360800@www.boden.pingst.se
SUMMARY:Brassövning
DESCRIPTION:
URL:https://www.boden.pingst.se/handelse/brassovning/
END:VEVENT
BEGIN:VEVENT
DTSTART;TZID=Europe/Stockholm:20171214T190000
DTEND;TZID=Europe/Stockholm:20171214T190000
DTSTAMP:20260426T002615
CREATED:20171130T101149Z
LAST-MODIFIED:20171130T101149Z
UID:2816-1513278000-1513278000@www.boden.pingst.se
SUMMARY:LP-möte
DESCRIPTION:Malte Holmquist\, LP-vännerna sjunger\, fika efteråt
URL:https://www.boden.pingst.se/handelse/lp-mote-170/
END:VEVENT
END:VCALENDAR