BEGIN:VCALENDAR
VERSION:2.0
PRODID:-//Pingstkyrkan i Boden - ECPv6.8.2.1//NONSGML v1.0//EN
CALSCALE:GREGORIAN
METHOD:PUBLISH
X-WR-CALNAME:Pingstkyrkan i Boden
X-ORIGINAL-URL:https://www.boden.pingst.se
X-WR-CALDESC:Events for Pingstkyrkan i Boden
REFRESH-INTERVAL;VALUE=DURATION:PT1H
X-Robots-Tag:noindex
X-PUBLISHED-TTL:PT1H
BEGIN:VTIMEZONE
TZID:Europe/Stockholm
BEGIN:DAYLIGHT
TZOFFSETFROM:+0100
TZOFFSETTO:+0200
TZNAME:CEST
DTSTART:20180325T010000
END:DAYLIGHT
BEGIN:STANDARD
TZOFFSETFROM:+0200
TZOFFSETTO:+0100
TZNAME:CET
DTSTART:20181028T010000
END:STANDARD
END:VTIMEZONE
BEGIN:VEVENT
DTSTART;TZID=Europe/Stockholm:20180311T110000
DTEND;TZID=Europe/Stockholm:20180311T110000
DTSTAMP:20260425T162204
CREATED:20180131T103910Z
LAST-MODIFIED:20180131T103910Z
UID:2928-1520766000-1520766000@www.boden.pingst.se
SUMMARY:Gudstjänst
DESCRIPTION:med Malte Holmquist\, Sjung mé\, årsmöte
URL:https://www.boden.pingst.se/handelse/gudstjanst-232/
END:VEVENT
BEGIN:VEVENT
DTSTART;TZID=Europe/Stockholm:20180309T180000
DTEND;TZID=Europe/Stockholm:20180309T180000
DTSTAMP:20260425T162204
CREATED:20180226T120338Z
LAST-MODIFIED:20180226T120338Z
UID:2982-1520618400-1520618400@www.boden.pingst.se
SUMMARY:Sportlov för Glädjeton\, Miniton & Mixen
DESCRIPTION:
URL:https://www.boden.pingst.se/handelse/sportlov-for-gladjeton-miniton-mixen/
END:VEVENT
BEGIN:VEVENT
DTSTART;TZID=Europe/Stockholm:20180308T190000
DTEND;TZID=Europe/Stockholm:20180308T190000
DTSTAMP:20260425T162204
CREATED:20180131T103029Z
LAST-MODIFIED:20180226T112257Z
UID:2921-1520535600-1520535600@www.boden.pingst.se
SUMMARY:LP-möte
DESCRIPTION:med Kurt-Arne Mörtsell\, LP-vännerna sjunger
URL:https://www.boden.pingst.se/handelse/lp-mote-179/
END:VEVENT
BEGIN:VEVENT
DTSTART;TZID=Europe/Stockholm:20180304T110000
DTEND;TZID=Europe/Stockholm:20180304T110000
DTSTAMP:20260425T162204
CREATED:20180131T103805Z
LAST-MODIFIED:20180131T103805Z
UID:2927-1520161200-1520161200@www.boden.pingst.se
SUMMARY:Gudstjänst
DESCRIPTION:’Välkommen HEM – Köket’ Malte Holmquist\, kyrkfika efteråt
URL:https://www.boden.pingst.se/handelse/gudstjanst-231/
END:VEVENT
BEGIN:VEVENT
DTSTART;TZID=Europe/Stockholm:20180301T190000
DTEND;TZID=Europe/Stockholm:20180301T190000
DTSTAMP:20260425T162204
CREATED:20180131T102930Z
LAST-MODIFIED:20180131T102930Z
UID:2920-1519930800-1519930800@www.boden.pingst.se
SUMMARY:LP-möte
DESCRIPTION:med Johan Enström\, LP-vännerna sjunger
URL:https://www.boden.pingst.se/handelse/lp-mote-178/
END:VEVENT
BEGIN:VEVENT
DTSTART;TZID=Europe/Stockholm:20180227T183000
DTEND;TZID=Europe/Stockholm:20180227T183000
DTSTAMP:20260425T162204
CREATED:20180131T104958Z
LAST-MODIFIED:20180131T104958Z
UID:2936-1519756200-1519756200@www.boden.pingst.se
SUMMARY:Bönekväll för hela församlingen
DESCRIPTION:
URL:https://www.boden.pingst.se/handelse/bonekvall-for-hela-forsamlingen-2/
END:VEVENT
BEGIN:VEVENT
DTSTART;TZID=Europe/Stockholm:20180226T190000
DTEND;TZID=Europe/Stockholm:20180226T190000
DTSTAMP:20260425T162204
CREATED:20180131T104913Z
LAST-MODIFIED:20180131T104913Z
UID:2935-1519671600-1519671600@www.boden.pingst.se
SUMMARY:Sjung mé övar
DESCRIPTION:
URL:https://www.boden.pingst.se/handelse/sjung-me-ovar-16/
END:VEVENT
BEGIN:VEVENT
DTSTART;TZID=Europe/Stockholm:20180225T110000
DTEND;TZID=Europe/Stockholm:20180225T110000
DTSTAMP:20260425T162204
CREATED:20180131T103643Z
LAST-MODIFIED:20180131T103643Z
UID:2926-1519556400-1519556400@www.boden.pingst.se
SUMMARY:Gudstjänst
DESCRIPTION:’Välkommen HEM – Hallen’ Malte Holmquist\, Glädjeton\, Noah’s KIDS och kyrkfika efteråt
URL:https://www.boden.pingst.se/handelse/gudstjanst-230/
END:VEVENT
BEGIN:VEVENT
DTSTART;TZID=Europe/Stockholm:20180223T210000
DTEND;TZID=Europe/Stockholm:20180223T210000
DTSTAMP:20260425T162204
CREATED:20180131T104843Z
LAST-MODIFIED:20180131T104843Z
UID:2934-1519419600-1519419600@www.boden.pingst.se
SUMMARY:Tjugoett
DESCRIPTION:
URL:https://www.boden.pingst.se/handelse/tjugoett-8/
END:VEVENT
BEGIN:VEVENT
DTSTART;TZID=Europe/Stockholm:20180222T190000
DTEND;TZID=Europe/Stockholm:20180222T190000
DTSTAMP:20260425T162204
CREATED:20180131T102803Z
LAST-MODIFIED:20180131T102803Z
UID:2919-1519326000-1519326000@www.boden.pingst.se
SUMMARY:LP-möte
DESCRIPTION:med Maine Lindström\, LP-vännerna sjunger
URL:https://www.boden.pingst.se/handelse/lp-mote-177/
END:VEVENT
BEGIN:VEVENT
DTSTART;TZID=Europe/Stockholm:20180221T130000
DTEND;TZID=Europe/Stockholm:20180221T130000
DTSTAMP:20260425T162204
CREATED:20180131T104749Z
LAST-MODIFIED:20180131T104749Z
UID:2933-1519218000-1519218000@www.boden.pingst.se
SUMMARY:Allträff
DESCRIPTION:
URL:https://www.boden.pingst.se/handelse/alltraff-18/
END:VEVENT
BEGIN:VEVENT
DTSTART;TZID=Europe/Stockholm:20180218T110000
DTEND;TZID=Europe/Stockholm:20180218T110000
DTSTAMP:20260425T162204
CREATED:20180131T103500Z
LAST-MODIFIED:20180131T103522Z
UID:2925-1518951600-1518951600@www.boden.pingst.se
SUMMARY:Gudstjänst
DESCRIPTION:’Att hitta HEM i självbild’ med Frida Nyberg\, Barnkyrkan\, Sjung mé-kören\, nattvard och fika efteråt
URL:https://www.boden.pingst.se/handelse/gudstjanst-229/
END:VEVENT
BEGIN:VEVENT
DTSTART;TZID=Europe/Stockholm:20180215T190000
DTEND;TZID=Europe/Stockholm:20180215T190000
DTSTAMP:20260425T162204
CREATED:20180131T102722Z
LAST-MODIFIED:20180131T102722Z
UID:2918-1518721200-1518721200@www.boden.pingst.se
SUMMARY:LP-möte
DESCRIPTION:med Thor Bygdén\, LP-vännerna sjunger
URL:https://www.boden.pingst.se/handelse/lp-mote-176/
END:VEVENT
BEGIN:VEVENT
DTSTART;TZID=Europe/Stockholm:20180212T190000
DTEND;TZID=Europe/Stockholm:20180212T190000
DTSTAMP:20260425T162204
CREATED:20180131T104528Z
LAST-MODIFIED:20180131T104528Z
UID:2932-1518462000-1518462000@www.boden.pingst.se
SUMMARY:Sjung mé övar
DESCRIPTION:
URL:https://www.boden.pingst.se/handelse/sjung-me-ovar-15/
END:VEVENT
BEGIN:VEVENT
DTSTART;TZID=Europe/Stockholm:20180211T110000
DTEND;TZID=Europe/Stockholm:20180211T110000
DTSTAMP:20260425T162204
CREATED:20180131T103343Z
LAST-MODIFIED:20180131T103343Z
UID:2924-1518346800-1518346800@www.boden.pingst.se
SUMMARY:Gudstjänst
DESCRIPTION:’Att hitta HEM i självbild’ med Malte Holmquist\, Barnkyrkan och fika efteråt
URL:https://www.boden.pingst.se/handelse/gudstjanst-228/
END:VEVENT
BEGIN:VEVENT
DTSTART;TZID=Europe/Stockholm:20180209T184500
DTEND;TZID=Europe/Stockholm:20180209T184500
DTSTAMP:20260425T162204
CREATED:20180131T105906Z
LAST-MODIFIED:20180131T105914Z
UID:2938-1518201900-1518201900@www.boden.pingst.se
SUMMARY:Mixen
DESCRIPTION:gemenskap genom bibelundervisning och aktiviteter – för barn mellan 8-13 år
URL:https://www.boden.pingst.se/handelse/mixen-11-2/
END:VEVENT
BEGIN:VEVENT
DTSTART;TZID=Europe/Stockholm:20180209T180000
DTEND;TZID=Europe/Stockholm:20180209T180000
DTSTAMP:20260425T162204
CREATED:20180131T105731Z
LAST-MODIFIED:20180131T105754Z
UID:2937-1518199200-1518199200@www.boden.pingst.se
SUMMARY:Glädjeton och Miniton
DESCRIPTION:barnkörerna övar – för barn 4-13 år
URL:https://www.boden.pingst.se/handelse/gladjeton-och-miniton-3-2/
END:VEVENT
BEGIN:VEVENT
DTSTART;TZID=Europe/Stockholm:20180208T190000
DTEND;TZID=Europe/Stockholm:20180208T190000
DTSTAMP:20260425T162204
CREATED:20180131T102635Z
LAST-MODIFIED:20180131T102635Z
UID:2917-1518116400-1518116400@www.boden.pingst.se
SUMMARY:LP-möte
DESCRIPTION:med Christer Öberg\, LP-vännerna sjunger
URL:https://www.boden.pingst.se/handelse/lp-mote-175/
END:VEVENT
BEGIN:VEVENT
DTSTART;TZID=Europe/Stockholm:20180207T130000
DTEND;TZID=Europe/Stockholm:20180207T130000
DTSTAMP:20260425T162204
CREATED:20171219T081029Z
LAST-MODIFIED:20171219T081029Z
UID:2852-1518008400-1518008400@www.boden.pingst.se
SUMMARY:Dagträff i S. Bredåker
DESCRIPTION:med Lars Hörnberg
URL:https://www.boden.pingst.se/handelse/dagtraff-i-s-bredaker/
END:VEVENT
BEGIN:VEVENT
DTSTART;TZID=Europe/Stockholm:20180205T163000
DTEND;TZID=Europe/Stockholm:20180205T163000
DTSTAMP:20260425T162204
CREATED:20171219T085110Z
LAST-MODIFIED:20171219T085125Z
UID:2856-1517848200-1517848200@www.boden.pingst.se
SUMMARY:Arbetskväll Secondhand
DESCRIPTION:
URL:https://www.boden.pingst.se/handelse/arbetskvall-secondhand-2/
END:VEVENT
BEGIN:VEVENT
DTSTART;TZID=Europe/Stockholm:20180204T110000
DTEND;TZID=Europe/Stockholm:20180204T110000
DTSTAMP:20260425T162204
CREATED:20180128T094401Z
LAST-MODIFIED:20180128T094401Z
UID:2909-1517742000-1517742000@www.boden.pingst.se
SUMMARY:Gudstjänst
DESCRIPTION:Chatrine Carlson\, Sjung me\, barnkyrkan\, kyrkkaffe\, efteråt förhandlingar.
URL:https://www.boden.pingst.se/handelse/gudstjanst-227/
END:VEVENT
BEGIN:VEVENT
DTSTART;TZID=Europe/Stockholm:20180204T090000
DTEND;TZID=Europe/Stockholm:20180204T090000
DTSTAMP:20260425T162204
CREATED:20180116T102729Z
LAST-MODIFIED:20180116T102729Z
UID:2887-1517734800-1517734800@www.boden.pingst.se
SUMMARY:Ledarfrukost med Chatrine Carlson
DESCRIPTION:9.00-10.45 för alla ledare i vår kyrka\, anmälan krävs.
URL:https://www.boden.pingst.se/handelse/ledarfrukost-med-chatrine-carlson/
END:VEVENT
BEGIN:VEVENT
DTSTART;TZID=Europe/Stockholm:20180203T130000
DTEND;TZID=Europe/Stockholm:20180203T130000
DTSTAMP:20260425T162204
CREATED:20180116T102517Z
LAST-MODIFIED:20180116T102517Z
UID:2886-1517662800-1517662800@www.boden.pingst.se
SUMMARY:Själavårdskurs med Chatrine Carlson
DESCRIPTION:13.00-16.30 för ledare och förebedjare\, anmälan krävs.
URL:https://www.boden.pingst.se/handelse/sjalavardskurs-med-chatrine-carlson/
END:VEVENT
BEGIN:VEVENT
DTSTART;TZID=Europe/Stockholm:20180201T190000
DTEND;TZID=Europe/Stockholm:20180201T190000
DTSTAMP:20260425T162204
CREATED:20171219T100822Z
LAST-MODIFIED:20171219T100822Z
UID:2871-1517511600-1517511600@www.boden.pingst.se
SUMMARY:LP-möte
DESCRIPTION:Frida Nyberg\, LP-vännerna sjunger
URL:https://www.boden.pingst.se/handelse/lp-mote-174/
END:VEVENT
BEGIN:VEVENT
DTSTART;TZID=Europe/Stockholm:20180130T190000
DTEND;TZID=Europe/Stockholm:20180130T190000
DTSTAMP:20260425T162204
CREATED:20180123T101301Z
LAST-MODIFIED:20180123T101301Z
UID:2896-1517338800-1517338800@www.boden.pingst.se
SUMMARY:Bibelupptäckargrupp
DESCRIPTION:
URL:https://www.boden.pingst.se/handelse/bibelupptackargrupp/
END:VEVENT
BEGIN:VEVENT
DTSTART;TZID=Europe/Stockholm:20180129T190000
DTEND;TZID=Europe/Stockholm:20180129T190000
DTSTAMP:20260425T162204
CREATED:20180128T094444Z
LAST-MODIFIED:20180128T094444Z
UID:2910-1517252400-1517252400@www.boden.pingst.se
SUMMARY:Sjung me övar
DESCRIPTION:
URL:https://www.boden.pingst.se/handelse/sjung-me-ovar-14/
END:VEVENT
BEGIN:VEVENT
DTSTART;TZID=Europe/Stockholm:20180128T170000
DTEND;TZID=Europe/Stockholm:20180128T170000
DTSTAMP:20260425T162204
CREATED:20171219T081548Z
LAST-MODIFIED:20171219T081628Z
UID:2854-1517158800-1517158800@www.boden.pingst.se
SUMMARY:Missionskväll
DESCRIPTION:Bilder och berättelser från Tanzaniaresan
URL:https://www.boden.pingst.se/handelse/missionskvall-10/
END:VEVENT
BEGIN:VEVENT
DTSTART;TZID=Europe/Stockholm:20180128T110000
DTEND;TZID=Europe/Stockholm:20180128T110000
DTSTAMP:20260425T162204
CREATED:20171219T100639Z
LAST-MODIFIED:20171219T100639Z
UID:2870-1517137200-1517137200@www.boden.pingst.se
SUMMARY:Gudstjänst
DESCRIPTION:’Att hitta HEM i Guds löften’ Frida Nyberg
URL:https://www.boden.pingst.se/handelse/gudstjanst-226/
END:VEVENT
BEGIN:VEVENT
DTSTART;TZID=Europe/Stockholm:20180125T190000
DTEND;TZID=Europe/Stockholm:20180125T190000
DTSTAMP:20260425T162204
CREATED:20171219T080527Z
LAST-MODIFIED:20171219T080527Z
UID:2850-1516906800-1516906800@www.boden.pingst.se
SUMMARY:LP-möte
DESCRIPTION:Anton Björkman\, LP-vännerna sjunger\, fika efteråt
URL:https://www.boden.pingst.se/handelse/lp-mote-172/
END:VEVENT
BEGIN:VEVENT
DTSTART;TZID=Europe/Stockholm:20180117T183000
DTEND;TZID=Europe/Stockholm:20180117T183000
DTSTAMP:20260425T162204
CREATED:20171219T095810Z
LAST-MODIFIED:20171219T095954Z
UID:2866-1516213800-1516213800@www.boden.pingst.se
SUMMARY:Språkcafé
DESCRIPTION:
URL:https://www.boden.pingst.se/handelse/sprakcafe-6/
END:VEVENT
END:VCALENDAR