BEGIN:VCALENDAR
VERSION:2.0
PRODID:-//Pingstkyrkan i Boden - ECPv6.8.2.1//NONSGML v1.0//EN
CALSCALE:GREGORIAN
METHOD:PUBLISH
X-WR-CALNAME:Pingstkyrkan i Boden
X-ORIGINAL-URL:https://www.boden.pingst.se
X-WR-CALDESC:Events for Pingstkyrkan i Boden
REFRESH-INTERVAL;VALUE=DURATION:PT1H
X-Robots-Tag:noindex
X-PUBLISHED-TTL:PT1H
BEGIN:VTIMEZONE
TZID:Europe/Stockholm
BEGIN:DAYLIGHT
TZOFFSETFROM:+0100
TZOFFSETTO:+0200
TZNAME:CEST
DTSTART:20240331T010000
END:DAYLIGHT
BEGIN:STANDARD
TZOFFSETFROM:+0200
TZOFFSETTO:+0100
TZNAME:CET
DTSTART:20241027T010000
END:STANDARD
END:VTIMEZONE
BEGIN:VEVENT
DTSTART;TZID=Europe/Stockholm:20240906T180000
DTEND;TZID=Europe/Stockholm:20240906T180000
DTSTAMP:20260422T101657
CREATED:20240625T191926Z
LAST-MODIFIED:20240625T191926Z
UID:5195-1725645600-1725645600@www.boden.pingst.se
SUMMARY:Miniton och Glädjeton
DESCRIPTION:
URL:https://www.boden.pingst.se/handelse/miniton-och-gladjeton-10/
END:VEVENT
BEGIN:VEVENT
DTSTART;TZID=Europe/Stockholm:20240906T184500
DTEND;TZID=Europe/Stockholm:20240906T203000
DTSTAMP:20260422T101657
CREATED:20240625T192127Z
LAST-MODIFIED:20240625T192337Z
UID:5196-1725648300-1725654600@www.boden.pingst.se
SUMMARY:Arken
DESCRIPTION:
URL:https://www.boden.pingst.se/handelse/arken-4/
END:VEVENT
END:VCALENDAR