BEGIN:VCALENDAR
VERSION:2.0
PRODID:-//Pingstkyrkan i Boden - ECPv6.8.2.1//NONSGML v1.0//EN
CALSCALE:GREGORIAN
METHOD:PUBLISH
X-WR-CALNAME:Pingstkyrkan i Boden
X-ORIGINAL-URL:https://www.boden.pingst.se
X-WR-CALDESC:Events for Pingstkyrkan i Boden
REFRESH-INTERVAL;VALUE=DURATION:PT1H
X-Robots-Tag:noindex
X-PUBLISHED-TTL:PT1H
BEGIN:VTIMEZONE
TZID:Europe/Stockholm
BEGIN:DAYLIGHT
TZOFFSETFROM:+0100
TZOFFSETTO:+0200
TZNAME:CEST
DTSTART:20240331T010000
END:DAYLIGHT
BEGIN:STANDARD
TZOFFSETFROM:+0200
TZOFFSETTO:+0100
TZNAME:CET
DTSTART:20241027T010000
END:STANDARD
END:VTIMEZONE
BEGIN:VEVENT
DTSTART;TZID=Europe/Stockholm:20240123T180000
DTEND;TZID=Europe/Stockholm:20240123T180000
DTSTAMP:20260424T114359
CREATED:20231227T114846Z
LAST-MODIFIED:20240117T083020Z
UID:5029-1706032800-1706032800@www.boden.pingst.se
SUMMARY:Alpha uppstart
DESCRIPTION:på Ankargården.
URL:https://www.boden.pingst.se/handelse/alpha-uppstart/
END:VEVENT
BEGIN:VEVENT
DTSTART;TZID=Europe/Stockholm:20240123T183000
DTEND;TZID=Europe/Stockholm:20240123T183000
DTSTAMP:20260424T114359
CREATED:20240117T083151Z
LAST-MODIFIED:20240117T083216Z
UID:5044-1706034600-1706034600@www.boden.pingst.se
SUMMARY:Connect- och bönegrupper
DESCRIPTION:
URL:https://www.boden.pingst.se/handelse/connect-och-bonegrupper-4/
END:VEVENT
END:VCALENDAR