BEGIN:VCALENDAR
VERSION:2.0
PRODID:-//Pingstkyrkan i Boden - ECPv6.8.2.1//NONSGML v1.0//EN
CALSCALE:GREGORIAN
METHOD:PUBLISH
X-ORIGINAL-URL:https://www.boden.pingst.se
X-WR-CALDESC:Events for Pingstkyrkan i Boden
REFRESH-INTERVAL;VALUE=DURATION:PT1H
X-Robots-Tag:noindex
X-PUBLISHED-TTL:PT1H
BEGIN:VTIMEZONE
TZID:Europe/Stockholm
BEGIN:DAYLIGHT
TZOFFSETFROM:+0100
TZOFFSETTO:+0200
TZNAME:CEST
DTSTART:20240331T010000
END:DAYLIGHT
BEGIN:STANDARD
TZOFFSETFROM:+0200
TZOFFSETTO:+0100
TZNAME:CET
DTSTART:20241027T010000
END:STANDARD
END:VTIMEZONE
BEGIN:VEVENT
DTSTART;TZID=Europe/Stockholm:20240115T120000
DTEND;TZID=Europe/Stockholm:20240115T120000
DTSTAMP:20260424T114425
CREATED:20231227T113819Z
LAST-MODIFIED:20231227T113819Z
UID:5020-1705320000-1705320000@www.boden.pingst.se
SUMMARY:Lunchbön
DESCRIPTION:
URL:https://www.boden.pingst.se/handelse/lunchbon-5/
END:VEVENT
BEGIN:VEVENT
DTSTART;TZID=Europe/Stockholm:20240115T130000
DTEND;TZID=Europe/Stockholm:20240115T130000
DTSTAMP:20260424T114425
CREATED:20231227T113858Z
LAST-MODIFIED:20231227T113858Z
UID:5021-1705323600-1705323600@www.boden.pingst.se
SUMMARY:Stickgruppen startar
DESCRIPTION:
URL:https://www.boden.pingst.se/handelse/stickgruppen-startar-8/
END:VEVENT
BEGIN:VEVENT
DTSTART;TZID=Europe/Stockholm:20240115T183000
DTEND;TZID=Europe/Stockholm:20240115T183000
DTSTAMP:20260424T114425
CREATED:20231227T113943Z
LAST-MODIFIED:20231227T113943Z
UID:5022-1705343400-1705343400@www.boden.pingst.se
SUMMARY:Kvällsbön
DESCRIPTION:
URL:https://www.boden.pingst.se/handelse/kvallsbon/
END:VEVENT
END:VCALENDAR