BEGIN:VCALENDAR
VERSION:2.0
PRODID:-//Pingstkyrkan i Boden - ECPv6.8.2.1//NONSGML v1.0//EN
CALSCALE:GREGORIAN
METHOD:PUBLISH
X-ORIGINAL-URL:https://www.boden.pingst.se
X-WR-CALDESC:Events for Pingstkyrkan i Boden
REFRESH-INTERVAL;VALUE=DURATION:PT1H
X-Robots-Tag:noindex
X-PUBLISHED-TTL:PT1H
BEGIN:VTIMEZONE
TZID:Europe/Stockholm
BEGIN:DAYLIGHT
TZOFFSETFROM:+0100
TZOFFSETTO:+0200
TZNAME:CEST
DTSTART:20230326T010000
END:DAYLIGHT
BEGIN:STANDARD
TZOFFSETFROM:+0200
TZOFFSETTO:+0100
TZNAME:CET
DTSTART:20231029T010000
END:STANDARD
END:VTIMEZONE
BEGIN:VEVENT
DTSTART;TZID=Europe/Stockholm:20230101T110000
DTEND;TZID=Europe/Stockholm:20230101T110000
DTSTAMP:20260423T064307
CREATED:20221119T203826Z
LAST-MODIFIED:20221119T203826Z
UID:4684-1672570800-1672570800@www.boden.pingst.se
SUMMARY:Filmvisning av Frikyrkans historia
DESCRIPTION:
URL:https://www.boden.pingst.se/handelse/filmvisning-av-frikyrkans-historia/
END:VEVENT
END:VCALENDAR