BEGIN:VCALENDAR
VERSION:2.0
PRODID:-//Pingstkyrkan i Boden - ECPv6.8.2.1//NONSGML v1.0//EN
CALSCALE:GREGORIAN
METHOD:PUBLISH
X-WR-CALNAME:Pingstkyrkan i Boden
X-ORIGINAL-URL:https://www.boden.pingst.se
X-WR-CALDESC:Events for Pingstkyrkan i Boden
REFRESH-INTERVAL;VALUE=DURATION:PT1H
X-Robots-Tag:noindex
X-PUBLISHED-TTL:PT1H
BEGIN:VTIMEZONE
TZID:Europe/Stockholm
BEGIN:DAYLIGHT
TZOFFSETFROM:+0100
TZOFFSETTO:+0200
TZNAME:CEST
DTSTART:20220327T010000
END:DAYLIGHT
BEGIN:STANDARD
TZOFFSETFROM:+0200
TZOFFSETTO:+0100
TZNAME:CET
DTSTART:20221030T010000
END:STANDARD
END:VTIMEZONE
BEGIN:VEVENT
DTSTART;TZID=Europe/Stockholm:20221209T210000
DTEND;TZID=Europe/Stockholm:20221209T210000
DTSTAMP:20260423T085348
CREATED:20220927T074255Z
LAST-MODIFIED:20220927T074255Z
UID:4640-1670619600-1670619600@www.boden.pingst.se
SUMMARY:Tjugoett
DESCRIPTION:i Pingstkyrkan. En kvällsgudstjänst med lovsång\, predikan och förbön där alla är välkomna.
URL:https://www.boden.pingst.se/handelse/tjugoett-25/
END:VEVENT
END:VCALENDAR