BEGIN:VCALENDAR
VERSION:2.0
PRODID:-//Pingstkyrkan i Boden - ECPv6.8.2.1//NONSGML v1.0//EN
CALSCALE:GREGORIAN
METHOD:PUBLISH
X-WR-CALNAME:Pingstkyrkan i Boden
X-ORIGINAL-URL:https://www.boden.pingst.se
X-WR-CALDESC:Events for Pingstkyrkan i Boden
REFRESH-INTERVAL;VALUE=DURATION:PT1H
X-Robots-Tag:noindex
X-PUBLISHED-TTL:PT1H
BEGIN:VTIMEZONE
TZID:Europe/Stockholm
BEGIN:DAYLIGHT
TZOFFSETFROM:+0100
TZOFFSETTO:+0200
TZNAME:CEST
DTSTART:20220327T010000
END:DAYLIGHT
BEGIN:STANDARD
TZOFFSETFROM:+0200
TZOFFSETTO:+0100
TZNAME:CET
DTSTART:20221030T010000
END:STANDARD
END:VTIMEZONE
BEGIN:VEVENT
DTSTART;TZID=Europe/Stockholm:20221120T170000
DTEND;TZID=Europe/Stockholm:20221120T170000
DTSTAMP:20260423T093834
CREATED:20221018T093058Z
LAST-MODIFIED:20221120T123926Z
UID:4654-1668963600-1668963600@www.boden.pingst.se
SUMMARY:Kvällsgudstjänst kl 17:00
DESCRIPTION:Gudstjänst kl 17:00 med Daniel Alm\, kyrkfika efter mötet\, barnkyrka\,insamling till församlingen.
URL:https://www.boden.pingst.se/handelse/gudstjanst-419/
LOCATION:Pingstkyrkan\, Prinsgatan 7\, Boden\, 96131\, Sverige
CATEGORIES:Gudstjänst
END:VEVENT
END:VCALENDAR