BEGIN:VCALENDAR
VERSION:2.0
PRODID:-//Pingstkyrkan i Boden - ECPv6.8.2.1//NONSGML v1.0//EN
CALSCALE:GREGORIAN
METHOD:PUBLISH
X-ORIGINAL-URL:https://www.boden.pingst.se
X-WR-CALDESC:Events for Pingstkyrkan i Boden
REFRESH-INTERVAL;VALUE=DURATION:PT1H
X-Robots-Tag:noindex
X-PUBLISHED-TTL:PT1H
BEGIN:VTIMEZONE
TZID:Europe/Stockholm
BEGIN:DAYLIGHT
TZOFFSETFROM:+0100
TZOFFSETTO:+0200
TZNAME:CEST
DTSTART:20220327T010000
END:DAYLIGHT
BEGIN:STANDARD
TZOFFSETFROM:+0200
TZOFFSETTO:+0100
TZNAME:CET
DTSTART:20221030T010000
END:STANDARD
END:VTIMEZONE
BEGIN:VEVENT
DTSTART;TZID=Europe/Stockholm:20221003T130000
DTEND;TZID=Europe/Stockholm:20221003T130000
DTSTAMP:20260423T114854
CREATED:20220908T192334Z
LAST-MODIFIED:20220908T192334Z
UID:4628-1664802000-1664802000@www.boden.pingst.se
SUMMARY:Stickgruppen startar
DESCRIPTION:på kyrkan.
URL:https://www.boden.pingst.se/handelse/stickgruppen-startar-7/
END:VEVENT
END:VCALENDAR