BEGIN:VCALENDAR
VERSION:2.0
PRODID:-//Pingstkyrkan i Boden - ECPv6.8.2.1//NONSGML v1.0//EN
CALSCALE:GREGORIAN
METHOD:PUBLISH
X-WR-CALNAME:Pingstkyrkan i Boden
X-ORIGINAL-URL:https://www.boden.pingst.se
X-WR-CALDESC:Events for Pingstkyrkan i Boden
REFRESH-INTERVAL;VALUE=DURATION:PT1H
X-Robots-Tag:noindex
X-PUBLISHED-TTL:PT1H
BEGIN:VTIMEZONE
TZID:Europe/Stockholm
BEGIN:DAYLIGHT
TZOFFSETFROM:+0100
TZOFFSETTO:+0200
TZNAME:CEST
DTSTART:20220327T010000
END:DAYLIGHT
BEGIN:STANDARD
TZOFFSETFROM:+0200
TZOFFSETTO:+0100
TZNAME:CET
DTSTART:20221030T010000
END:STANDARD
END:VTIMEZONE
BEGIN:VEVENT
DTSTART;TZID=Europe/Stockholm:20220906T183000
DTEND;TZID=Europe/Stockholm:20220906T183000
DTSTAMP:20260423T133027
CREATED:20220831T111031Z
LAST-MODIFIED:20220831T111031Z
UID:4608-1662489000-1662489000@www.boden.pingst.se
SUMMARY:Gemensam upptakt för alla connectgrupper/bönegrupper
DESCRIPTION:på kyrkan.
URL:https://www.boden.pingst.se/handelse/gemensam-upptakt-for-alla-connectgrupperbonegrupper/
END:VEVENT
END:VCALENDAR