BEGIN:VCALENDAR
VERSION:2.0
PRODID:-//Pingstkyrkan i Boden - ECPv6.8.2.1//NONSGML v1.0//EN
CALSCALE:GREGORIAN
METHOD:PUBLISH
X-ORIGINAL-URL:https://www.boden.pingst.se
X-WR-CALDESC:Events for Pingstkyrkan i Boden
REFRESH-INTERVAL;VALUE=DURATION:PT1H
X-Robots-Tag:noindex
X-PUBLISHED-TTL:PT1H
BEGIN:VTIMEZONE
TZID:Europe/Stockholm
BEGIN:DAYLIGHT
TZOFFSETFROM:+0100
TZOFFSETTO:+0200
TZNAME:CEST
DTSTART:20220327T010000
END:DAYLIGHT
BEGIN:STANDARD
TZOFFSETFROM:+0200
TZOFFSETTO:+0100
TZNAME:CET
DTSTART:20221030T010000
END:STANDARD
END:VTIMEZONE
BEGIN:VEVENT
DTSTART;VALUE=DATE:20220703
DTEND;VALUE=DATE:20220711
DTSTAMP:20260423T165101
CREATED:20220525T110840Z
LAST-MODIFIED:20220525T110840Z
UID:4585-1656806400-1657497599@www.boden.pingst.se
SUMMARY:Lapplandsveckan i Husbondliden
DESCRIPTION:Läs mer på www.lappis.se
URL:https://www.boden.pingst.se/handelse/lapplandsveckan-i-husbondliden-2/
END:VEVENT
BEGIN:VEVENT
DTSTART;TZID=Europe/Stockholm:20220708T100000
DTEND;TZID=Europe/Stockholm:20220708T100000
DTSTAMP:20260423T165101
CREATED:20220629T075924Z
LAST-MODIFIED:20220629T075924Z
UID:4597-1657274400-1657274400@www.boden.pingst.se
SUMMARY:Begravningsgudstjänst
DESCRIPTION:för Carina Christensson i Pingstkyrkan. Efter akten inbjudes till minnesstund. O.s.a senast 4/7 till bodensbegravningsbyra.se eller 0921–121 60. 
URL:https://www.boden.pingst.se/handelse/begravningsgudstjanst/
END:VEVENT
END:VCALENDAR