BEGIN:VCALENDAR
VERSION:2.0
PRODID:-//Pingstkyrkan i Boden - ECPv6.8.2.1//NONSGML v1.0//EN
CALSCALE:GREGORIAN
METHOD:PUBLISH
X-ORIGINAL-URL:https://www.boden.pingst.se
X-WR-CALDESC:Events for Pingstkyrkan i Boden
REFRESH-INTERVAL;VALUE=DURATION:PT1H
X-Robots-Tag:noindex
X-PUBLISHED-TTL:PT1H
BEGIN:VTIMEZONE
TZID:Europe/Stockholm
BEGIN:DAYLIGHT
TZOFFSETFROM:+0100
TZOFFSETTO:+0200
TZNAME:CEST
DTSTART:20220327T010000
END:DAYLIGHT
BEGIN:STANDARD
TZOFFSETFROM:+0200
TZOFFSETTO:+0100
TZNAME:CET
DTSTART:20221030T010000
END:STANDARD
END:VTIMEZONE
BEGIN:VEVENT
DTSTART;TZID=Europe/Stockholm:20220605T110000
DTEND;TZID=Europe/Stockholm:20220605T110000
DTSTAMP:20260423T195039
CREATED:20220525T110048Z
LAST-MODIFIED:20220525T110048Z
UID:4577-1654426800-1654426800@www.boden.pingst.se
SUMMARY:Gudstjänst
DESCRIPTION:med Marcus Sandström\, insamling till församlingen\, avslutning för Barnkyrkan\, kyrkfika efteråt. Sänds även via närradion.
URL:https://www.boden.pingst.se/handelse/gudstjanst-404/
END:VEVENT
BEGIN:VEVENT
DTSTART;TZID=Europe/Stockholm:20220605T173000
DTEND;TZID=Europe/Stockholm:20220605T173000
DTSTAMP:20260423T195039
CREATED:20220525T110143Z
LAST-MODIFIED:20220525T110143Z
UID:4578-1654450200-1654450200@www.boden.pingst.se
SUMMARY:Församlingskväll – Hjärta för församlingen
DESCRIPTION:Mer information skickas ut i medlemsmejl. 
URL:https://www.boden.pingst.se/handelse/forsamlingskvall-hjarta-for-forsamlingen/
END:VEVENT
END:VCALENDAR