BEGIN:VCALENDAR
VERSION:2.0
PRODID:-//Pingstkyrkan i Boden - ECPv6.8.2.1//NONSGML v1.0//EN
CALSCALE:GREGORIAN
METHOD:PUBLISH
X-ORIGINAL-URL:https://www.boden.pingst.se
X-WR-CALDESC:Events for Pingstkyrkan i Boden
REFRESH-INTERVAL;VALUE=DURATION:PT1H
X-Robots-Tag:noindex
X-PUBLISHED-TTL:PT1H
BEGIN:VTIMEZONE
TZID:Europe/Stockholm
BEGIN:DAYLIGHT
TZOFFSETFROM:+0100
TZOFFSETTO:+0200
TZNAME:CEST
DTSTART:20220327T010000
END:DAYLIGHT
BEGIN:STANDARD
TZOFFSETFROM:+0200
TZOFFSETTO:+0100
TZNAME:CET
DTSTART:20221030T010000
END:STANDARD
END:VTIMEZONE
BEGIN:VEVENT
DTSTART;TZID=Europe/Stockholm:20220501T110000
DTEND;TZID=Europe/Stockholm:20220501T110000
DTSTAMP:20260423T211850
CREATED:20220331T131315Z
LAST-MODIFIED:20220331T131315Z
UID:4534-1651402800-1651402800@www.boden.pingst.se
SUMMARY:Gudstjänst
DESCRIPTION:med predikan\, bön och lovsång\, Barnkyrkan och kyrkfika efteråt.
URL:https://www.boden.pingst.se/handelse/gudstjanst-400/
END:VEVENT
BEGIN:VEVENT
DTSTART;TZID=Europe/Stockholm:20220501T173000
DTEND;TZID=Europe/Stockholm:20220501T173000
DTSTAMP:20260423T211850
CREATED:20220331T132023Z
LAST-MODIFIED:20220331T132023Z
UID:4539-1651426200-1651426200@www.boden.pingst.se
SUMMARY:Församlingsmöte
DESCRIPTION:Mer information skickas ut i medlemsbrev.
URL:https://www.boden.pingst.se/handelse/forsamlingsmote-12/
END:VEVENT
END:VCALENDAR