BEGIN:VCALENDAR
VERSION:2.0
PRODID:-//Pingstkyrkan i Boden - ECPv6.8.2.1//NONSGML v1.0//EN
CALSCALE:GREGORIAN
METHOD:PUBLISH
X-WR-CALNAME:Pingstkyrkan i Boden
X-ORIGINAL-URL:https://www.boden.pingst.se
X-WR-CALDESC:Events for Pingstkyrkan i Boden
REFRESH-INTERVAL;VALUE=DURATION:PT1H
X-Robots-Tag:noindex
X-PUBLISHED-TTL:PT1H
BEGIN:VTIMEZONE
TZID:Europe/Stockholm
BEGIN:DAYLIGHT
TZOFFSETFROM:+0100
TZOFFSETTO:+0200
TZNAME:CEST
DTSTART:20220327T010000
END:DAYLIGHT
BEGIN:STANDARD
TZOFFSETFROM:+0200
TZOFFSETTO:+0100
TZNAME:CET
DTSTART:20221030T010000
END:STANDARD
END:VTIMEZONE
BEGIN:VEVENT
DTSTART;TZID=Europe/Stockholm:20220206T110000
DTEND;TZID=Europe/Stockholm:20220206T110000
DTSTAMP:20260424T071635
CREATED:20220125T125449Z
LAST-MODIFIED:20220202T134359Z
UID:4465-1644145200-1644145200@www.boden.pingst.se
SUMMARY:Gudstjänst
DESCRIPTION:Besök av IBRA\, vi lovsjunger och ber tillsammans. Böneämnen skickas till 070-233 21 25. Välkommen att vara med i kyrkan eller via sändningen på Facebook och närradion! Femtio deltagare i kyrksalen\, ingen anmälan krävs.
URL:https://www.boden.pingst.se/handelse/gudstjanst-390/
END:VEVENT
END:VCALENDAR