BEGIN:VCALENDAR
VERSION:2.0
PRODID:-//Pingstkyrkan i Boden - ECPv6.8.2.1//NONSGML v1.0//EN
CALSCALE:GREGORIAN
METHOD:PUBLISH
X-WR-CALNAME:Pingstkyrkan i Boden
X-ORIGINAL-URL:https://www.boden.pingst.se
X-WR-CALDESC:Events for Pingstkyrkan i Boden
REFRESH-INTERVAL;VALUE=DURATION:PT1H
X-Robots-Tag:noindex
X-PUBLISHED-TTL:PT1H
BEGIN:VTIMEZONE
TZID:Europe/Stockholm
BEGIN:DAYLIGHT
TZOFFSETFROM:+0100
TZOFFSETTO:+0200
TZNAME:CEST
DTSTART:20220327T010000
END:DAYLIGHT
BEGIN:STANDARD
TZOFFSETFROM:+0200
TZOFFSETTO:+0100
TZNAME:CET
DTSTART:20221030T010000
END:STANDARD
END:VTIMEZONE
BEGIN:VEVENT
DTSTART;TZID=Europe/Stockholm:20220109T110000
DTEND;TZID=Europe/Stockholm:20220109T110000
DTSTAMP:20260424T001618
CREATED:20211228T094041Z
LAST-MODIFIED:20211228T094041Z
UID:4428-1641726000-1641726000@www.boden.pingst.se
SUMMARY:Gudstjänst
DESCRIPTION:Marcus Sandström predikar\, vi lovsjunger och ber tillsammans. Böneämnen skickas till 070-233 21 25. Välkommen att vara med i kyrkan eller via sändningen på Facebook och närradion!
URL:https://www.boden.pingst.se/handelse/gudstjanst-386/
END:VEVENT
BEGIN:VEVENT
DTSTART;TZID=Europe/Stockholm:20220109T173000
DTEND;TZID=Europe/Stockholm:20220109T173000
DTSTAMP:20260424T001618
CREATED:20220104T132826Z
LAST-MODIFIED:20220104T132826Z
UID:4442-1641749400-1641749400@www.boden.pingst.se
SUMMARY:Församlingsmöte
DESCRIPTION:sänds även via Teams. Länk och dagordning skickas ut i medlemsbrev.
URL:https://www.boden.pingst.se/handelse/forsamlingsmote-11/
END:VEVENT
END:VCALENDAR