BEGIN:VCALENDAR
VERSION:2.0
PRODID:-//Pingstkyrkan i Boden - ECPv6.8.2.1//NONSGML v1.0//EN
CALSCALE:GREGORIAN
METHOD:PUBLISH
X-WR-CALNAME:Pingstkyrkan i Boden
X-ORIGINAL-URL:https://www.boden.pingst.se
X-WR-CALDESC:Events for Pingstkyrkan i Boden
REFRESH-INTERVAL;VALUE=DURATION:PT1H
X-Robots-Tag:noindex
X-PUBLISHED-TTL:PT1H
BEGIN:VTIMEZONE
TZID:Europe/Stockholm
BEGIN:DAYLIGHT
TZOFFSETFROM:+0100
TZOFFSETTO:+0200
TZNAME:CEST
DTSTART:20210328T010000
END:DAYLIGHT
BEGIN:STANDARD
TZOFFSETFROM:+0200
TZOFFSETTO:+0100
TZNAME:CET
DTSTART:20211031T010000
END:STANDARD
END:VTIMEZONE
BEGIN:VEVENT
DTSTART;TZID=Europe/Stockholm:20211205T110000
DTEND;TZID=Europe/Stockholm:20211205T110000
DTSTAMP:20260424T083243
CREATED:20211126T083545Z
LAST-MODIFIED:20211202T142902Z
UID:4403-1638702000-1638702000@www.boden.pingst.se
SUMMARY:Tillsammansgudstjänst
DESCRIPTION:för alla åldrar! Barnkörerna Miniton och Glädjeton sjunger\, Bibelutdelning till barn i åk 2&3\, Ljus i mörker. Gudstjänsten sänd inte via Facebook.
URL:https://www.boden.pingst.se/handelse/tillsammansgudstjanst-3/
END:VEVENT
BEGIN:VEVENT
DTSTART;TZID=Europe/Stockholm:20211205T173000
DTEND;TZID=Europe/Stockholm:20211205T173000
DTSTAMP:20260424T083243
CREATED:20210825T114458Z
LAST-MODIFIED:20211203T092522Z
UID:4313-1638725400-1638725400@www.boden.pingst.se
SUMMARY:Hjärta för församlingen
DESCRIPTION:Välkommen till församlingskväll i kyrkan! Vi bjuder på kaffe och te\, och samtalar om ”att se guldet i varandra”.
URL:https://www.boden.pingst.se/handelse/forsamlingskvall-9/
END:VEVENT
END:VCALENDAR