BEGIN:VCALENDAR
VERSION:2.0
PRODID:-//Pingstkyrkan i Boden - ECPv6.8.2.1//NONSGML v1.0//EN
CALSCALE:GREGORIAN
METHOD:PUBLISH
X-ORIGINAL-URL:https://www.boden.pingst.se
X-WR-CALDESC:Events for Pingstkyrkan i Boden
REFRESH-INTERVAL;VALUE=DURATION:PT1H
X-Robots-Tag:noindex
X-PUBLISHED-TTL:PT1H
BEGIN:VTIMEZONE
TZID:Europe/Stockholm
BEGIN:DAYLIGHT
TZOFFSETFROM:+0100
TZOFFSETTO:+0200
TZNAME:CEST
DTSTART:20210328T010000
END:DAYLIGHT
BEGIN:STANDARD
TZOFFSETFROM:+0200
TZOFFSETTO:+0100
TZNAME:CET
DTSTART:20211031T010000
END:STANDARD
END:VTIMEZONE
BEGIN:VEVENT
DTSTART;TZID=Europe/Stockholm:20210712T153000
DTEND;TZID=Europe/Stockholm:20210712T190000
DTSTAMP:20260424T172558
CREATED:20210708T204727Z
LAST-MODIFIED:20210708T204727Z
UID:4303-1626103800-1626116400@www.boden.pingst.se
SUMMARY:Arbetskväll på Ankargården
DESCRIPTION:Vi bjuder på hamburgare och ser till att tömma förråden på grejer. En del kör vi till Brännkläppen och resten till Secondhand. Men dina händer\, fötter och kanske släpvagn behövs för att hjälpa till att sortera och köra bort. Ring gärna o berätta att du kommer (Joanna 070-362 17 79) men ingen anmälan krävs!
URL:https://www.boden.pingst.se/handelse/arbetskvall-pa-ankargarden/
END:VEVENT
END:VCALENDAR